BEGIN:VCALENDAR
VERSION:2.0
PRODID:-//Morning Star 795 - ECPv6.15.20//NONSGML v1.0//EN
CALSCALE:GREGORIAN
METHOD:PUBLISH
X-ORIGINAL-URL:https://morningstar795.org
X-WR-CALDESC:Events for Morning Star 795
REFRESH-INTERVAL;VALUE=DURATION:PT1H
X-Robots-Tag:noindex
X-PUBLISHED-TTL:PT1H
BEGIN:VTIMEZONE
TZID:America/New_York
BEGIN:DAYLIGHT
TZOFFSETFROM:-0500
TZOFFSETTO:-0400
TZNAME:EDT
DTSTART:20230312T070000
END:DAYLIGHT
BEGIN:STANDARD
TZOFFSETFROM:-0400
TZOFFSETTO:-0500
TZNAME:EST
DTSTART:20231105T060000
END:STANDARD
BEGIN:DAYLIGHT
TZOFFSETFROM:-0500
TZOFFSETTO:-0400
TZNAME:EDT
DTSTART:20240310T070000
END:DAYLIGHT
BEGIN:STANDARD
TZOFFSETFROM:-0400
TZOFFSETTO:-0500
TZNAME:EST
DTSTART:20241103T060000
END:STANDARD
BEGIN:DAYLIGHT
TZOFFSETFROM:-0500
TZOFFSETTO:-0400
TZNAME:EDT
DTSTART:20250309T070000
END:DAYLIGHT
BEGIN:STANDARD
TZOFFSETFROM:-0400
TZOFFSETTO:-0500
TZNAME:EST
DTSTART:20251102T060000
END:STANDARD
END:VTIMEZONE
BEGIN:VEVENT
DTSTART;TZID=America/New_York:20240902T080000
DTEND;TZID=America/New_York:20240902T170000
DTSTAMP:20260424T233304
CREATED:20240728T004922Z
LAST-MODIFIED:20240728T004925Z
UID:1287-1725264000-1725296400@morningstar795.org
SUMMARY:Labor Day September 2nd 2024
DESCRIPTION:The September meeting will be the 3rd Monday\, September 16\, at 10 AM. This is because the 1st Monday is Labor day and by our bylaws when a meeting date falls on a national holiday\, the stated meeting goes to the 3rd Monday.
URL:https://morningstar795.org/event/labor-day-september-2nd-2024/
CATEGORIES:Stated Meetings
END:VEVENT
BEGIN:VEVENT
DTSTART;TZID=America/New_York:20240916T100000
DTEND;TZID=America/New_York:20240916T120000
DTSTAMP:20260424T233304
CREATED:20240625T231712Z
LAST-MODIFIED:20240728T004645Z
UID:1280-1726480800-1726488000@morningstar795.org
SUMMARY:Stated Meeting September 16th 2024
DESCRIPTION:The September meeting will be Past Masters. All MS795 members who are past masters of any lodge recognized by the Grand Lodge of Ohio are to bring the hat they wore as master. If you do not have one\, remember we will not know if the one you bring is the one you wore. Bring a hat anyway to celebrate your year(s) as a master. On a first come-first serve basis\, you may choose an officer’s chair to sit in for that meeting. It will be in lowest degree of member who attends.
URL:https://morningstar795.org/event/stated-meeting-september-16th-2024/
CATEGORIES:Stated Meetings
END:VEVENT
BEGIN:VEVENT
DTSTART;TZID=America/New_York:20240930T090000
DTEND;TZID=America/New_York:20240930T110000
DTSTAMP:20260424T233304
CREATED:20240902T145558Z
LAST-MODIFIED:20240927T131339Z
UID:1296-1727686800-1727694000@morningstar795.org
SUMMARY:Cancelled: 5th Monday Breakfast September 30 2024
DESCRIPTION:This event has been cancelled for September \n\n\n\nMonday\, September 30 is 5th Monday Breakfast. 9AM to 11AM at the Festival Green Clubhouse. Open to all.Monday\, September 30 is 5th Monday Breakfast. 9AM to 11AM at the Festival Green Clubhouse. Open to all.
URL:https://morningstar795.org/event/5th-monday-breakfast-september-30-2024/
CATEGORIES:Craft Club
END:VEVENT
END:VCALENDAR