BEGIN:VCALENDAR
VERSION:2.0
PRODID:-//Morning Star 795 - ECPv6.15.20//NONSGML v1.0//EN
CALSCALE:GREGORIAN
METHOD:PUBLISH
X-ORIGINAL-URL:https://morningstar795.org
X-WR-CALDESC:Events for Morning Star 795
REFRESH-INTERVAL;VALUE=DURATION:PT1H
X-Robots-Tag:noindex
X-PUBLISHED-TTL:PT1H
BEGIN:VTIMEZONE
TZID:America/New_York
BEGIN:DAYLIGHT
TZOFFSETFROM:-0500
TZOFFSETTO:-0400
TZNAME:EDT
DTSTART:20230312T070000
END:DAYLIGHT
BEGIN:STANDARD
TZOFFSETFROM:-0400
TZOFFSETTO:-0500
TZNAME:EST
DTSTART:20231105T060000
END:STANDARD
BEGIN:DAYLIGHT
TZOFFSETFROM:-0500
TZOFFSETTO:-0400
TZNAME:EDT
DTSTART:20240310T070000
END:DAYLIGHT
BEGIN:STANDARD
TZOFFSETFROM:-0400
TZOFFSETTO:-0500
TZNAME:EST
DTSTART:20241103T060000
END:STANDARD
BEGIN:DAYLIGHT
TZOFFSETFROM:-0500
TZOFFSETTO:-0400
TZNAME:EDT
DTSTART:20250309T070000
END:DAYLIGHT
BEGIN:STANDARD
TZOFFSETFROM:-0400
TZOFFSETTO:-0500
TZNAME:EST
DTSTART:20251102T060000
END:STANDARD
END:VTIMEZONE
BEGIN:VEVENT
DTSTART;TZID=America/New_York:20240401T100000
DTEND;TZID=America/New_York:20240401T120000
DTSTAMP:20260425T081611
CREATED:20240308T000940Z
LAST-MODIFIED:20240308T000941Z
UID:1244-1711965600-1711972800@morningstar795.org
SUMMARY:Stated Meeting April 1st 2024
DESCRIPTION:Morning Star Lodge 795. Next Stated Meeting is Monday\, April 1 at 10 AM in Burkhardt Auditorium. We are planning for the Master Mason Degree to raise a new Master Mason. This meeting will be important. We have brethren for most of the speaking parts. We still need a couple of parts and backups. We also need the Craft. When Morning Star first began\, the Craft proudly called themselves the Rolling Craft because although many were in scooters\, wheelchairs\, or used walkers\, they did not let that stop them. We also prided ourselves in that we could fill all the degree parts from within the lodge. Time to bring that back and get all involved again. If you have done a part or would like to learn a part\, please let the Lodge know. In the past\, we have also sung four verses of the Masonic Ode. If you enjoy singing\, join us and sing as the Craft circumambulates the room. Looking forward to seeing you at one of the inspections and at our next stated.
URL:https://morningstar795.org/event/stated-meeting-april-1st-2024/
LOCATION:Burkhart Auditorium\, Rickly Commons\, on the campus of the Ohio Masonic Home\, 2655 W National Rd\, Springfield\, Ohio\, 45504\, United States
CATEGORIES:Stated Meetings
END:VEVENT
BEGIN:VEVENT
DTSTART;TZID=America/New_York:20240415T100000
DTEND;TZID=America/New_York:20240415T120000
DTSTAMP:20260425T081611
CREATED:20240415T013038Z
LAST-MODIFIED:20240415T013039Z
UID:1250-1713175200-1713182400@morningstar795.org
SUMMARY:Special Meeting April 15th 2024
DESCRIPTION:At our last stated meeting\, a special was called for this coming Monday\, April 15\, at 10 AM. That will be in the Master Mason Degree as a full degree practice. It will count as one of the two we must complete. We need every member who can be there to do so.
URL:https://morningstar795.org/event/special-meeting-april-15th-2024/
CATEGORIES:Special Meetings
END:VEVENT
BEGIN:VEVENT
DTSTART;TZID=America/New_York:20240428T120000
DTEND;TZID=America/New_York:20240428T160000
DTSTAMP:20260425T081611
CREATED:20240415T013258Z
LAST-MODIFIED:20240415T013259Z
UID:1252-1714305600-1714320000@morningstar795.org
SUMMARY:Sprinfield Masonic Center Open House April 28th 2024
DESCRIPTION:We have been invited to participate in an open house to be held at the Springfield Masonic Center (Temple) on High Street. This will be Sunday\, April 28\, from noon to 4 PM. This will be a great opportunity for us since an open house for the public at Springfield Masonic Community requires coordinating with one the Community has planned. When one for the SMC is planned in the future\, we will ask to be part of that. l have yet to have been told the dress for this. As of now\, consider it business.
URL:https://morningstar795.org/event/sprinfield-masonic-center-open-house-april-28th-2024/
CATEGORIES:Craft Club
END:VEVENT
BEGIN:VEVENT
DTSTART;TZID=America/New_York:20240429T090000
DTEND;TZID=America/New_York:20240429T110000
DTSTAMP:20260425T081611
CREATED:20240204T173857Z
LAST-MODIFIED:20240415T013443Z
UID:1234-1714381200-1714388400@morningstar795.org
SUMMARY:Pancake Breakfast April 29th 2024
DESCRIPTION:Our 5th Monday Pancake Breakfast is Monday\, April 29\, from 9 to 11 AM in the Festival Green (shelter house). This is open to all. Please spread the word. The Springfield Masonic Community is our community and so this will be an open house for it. Feel free also to bring those from outside of SMC. Be there around 8 to set up and prepare.
URL:https://morningstar795.org/event/pancake-breakfast-april-29th-2024/
CATEGORIES:Craft Club
END:VEVENT
END:VCALENDAR