BEGIN:VCALENDAR
VERSION:2.0
PRODID:-//Morning Star 795 - ECPv6.15.20//NONSGML v1.0//EN
CALSCALE:GREGORIAN
METHOD:PUBLISH
X-WR-CALNAME:Morning Star 795
X-ORIGINAL-URL:https://morningstar795.org
X-WR-CALDESC:Events for Morning Star 795
REFRESH-INTERVAL;VALUE=DURATION:PT1H
X-Robots-Tag:noindex
X-PUBLISHED-TTL:PT1H
BEGIN:VTIMEZONE
TZID:America/New_York
BEGIN:DAYLIGHT
TZOFFSETFROM:-0500
TZOFFSETTO:-0400
TZNAME:EDT
DTSTART:20210314T070000
END:DAYLIGHT
BEGIN:STANDARD
TZOFFSETFROM:-0400
TZOFFSETTO:-0500
TZNAME:EST
DTSTART:20211107T060000
END:STANDARD
BEGIN:DAYLIGHT
TZOFFSETFROM:-0500
TZOFFSETTO:-0400
TZNAME:EDT
DTSTART:20220313T070000
END:DAYLIGHT
BEGIN:STANDARD
TZOFFSETFROM:-0400
TZOFFSETTO:-0500
TZNAME:EST
DTSTART:20221106T060000
END:STANDARD
BEGIN:DAYLIGHT
TZOFFSETFROM:-0500
TZOFFSETTO:-0400
TZNAME:EDT
DTSTART:20230312T070000
END:DAYLIGHT
BEGIN:STANDARD
TZOFFSETFROM:-0400
TZOFFSETTO:-0500
TZNAME:EST
DTSTART:20231105T060000
END:STANDARD
BEGIN:DAYLIGHT
TZOFFSETFROM:-0500
TZOFFSETTO:-0400
TZNAME:EDT
DTSTART:20240310T070000
END:DAYLIGHT
BEGIN:STANDARD
TZOFFSETFROM:-0400
TZOFFSETTO:-0500
TZNAME:EST
DTSTART:20241103T060000
END:STANDARD
END:VTIMEZONE
BEGIN:VEVENT
DTSTART;TZID=America/New_York:20230627T120000
DTEND;TZID=America/New_York:20230627T130000
DTSTAMP:20260425T121729
CREATED:20230522T052233Z
LAST-MODIFIED:20231117T034826Z
UID:1126-1687867200-1687870800@morningstar795.org
SUMMARY:Springfield Masonic Community High 12 Club
DESCRIPTION:Please join us at the Ohio Masonic Home\, Linder Community Center for our monthly meeting.  Lunch available from the Community Center restaurant.
URL:https://morningstar795.org/event/springfield-masonic-community-high-12-club/
END:VEVENT
BEGIN:VEVENT
DTSTART;TZID=America/New_York:20230610T170000
DTEND;TZID=America/New_York:20230610T200000
DTSTAMP:20260425T121729
CREATED:20230404T050626Z
LAST-MODIFIED:20230523T144757Z
UID:1011-1686416400-1686427200@morningstar795.org
SUMMARY:Grand Master's Reception
DESCRIPTION:Registration:  5:30pmSocial (half) hour:  5:30pm – 6:00pmIntroductions and Dinner:  6:00pmCost:  $35 per person (buffet dinner)Attire:  Business Casual (**updated) \n\n\n\nRSVP by MAY 1st\, 2023to:  9th Masonic District President Jeremy Graham\, REMEJY@PCMASON.ORG \n\n\n\nSee the April 6th e-mail to Brethren for additional details.  (If you are not receiving lodge emails\, please contact the Secretary.)
URL:https://morningstar795.org/event/grand-masters-reception/
LOCATION:Springfield Masonic Temple\, 125 W High St\, Springfield\, Ohio\, 45502\, United States
CATEGORIES:Grand Lodge Event
END:VEVENT
BEGIN:VEVENT
DTSTART;TZID=America/New_York:20230610T143000
DTEND;TZID=America/New_York:20230610T150000
DTSTAMP:20260425T121729
CREATED:20230404T045334Z
LAST-MODIFIED:20230523T144624Z
UID:1001-1686407400-1686409200@morningstar795.org
SUMMARY:Clark Lodge #101 - Reconsecration
DESCRIPTION:2:30PM Washington Room \n\n\n\nWe want to fill the room! Please arrive about 1:30PM for instructions from Grand Lodge
URL:https://morningstar795.org/event/clark-lodge-101-reconsecration/
LOCATION:Springfield Masonic Temple\, 125 W High St\, Springfield\, Ohio\, 45502\, United States
CATEGORIES:Special Meetings
END:VEVENT
BEGIN:VEVENT
DTSTART;TZID=America/New_York:20230605T100000
DTEND;TZID=America/New_York:20230605T120000
DTSTAMP:20260425T121729
CREATED:20230404T044633Z
LAST-MODIFIED:20231117T034826Z
UID:999-1685959200-1685966400@morningstar795.org
SUMMARY:Morning Star #795 - Stated Meeting
DESCRIPTION:Coffee and doughnuts beginning around 9am. Everyone is invited to stay for lunch at the Ohio Masonic Home Community Center after the meeting. \n\n\n\nFor those who have not attended a lodge meeting in Rickly Manor recently and who do not live at the Ohio Masonic Home\, please park behind the building\, as parking in front is extremely limited. There is an intercom buzzer at the back door\, and an elevator to the auditorium on the second floor. If you need a little extra assistance\, please reach out to one of the lodge officers before the meeting so that we can make certain to extend a warm welcome.
URL:https://morningstar795.org/event/morning-star-795-stated-meeting-2/
LOCATION:Burkhart Auditorium\, Rickly Commons\, on the campus of the Ohio Masonic Home\, 2655 W National Rd\, Springfield\, Ohio\, 45504\, United States
CATEGORIES:Stated Meetings
END:VEVENT
BEGIN:VEVENT
DTSTART;TZID=America/New_York:20230515T190000
DTEND;TZID=America/New_York:20230515T210000
DTSTAMP:20260425T121729
CREATED:20230404T044518Z
LAST-MODIFIED:20231117T034826Z
UID:997-1684177200-1684184400@morningstar795.org
SUMMARY:9th Masonic District Meeting
DESCRIPTION:Hosted by St. Andrews Lodge #619
URL:https://morningstar795.org/event/9th-masonic-district-meeting/
CATEGORIES:District Events
END:VEVENT
BEGIN:VEVENT
DTSTART;TZID=America/New_York:20230511T190000
DTEND;TZID=America/New_York:20230511T210000
DTSTAMP:20260425T121729
CREATED:20230115T213303Z
LAST-MODIFIED:20230404T050018Z
UID:953-1683831600-1683838800@morningstar795.org
SUMMARY:Mt Sterling 269 Inspection - FC
DESCRIPTION:Please note the date change! \n\n\n\nMeal 6PM \n\n\n\nOpen 7PM
URL:https://morningstar795.org/event/mt-sterling-269-inspection-fc/
LOCATION:Mount Sterling 269\, 48 N. London Street\, Mount Sterling\, OH\, 43143\, United States
CATEGORIES:Inspections
END:VEVENT
BEGIN:VEVENT
DTSTART;TZID=America/New_York:20230506T100000
DTEND;TZID=America/New_York:20230506T120000
DTSTAMP:20260425T121729
CREATED:20230404T044148Z
LAST-MODIFIED:20231117T034826Z
UID:990-1683367200-1683374400@morningstar795.org
SUMMARY:Morning Star #795 - Special Meeting - Rusty Nail Degree
DESCRIPTION:The Order of the Rusty Nail refreshes the memories of brethren who perhaps have not attended lodge for a while. The degree covers the passwords and signs of the three Blue Lodge degrees. It touches on Lodge customs and reviews the mysteries and legends of Freemasonry as taught in the ritual. This is a tiled lodge meeting\, the only requirement is to present a current dues card. If you’ve been avoiding lodge meetings because your memory of ritual is a bit “rusty”\, please come! While our rituals are an important part of Freemasonry\, so is fellowship. Please come and renew acquaintances. We’d love to see you! \n\n\n\nCoffee and doughnuts beginning around 9am.  Everyone is invited to stay for lunch at the Lindner Community Center after the meeting. \n\n\n\nFor those who have not attended a meeting in Rickly Commons recently and who do not live at the Ohio Masonic Home\, please park behind the building\, as parking in front is extremely limited. There is an intercom buzzer at the back door\, and an elevator to the auditorium on the second floor. If you need a little extra assistance\, please reach out to one of the lodge officers before the meeting so that we can make certain to extend a warm welcome.
URL:https://morningstar795.org/event/morning-star-795-special-meeting-rusty-nail-degree/
CATEGORIES:Special Meetings
END:VEVENT
BEGIN:VEVENT
DTSTART;TZID=America/New_York:20230501T100000
DTEND;TZID=America/New_York:20230501T120000
DTSTAMP:20260425T121729
CREATED:20230404T043502Z
LAST-MODIFIED:20231117T034826Z
UID:991-1682935200-1682942400@morningstar795.org
SUMMARY:Morning Star #795 - Stated Meeting
DESCRIPTION:Coffee and doughnuts beginning around 9am.  Everyone is invited to stay for lunch at the Ohio Masonic Home Community Center after the meeting. \n\n\n\nFor those who have not attended a meeting in Rickly Commons recently and who do not live at the Ohio Masonic Home\, please park behind the building\, as parking in front is extremely limited. There is an intercom buzzer at the back door\, and an elevator to the auditorium on the second floor. If you need a little extra assistance\, please reach out to one of the lodge officers before the meeting so that we can make certain to extend a warm welcome.
URL:https://morningstar795.org/event/morning-star-795-stated-meeting/
LOCATION:Burkhart Auditorium\, Rickly Commons\, on the campus of the Ohio Masonic Home\, 2655 W National Rd\, Springfield\, Ohio\, 45504\, United States
CATEGORIES:Stated Meetings
END:VEVENT
BEGIN:VEVENT
DTSTART;TZID=America/New_York:20230422T000000
DTEND;TZID=America/New_York:20230422T235959
DTSTAMP:20260425T121729
CREATED:20230404T043000Z
LAST-MODIFIED:20231117T034826Z
UID:987-1682121600-1682207999@morningstar795.org
SUMMARY:Lodge Open House (Statewide)
DESCRIPTION:Masonic Lodges around Ohio will hold open houses so that families and the general public may visit and view the lodge.   \n\n\n\nPlease note that Morning Star Lodge #795 will NOT be participating this year.
URL:https://morningstar795.org/event/lodge-open-house-statewide/
LOCATION:Burkhart Auditorium\, Rickly Commons\, on the campus of the Ohio Masonic Home\, 2655 W National Rd\, Springfield\, Ohio\, 45504\, United States
CATEGORIES:Grand Lodge Event
END:VEVENT
BEGIN:VEVENT
DTSTART;TZID=America/New_York:20230403T100000
DTEND;TZID=America/New_York:20230403T120000
DTSTAMP:20260425T121729
CREATED:20230403T000740Z
LAST-MODIFIED:20230403T000741Z
UID:967-1680516000-1680523200@morningstar795.org
SUMMARY:Stated Meeting April 3rd 2023
DESCRIPTION:
URL:https://morningstar795.org/event/stated-meeting-april-3rd-2023/
LOCATION:Ohio Masonic Home\, 2655 W. National Road\, Springfield\, OH\, 45504\, United States
CATEGORIES:Stated Meetings
END:VEVENT
BEGIN:VEVENT
DTSTART;TZID=America/New_York:20230325T100000
DTEND;TZID=America/New_York:20230325T120000
DTSTAMP:20260425T121729
CREATED:20230115T213133Z
LAST-MODIFIED:20230212T171440Z
UID:951-1679738400-1679745600@morningstar795.org
SUMMARY:Morning Star 795 Inspection - EA
DESCRIPTION:Open 10am in Burkhardt Auditorium at the Ohio Masonic Home !!! \n\n\n\nLunch Noon
URL:https://morningstar795.org/event/morning-star-795-inspection-ea/
LOCATION:Ohio Masonic Home\, 2655 W. National Road\, Springfield\, OH\, 45504\, United States
CATEGORIES:Inspections
END:VEVENT
BEGIN:VEVENT
DTSTART;TZID=America/New_York:20230324T190000
DTEND;TZID=America/New_York:20230324T210000
DTSTAMP:20260425T121729
CREATED:20230115T213006Z
LAST-MODIFIED:20230115T213008Z
UID:949-1679684400-1679691600@morningstar795.org
SUMMARY:St Andrews 619 Inspection - FC
DESCRIPTION:Meal 6PM \n\n\n\nOpen 7PM
URL:https://morningstar795.org/event/st-andrews-619-inspection-fc/
LOCATION:St. Andrews Lodge #619\, 125 W. High Street\, Springfield\, OH\, 45502\, United States
CATEGORIES:Inspections
END:VEVENT
BEGIN:VEVENT
DTSTART;TZID=America/New_York:20230318T190000
DTEND;TZID=America/New_York:20230318T210000
DTSTAMP:20260425T121729
CREATED:20230115T212841Z
LAST-MODIFIED:20230115T212843Z
UID:947-1679166000-1679173200@morningstar795.org
SUMMARY:HS Kissell 674 Inspection - FC
DESCRIPTION:Meal 6PM \n\n\n\nOpen 7PM
URL:https://morningstar795.org/event/hs-kissell-674-inspection-fc/
CATEGORIES:Inspections
END:VEVENT
BEGIN:VEVENT
DTSTART;TZID=America/New_York:20230317T190000
DTEND;TZID=America/New_York:20230317T210000
DTSTAMP:20260425T121729
CREATED:20230115T212737Z
LAST-MODIFIED:20230115T212739Z
UID:945-1679079600-1679086800@morningstar795.org
SUMMARY:Clark 101 Inspection - EA
DESCRIPTION:Meal 6PM \n\n\n\nOpen 7PM
URL:https://morningstar795.org/event/clark-101-inspection-ea/
LOCATION:Clark Lodge 101\, 125 W. High Street\, Springfield\, OH\, 45502\, United States
CATEGORIES:Inspections
END:VEVENT
BEGIN:VEVENT
DTSTART;TZID=America/New_York:20230316T190000
DTEND;TZID=America/New_York:20230316T210000
DTSTAMP:20260425T121729
CREATED:20230115T212620Z
LAST-MODIFIED:20230115T212624Z
UID:943-1678993200-1679000400@morningstar795.org
SUMMARY:Harmony 8 Inspection - EA
DESCRIPTION:Meal 6PM \n\n\n\nOpen 7PM
URL:https://morningstar795.org/event/harmony-8-inspection-ea/
LOCATION:Harmony Lodge #8\, 222 N. Main Street\, Urbana\, OH\, 43078\, United States
CATEGORIES:Inspections
END:VEVENT
BEGIN:VEVENT
DTSTART;TZID=America/New_York:20230315T190000
DTEND;TZID=America/New_York:20230315T210000
DTSTAMP:20260425T121729
CREATED:20230115T212513Z
LAST-MODIFIED:20230115T212515Z
UID:941-1678906800-1678914000@morningstar795.org
SUMMARY:Mt. Olivet 226 Inspection - MM
DESCRIPTION:Meal 6pm \n\n\n\nOpen 7PM
URL:https://morningstar795.org/event/mt-olivet-226-inspection-mm/
LOCATION:Mt. Olivet 226\, E 2nd St. & North Main\, Christiansburg\, OH\, 45389\, United States
CATEGORIES:Inspections
END:VEVENT
BEGIN:VEVENT
DTSTART;TZID=America/New_York:20230304T090000
DTEND;TZID=America/New_York:20230304T113000
DTSTAMP:20260425T121729
CREATED:20230115T212332Z
LAST-MODIFIED:20230115T212334Z
UID:939-1677920400-1677929400@morningstar795.org
SUMMARY:Urania 311 Inspection - MM
DESCRIPTION:No Meal \n\n\n\nOpen 9am
URL:https://morningstar795.org/event/urania-311-inspection-mm/
LOCATION:Urania Lodge #311\, 102 E. Main Street\, Plain City\, OH\, 43064\, United States
CATEGORIES:Inspections
END:VEVENT
BEGIN:VEVENT
DTSTART;TZID=America/New_York:20230225T100000
DTEND;TZID=America/New_York:20230225T120000
DTSTAMP:20260425T121729
CREATED:20230115T212124Z
LAST-MODIFIED:20230115T212126Z
UID:937-1677319200-1677326400@morningstar795.org
SUMMARY:Madison 221 Inspection - MM
DESCRIPTION:No Meal \n\n\n\nOpen 10AM
URL:https://morningstar795.org/event/madison-221-inspection-mm/
LOCATION:Madison Lodge #221\, 60 E. Main Street\, West Jefferson\, OH\, 43162\, United States
CATEGORIES:Inspections
END:VEVENT
BEGIN:VEVENT
DTSTART;TZID=America/New_York:20230222T083000
DTEND;TZID=America/New_York:20230222T090000
DTSTAMP:20260425T121729
CREATED:20230115T212008Z
LAST-MODIFIED:20230115T212010Z
UID:935-1677054600-1677056400@morningstar795.org
SUMMARY:Anthony 455 Inspection - MM
DESCRIPTION:OPEN 6pm\, perform first section \n\n\n\nDinner 7PM
URL:https://morningstar795.org/event/anthony-455-inspection-mm-2/
LOCATION:Anthony Lodge 455\, 125 W. High Street\, Springfield\, OH\, 45502\, United States
CATEGORIES:Inspections
END:VEVENT
BEGIN:VEVENT
DTSTART;TZID=America/New_York:20230220T100000
DTEND;TZID=America/New_York:20230220T113000
DTSTAMP:20260425T121729
CREATED:20230212T171330Z
LAST-MODIFIED:20230212T171332Z
UID:959-1676887200-1676892600@morningstar795.org
SUMMARY:Special Meeting February 20th 2023
DESCRIPTION:Practice for the EA Inspection \n\n\n\nWe are now back in Burkhardt Auditorium!!!
URL:https://morningstar795.org/event/special-meeting-february-20th-2023/
LOCATION:Ohio Masonic Home\, 2655 W. National Road\, Springfield\, OH\, 45504\, United States
CATEGORIES:Special Meetings
END:VEVENT
BEGIN:VEVENT
DTSTART;TZID=America/New_York:20230218T190000
DTEND;TZID=America/New_York:20230218T210000
DTSTAMP:20260425T121729
CREATED:20230115T211838Z
LAST-MODIFIED:20230115T211839Z
UID:933-1676746800-1676754000@morningstar795.org
SUMMARY:Mechanicsburg 113 Inspection - MM
DESCRIPTION:Meal 6pm\, Open 7pm
URL:https://morningstar795.org/event/mechanicsburg-113-inspection-mm/
LOCATION:Mechanicsburg Lodge 113\, 10 North Main Street\, Mechanicsburg\, OH\, 43044\, United States
CATEGORIES:Inspections
END:VEVENT
BEGIN:VEVENT
DTSTART;TZID=America/New_York:20230211T090000
DTEND;TZID=America/New_York:20230211T110000
DTSTAMP:20260425T121729
CREATED:20230115T211640Z
LAST-MODIFIED:20230115T211642Z
UID:931-1676106000-1676113200@morningstar795.org
SUMMARY:New Carlisle 100 Inspection - EA
DESCRIPTION:Breakfast approx 7:30am\, Open 9am
URL:https://morningstar795.org/event/new-carlisle-100-inspection-ea/
LOCATION:New Carlisle Lodge 100\, 110 South Main Street\, New Carlisle\, OH\, 45344\, United States
CATEGORIES:Inspections
END:VEVENT
BEGIN:VEVENT
DTSTART;TZID=America/New_York:20230206T100000
DTEND;TZID=America/New_York:20230206T113000
DTSTAMP:20260425T121730
CREATED:20230102T040538Z
LAST-MODIFIED:20230102T040727Z
UID:925-1675677600-1675683000@morningstar795.org
SUMMARY:Stated Meeting February 6th 2023
DESCRIPTION:
URL:https://morningstar795.org/event/stated-meeting-february-6th-2023/
CATEGORIES:Stated Meetings
END:VEVENT
BEGIN:VEVENT
DTSTART;TZID=America/New_York:20230204T190000
DTEND;TZID=America/New_York:20230204T210000
DTSTAMP:20260425T121730
CREATED:20230102T040437Z
LAST-MODIFIED:20230102T040438Z
UID:923-1675537200-1675544400@morningstar795.org
SUMMARY:Fielding 192 Inspection - FC
DESCRIPTION:
URL:https://morningstar795.org/event/fielding-192-inspection-fc/
CATEGORIES:Inspections
END:VEVENT
BEGIN:VEVENT
DTSTART;TZID=America/New_York:20230201T190000
DTEND;TZID=America/New_York:20230201T210000
DTSTAMP:20260425T121730
CREATED:20230102T040337Z
LAST-MODIFIED:20230102T040338Z
UID:921-1675278000-1675285200@morningstar795.org
SUMMARY:Chandler 138 Inspection - MM
DESCRIPTION:
URL:https://morningstar795.org/event/chandler-138-inspection-mm/
CATEGORIES:Inspections
END:VEVENT
BEGIN:VEVENT
DTSTART;TZID=America/New_York:20230118T190000
DTEND;TZID=America/New_York:20230118T210000
DTSTAMP:20260425T121730
CREATED:20230102T040222Z
LAST-MODIFIED:20230115T211041Z
UID:919-1674068400-1674075600@morningstar795.org
SUMMARY:POSTPONED - Anthony 455 Inspection - MM
DESCRIPTION:Anthony Lodge 455 Inspection moved to February 22nd \n\n\n\nOpen 6pm\, Meal 7pm (Note open time)
URL:https://morningstar795.org/event/anthony-455-inspection-mm/
CATEGORIES:Inspections
END:VEVENT
BEGIN:VEVENT
DTSTART;TZID=America/New_York:20230116T100000
DTEND;TZID=America/New_York:20230116T120000
DTSTAMP:20260425T121730
CREATED:20221229T165313Z
LAST-MODIFIED:20221229T165314Z
UID:907-1673863200-1673870400@morningstar795.org
SUMMARY:Stated Meeting January 16th 2023
DESCRIPTION:Ohio Masonic Home Shelter House
URL:https://morningstar795.org/event/stated-meeting-january-16th-2023/
CATEGORIES:Stated Meetings
END:VEVENT
BEGIN:VEVENT
DTSTART;TZID=America/New_York:20221205T100000
DTEND;TZID=America/New_York:20221205T120000
DTSTAMP:20260425T121730
CREATED:20221014T184633Z
LAST-MODIFIED:20221014T184633Z
UID:893-1670234400-1670241600@morningstar795.org
SUMMARY:Stated Meeting December 5th 2022
DESCRIPTION:
URL:https://morningstar795.org/event/stated-meeting-december-5th-2022/
CATEGORIES:Stated Meetings
END:VEVENT
BEGIN:VEVENT
DTSTART;TZID=America/New_York:20221203T080000
DTEND;TZID=America/New_York:20221203T170000
DTSTAMP:20260425T121730
CREATED:20221014T184510Z
LAST-MODIFIED:20221014T184511Z
UID:891-1670054400-1670086800@morningstar795.org
SUMMARY:Past Masters Convocation December 3rd 2022
DESCRIPTION:Held at Anthony Lodge 455 \n\n\n\nOfficer Training will be downstairs during the Past Masters degree
URL:https://morningstar795.org/event/past-masters-convocation-december-3rd-2022/
LOCATION:Anthony Lodge 455\, 125 W. High Street\, Springfield\, OH\, 45502\, United States
CATEGORIES:District Events
END:VEVENT
BEGIN:VEVENT
DTSTART;TZID=America/New_York:20221121T100000
DTEND;TZID=America/New_York:20221121T110000
DTSTAMP:20260425T121730
CREATED:20221030T181040Z
LAST-MODIFIED:20221030T181041Z
UID:898-1669024800-1669028400@morningstar795.org
SUMMARY:Open Installation of Officers November 21st 2022
DESCRIPTION:Festival Green Clubhouse \n\n\n\nThis is an OPEN installation of Officers
URL:https://morningstar795.org/event/open-installation-of-officers-november-21st-2022/
LOCATION:Ohio Masonic Home\, 2655 W. National Road\, Springfield\, OH\, 45504\, United States
CATEGORIES:Special Meetings
END:VEVENT
END:VCALENDAR