BEGIN:VCALENDAR
VERSION:2.0
PRODID:-//Morning Star 795 - ECPv6.15.20//NONSGML v1.0//EN
CALSCALE:GREGORIAN
METHOD:PUBLISH
X-WR-CALNAME:Morning Star 795
X-ORIGINAL-URL:https://morningstar795.org
X-WR-CALDESC:Events for Morning Star 795
REFRESH-INTERVAL;VALUE=DURATION:PT1H
X-Robots-Tag:noindex
X-PUBLISHED-TTL:PT1H
BEGIN:VTIMEZONE
TZID:UTC
BEGIN:STANDARD
TZOFFSETFROM:+0000
TZOFFSETTO:+0000
TZNAME:UTC
DTSTART:20170101T000000
END:STANDARD
END:VTIMEZONE
BEGIN:VTIMEZONE
TZID:America/New_York
BEGIN:DAYLIGHT
TZOFFSETFROM:-0500
TZOFFSETTO:-0400
TZNAME:EDT
DTSTART:20170312T070000
END:DAYLIGHT
BEGIN:STANDARD
TZOFFSETFROM:-0400
TZOFFSETTO:-0500
TZNAME:EST
DTSTART:20171105T060000
END:STANDARD
BEGIN:DAYLIGHT
TZOFFSETFROM:-0500
TZOFFSETTO:-0400
TZNAME:EDT
DTSTART:20180311T070000
END:DAYLIGHT
BEGIN:STANDARD
TZOFFSETFROM:-0400
TZOFFSETTO:-0500
TZNAME:EST
DTSTART:20181104T060000
END:STANDARD
BEGIN:DAYLIGHT
TZOFFSETFROM:-0500
TZOFFSETTO:-0400
TZNAME:EDT
DTSTART:20190310T070000
END:DAYLIGHT
BEGIN:STANDARD
TZOFFSETFROM:-0400
TZOFFSETTO:-0500
TZNAME:EST
DTSTART:20191103T060000
END:STANDARD
END:VTIMEZONE
BEGIN:VTIMEZONE
TZID:UTC
BEGIN:STANDARD
TZOFFSETFROM:+0000
TZOFFSETTO:+0000
TZNAME:UTC
DTSTART:20160101T000000
END:STANDARD
END:VTIMEZONE
BEGIN:VEVENT
DTSTART;TZID=UTC:20180205T093000
DTEND;TZID=UTC:20180205T120000
DTSTAMP:20260425T222850
CREATED:20180120T030233Z
LAST-MODIFIED:20180120T030233Z
UID:124-1517823000-1517832000@morningstar795.org
SUMMARY:Morning Star Stated February 5th\, 2018
DESCRIPTION:Open early to confer the EA degree \nOpen 9:30 AM
URL:https://morningstar795.org/event/morning-star-stated-february-5th-2018/
LOCATION:Morning Star Lodge 795
CATEGORIES:Stated Meetings
END:VEVENT
BEGIN:VEVENT
DTSTART;TZID=America/New_York:20180202T190000
DTEND;TZID=America/New_York:20180202T210000
DTSTAMP:20260425T222850
CREATED:20180120T025632Z
LAST-MODIFIED:20180120T025632Z
UID:122-1517598000-1517605200@morningstar795.org
SUMMARY:Madison Lodge 221 Inspection February 2nd\, 2018
DESCRIPTION:Open 7pm \nDinner 6pm
URL:https://morningstar795.org/event/madison-lodge-221-inspection-february-2nd-2018/
LOCATION:OH
CATEGORIES:Inspections
END:VEVENT
BEGIN:VEVENT
DTSTART;TZID=America/New_York:20180130T190000
DTEND;TZID=America/New_York:20180130T210000
DTSTAMP:20260425T222850
CREATED:20180120T025330Z
LAST-MODIFIED:20180120T025831Z
UID:119-1517338800-1517346000@morningstar795.org
SUMMARY:Clark Lodge 101 Inspection January 30th\, 2018
DESCRIPTION:Open 7pm \nDinner 6pm
URL:https://morningstar795.org/event/clark-lodge-101-inspection-january-30th-2018/
LOCATION:Clark Lodge 101\, 125 W. High Street\, Springfield\, OH\, 45502\, United States
CATEGORIES:Inspections
END:VEVENT
BEGIN:VEVENT
DTSTART;TZID=America/New_York:20180127T190000
DTEND;TZID=America/New_York:20180127T210000
DTSTAMP:20260425T222850
CREATED:20180120T024715Z
LAST-MODIFIED:20180120T025749Z
UID:116-1517079600-1517086800@morningstar795.org
SUMMARY:Mechanicsburg Lodge 113 Inspection January 27th\, 2018
DESCRIPTION:Open 7pm \nDinner 6pm
URL:https://morningstar795.org/event/mechanicsburg-lodge-113-inspection-january-27th-2018/
LOCATION:Mechanicsburg Lodge 113\, 10 North Main Street\, Mechanicsburg\, OH\, 43044\, United States
CATEGORIES:Inspections
END:VEVENT
BEGIN:VEVENT
DTSTART;TZID=America/New_York:20180124T190000
DTEND;TZID=America/New_York:20180124T210000
DTSTAMP:20260425T222850
CREATED:20180120T024120Z
LAST-MODIFIED:20180120T025709Z
UID:113-1516820400-1516827600@morningstar795.org
SUMMARY:Anthony Lodge 455 Inspection January 24th\, 2018
DESCRIPTION:Open 7PM \nDinner 6PM
URL:https://morningstar795.org/event/anthony-lodge-455-inspection-january-24th-2018/
LOCATION:Anthony Lodge 455\, 125 W. High Street\, Springfield\, OH\, 45502\, United States
CATEGORIES:Inspections
END:VEVENT
BEGIN:VEVENT
DTSTART;TZID=UTC:20171106T100000
DTEND;TZID=UTC:20171106T113000
DTSTAMP:20260425T222850
CREATED:20170915T072223Z
LAST-MODIFIED:20170915T072223Z
UID:20-1509962400-1509967800@morningstar795.org
SUMMARY:Stated Meeting November 6th\, 2017
DESCRIPTION:
URL:https://morningstar795.org/event/stated-meeting-november-6th-2017/
LOCATION:Morning Star Lodge 795
CATEGORIES:Stated Meetings
END:VEVENT
BEGIN:VEVENT
DTSTART;TZID=UTC:20171002T100000
DTEND;TZID=UTC:20171002T113000
DTSTAMP:20260425T222850
CREATED:20170915T072133Z
LAST-MODIFIED:20170915T072133Z
UID:18-1506938400-1506943800@morningstar795.org
SUMMARY:Stated Meeting October 2nd\, 2017
DESCRIPTION:
URL:https://morningstar795.org/event/stated-meeting-october-2nd-2017/
LOCATION:Morning Star Lodge 795
CATEGORIES:Stated Meetings
END:VEVENT
BEGIN:VEVENT
DTSTART;TZID=UTC:20170918T100000
DTEND;TZID=UTC:20170918T113000
DTSTAMP:20260425T222850
CREATED:20170915T071959Z
LAST-MODIFIED:20170915T071959Z
UID:15-1505728800-1505734200@morningstar795.org
SUMMARY:Stated Meeting September 18th\, 2017
DESCRIPTION:
URL:https://morningstar795.org/event/stated-meeting-september-18th-2017/
LOCATION:Morning Star Lodge 795
CATEGORIES:Stated Meetings
END:VEVENT
END:VCALENDAR