BEGIN:VCALENDAR
VERSION:2.0
PRODID:-//Morning Star 795 - ECPv6.15.20//NONSGML v1.0//EN
CALSCALE:GREGORIAN
METHOD:PUBLISH
X-WR-CALNAME:Morning Star 795
X-ORIGINAL-URL:https://morningstar795.org
X-WR-CALDESC:Events for Morning Star 795
REFRESH-INTERVAL;VALUE=DURATION:PT1H
X-Robots-Tag:noindex
X-PUBLISHED-TTL:PT1H
BEGIN:VTIMEZONE
TZID:America/New_York
BEGIN:DAYLIGHT
TZOFFSETFROM:-0500
TZOFFSETTO:-0400
TZNAME:EDT
DTSTART:20180311T070000
END:DAYLIGHT
BEGIN:STANDARD
TZOFFSETFROM:-0400
TZOFFSETTO:-0500
TZNAME:EST
DTSTART:20181104T060000
END:STANDARD
BEGIN:DAYLIGHT
TZOFFSETFROM:-0500
TZOFFSETTO:-0400
TZNAME:EDT
DTSTART:20190310T070000
END:DAYLIGHT
BEGIN:STANDARD
TZOFFSETFROM:-0400
TZOFFSETTO:-0500
TZNAME:EST
DTSTART:20191103T060000
END:STANDARD
BEGIN:DAYLIGHT
TZOFFSETFROM:-0500
TZOFFSETTO:-0400
TZNAME:EDT
DTSTART:20200308T070000
END:DAYLIGHT
BEGIN:STANDARD
TZOFFSETFROM:-0400
TZOFFSETTO:-0500
TZNAME:EST
DTSTART:20201101T060000
END:STANDARD
END:VTIMEZONE
BEGIN:VTIMEZONE
TZID:America/New_York
BEGIN:DAYLIGHT
TZOFFSETFROM:-0500
TZOFFSETTO:-0400
TZNAME:EDT
DTSTART:20170312T070000
END:DAYLIGHT
BEGIN:STANDARD
TZOFFSETFROM:-0400
TZOFFSETTO:-0500
TZNAME:EST
DTSTART:20171105T060000
END:STANDARD
BEGIN:DAYLIGHT
TZOFFSETFROM:-0500
TZOFFSETTO:-0400
TZNAME:EDT
DTSTART:20180311T070000
END:DAYLIGHT
BEGIN:STANDARD
TZOFFSETFROM:-0400
TZOFFSETTO:-0500
TZNAME:EST
DTSTART:20181104T060000
END:STANDARD
BEGIN:DAYLIGHT
TZOFFSETFROM:-0500
TZOFFSETTO:-0400
TZNAME:EDT
DTSTART:20190310T070000
END:DAYLIGHT
BEGIN:STANDARD
TZOFFSETFROM:-0400
TZOFFSETTO:-0500
TZNAME:EST
DTSTART:20191103T060000
END:STANDARD
BEGIN:DAYLIGHT
TZOFFSETFROM:-0500
TZOFFSETTO:-0400
TZNAME:EDT
DTSTART:20200308T070000
END:DAYLIGHT
BEGIN:STANDARD
TZOFFSETFROM:-0400
TZOFFSETTO:-0500
TZNAME:EST
DTSTART:20201101T060000
END:STANDARD
END:VTIMEZONE
BEGIN:VEVENT
DTSTART;TZID=America/New_York:20190511T100000
DTEND;TZID=America/New_York:20190511T113000
DTSTAMP:20260425T063917
CREATED:20190324T221750Z
LAST-MODIFIED:20190324T221750Z
UID:344-1557568800-1557574200@morningstar795.org
SUMMARY:Rusty Nail Degree May 11th 2019
DESCRIPTION:IT’S BACK\nThe “Rusty Nail Degree” will be presented on Saturday\, May 11\, 2019 by Morning Star Lodge # 795. \nThis has become an annual event for ALL brethren – \n\na great opportunity for One Day Class Members\na perfect opportunity for brethren who have not attended a Lodge in quite some time\nany member who would like a bit of a “refresher”\n\nAll parts of the three degrees will be covered: Entered Apprentice\, Fellowcraft and Master Mason. \nLodge will open at 10:00 AM in the EA degree. Once that degree is completed\, we will move on to the Fellowcraft Degree and finally the Master Mason Degree. \nPlease note: Entered Apprentices and Fellow Crafts ARE invited to attend the degree(s) which they are entitled to participate. \nAll that’s needed is: A current dues card and a picture I.D. We have aprons & will provide mentors. \nWhen we have concluded the Lodge meeting\, we’ll be adjourning to the Lindner Community Center for lunch (on you) and fellowship. \nPlease plan to be with us on Saturday\, May 11\, 2019\, at 10:00 AM in Burkhart Auditorium for the “Rusty Nail” degree.
URL:https://morningstar795.org/event/rusty-nail-degree-may-11th-2019/
LOCATION:Morning Star Lodge 795
CATEGORIES:Special Meetings
END:VEVENT
BEGIN:VEVENT
DTSTART;TZID=America/New_York:20190506T100000
DTEND;TZID=America/New_York:20190506T113000
DTSTAMP:20260425T063917
CREATED:20190505T004421Z
LAST-MODIFIED:20190505T004421Z
UID:347-1557136800-1557142200@morningstar795.org
SUMMARY:Stated Meeting May 6th 2019
DESCRIPTION:
URL:https://morningstar795.org/event/stated-meeting-may-6th-2019/
LOCATION:Morning Star Lodge 795
CATEGORIES:Stated Meetings
END:VEVENT
BEGIN:VEVENT
DTSTART;TZID=America/New_York:20190401T100000
DTEND;TZID=America/New_York:20190401T113000
DTSTAMP:20260425T063917
CREATED:20190317T232210Z
LAST-MODIFIED:20190317T232210Z
UID:341-1554112800-1554118200@morningstar795.org
SUMMARY:Stated Meeting - April 1st\, 2019
DESCRIPTION:Stated Meeting \nBurkart Auditorium 10:00 AM
URL:https://morningstar795.org/event/stated-meeting-april-1st-2019/
LOCATION:Morning Star Lodge 795
CATEGORIES:Stated Meetings
END:VEVENT
BEGIN:VEVENT
DTSTART;TZID=America/New_York:20190330T090000
DTEND;TZID=America/New_York:20190330T130000
DTSTAMP:20260425T063917
CREATED:20190217T210209Z
LAST-MODIFIED:20190217T210209Z
UID:310-1553936400-1553950800@morningstar795.org
SUMMARY:Morning Star Inspection March 30th\, 2019
DESCRIPTION:Special Meeting – Inspection Master Mason Degree & lunch follows at Lindner Center
URL:https://morningstar795.org/event/morning-star-inspection-march-30th-2019/
LOCATION:Morning Star Lodge 795
CATEGORIES:Inspections
END:VEVENT
BEGIN:VEVENT
DTSTART;TZID=America/New_York:20190325T090000
DTEND;TZID=America/New_York:20190325T113000
DTSTAMP:20260425T063917
CREATED:20190317T231754Z
LAST-MODIFIED:20190319T023029Z
UID:339-1553504400-1553513400@morningstar795.org
SUMMARY:Special Meeting - March 25th 2019
DESCRIPTION:Special meeting to review the FC return work of our potential candidate for the MM Inspection March 30th. \nNOTE: Open at 9 AM. \nWe will then close and practice the MM Degree in full to prepare for Inspection the following Saturday March 30th
URL:https://morningstar795.org/event/special-meeting-march-25th-2019/
LOCATION:Morning Star Lodge 795
CATEGORIES:Special Meetings
END:VEVENT
BEGIN:VEVENT
DTSTART;TZID=America/New_York:20190323T090000
DTEND;TZID=America/New_York:20190323T110000
DTSTAMP:20260425T063917
CREATED:20190224T195004Z
LAST-MODIFIED:20190224T195004Z
UID:318-1553331600-1553338800@morningstar795.org
SUMMARY:Anthony Inspection March 23rd\, 2019
DESCRIPTION:
URL:https://morningstar795.org/event/anthony-inspection-march-23rd-2019/
LOCATION:Anthony Lodge 455\, 125 W. High Street\, Springfield\, OH\, 45502\, United States
CATEGORIES:Inspections
END:VEVENT
BEGIN:VEVENT
DTSTART;TZID=America/New_York:20190318T100000
DTEND;TZID=America/New_York:20190318T113000
DTSTAMP:20260425T063917
CREATED:20190317T231520Z
LAST-MODIFIED:20190317T231520Z
UID:337-1552903200-1552908600@morningstar795.org
SUMMARY:Practice MM Degree - March 18th 2019
DESCRIPTION:Practice the second section of the Master Mason Degree \n10:00 AM in Burkhart Auditorium
URL:https://morningstar795.org/event/practice-mm-degree-march-18th-2019/
LOCATION:Morning Star Lodge 795
CATEGORIES:Special Meetings
END:VEVENT
BEGIN:VEVENT
DTSTART;TZID=America/New_York:20190316T090000
DTEND;TZID=America/New_York:20190316T110000
DTSTAMP:20260425T063917
CREATED:20190224T194910Z
LAST-MODIFIED:20190224T194910Z
UID:316-1552726800-1552734000@morningstar795.org
SUMMARY:Urania Inspection March 16th\, 2019
DESCRIPTION:
URL:https://morningstar795.org/event/urania-inspection-march-16th-2019/
LOCATION:Urania Lodge #311\, 102 E. Main Street\, Plain City\, OH\, 43064\, United States
CATEGORIES:Inspections
END:VEVENT
BEGIN:VEVENT
DTSTART;TZID=America/New_York:20190306T190000
DTEND;TZID=America/New_York:20190306T210000
DTSTAMP:20260425T063917
CREATED:20190224T194817Z
LAST-MODIFIED:20190224T194817Z
UID:314-1551898800-1551906000@morningstar795.org
SUMMARY:Mt. Olivet Inspection March 6th\, 2019
DESCRIPTION:
URL:https://morningstar795.org/event/mt-olivet-inspection-march-6th-2019/
LOCATION:Mt. Olivet 226\, E 2nd St. & North Main\, Christiansburg\, OH\, 45389\, United States
CATEGORIES:Inspections
END:VEVENT
BEGIN:VEVENT
DTSTART;TZID=America/New_York:20190304T100000
DTEND;TZID=America/New_York:20190304T120000
DTSTAMP:20260425T063917
CREATED:20190217T205801Z
LAST-MODIFIED:20190228T032106Z
UID:305-1551693600-1551700800@morningstar795.org
SUMMARY:Stated Meeting March 4th\, 2019
DESCRIPTION:Open/Close short form at 10 AM in the EA for a Brother to return their work. \nThen Open/Close full form FC to confer degree
URL:https://morningstar795.org/event/stated-meeting-march-4th-2019/
LOCATION:Morning Star Lodge 795
CATEGORIES:Stated Meetings
END:VEVENT
BEGIN:VEVENT
DTSTART;TZID=America/New_York:20190302T090000
DTEND;TZID=America/New_York:20190302T120000
DTSTAMP:20260425T063917
CREATED:20190224T194719Z
LAST-MODIFIED:20190224T194719Z
UID:312-1551517200-1551528000@morningstar795.org
SUMMARY:Harmony Lodge Inspection March 2nd\, 2019
DESCRIPTION:
URL:https://morningstar795.org/event/harmony-lodge-inspection-march-2nd-2019/
LOCATION:Harmony Lodge #8\, 222 N. Main Street\, Urbana\, OH\, 43078\, United States
CATEGORIES:Inspections
END:VEVENT
BEGIN:VEVENT
DTSTART;TZID=America/New_York:20190223T180000
DTEND;TZID=America/New_York:20190223T210000
DTSTAMP:20260425T063917
CREATED:20190217T205613Z
LAST-MODIFIED:20190217T205613Z
UID:303-1550944800-1550955600@morningstar795.org
SUMMARY:Mt. Sterling Lodge Inspection February 23rd\, 2019
DESCRIPTION:
URL:https://morningstar795.org/event/mt-sterling-lodge-inspection-february-23rd-2019/
LOCATION:Mount Sterling 269\, 48 N. London Street\, Mount Sterling\, OH\, 43143\, United States
CATEGORIES:Inspections
END:VEVENT
BEGIN:VEVENT
DTSTART;TZID=America/New_York:20190222T180000
DTEND;TZID=America/New_York:20190222T210000
DTSTAMP:20260425T063917
CREATED:20190217T205453Z
LAST-MODIFIED:20190217T205453Z
UID:301-1550858400-1550869200@morningstar795.org
SUMMARY:Mechanicsburg Inspection February 22nd\, 2019
DESCRIPTION:
URL:https://morningstar795.org/event/mechanicsburg-inspection-february-22nd-2019/
LOCATION:Mechanicsburg Lodge 113\, 10 North Main Street\, Mechanicsburg\, OH\, 43044\, United States
CATEGORIES:Inspections
END:VEVENT
BEGIN:VEVENT
DTSTART;TZID=America/New_York:20190220T180000
DTEND;TZID=America/New_York:20190220T210000
DTSTAMP:20260425T063917
CREATED:20190217T205350Z
LAST-MODIFIED:20190217T205350Z
UID:299-1550685600-1550696400@morningstar795.org
SUMMARY:HS Kissell Inspection February 20th\, 2019
DESCRIPTION:
URL:https://morningstar795.org/event/hs-kissell-inspection-february-20th-2019/
LOCATION:HS Kissell Lodge #674\, 125 W. High Street\, Springfield\, OH\, 45502\, United States
CATEGORIES:Inspections
END:VEVENT
BEGIN:VEVENT
DTSTART;TZID=America/New_York:20190218T100000
DTEND;TZID=America/New_York:20190218T120000
DTSTAMP:20260425T063917
CREATED:20190217T205236Z
LAST-MODIFIED:20190217T205919Z
UID:297-1550484000-1550491200@morningstar795.org
SUMMARY:Special Meeting - MM Practice on February 18th\, 2019
DESCRIPTION:
URL:https://morningstar795.org/event/special-meeting-mm-practice-on-february-18th-2019/
LOCATION:Morning Star Lodge 795
CATEGORIES:Special Meetings
END:VEVENT
BEGIN:VEVENT
DTSTART;TZID=America/New_York:20190218T093000
DTEND;TZID=America/New_York:20190218T100000
DTSTAMP:20260425T063917
CREATED:20190217T210055Z
LAST-MODIFIED:20190217T210055Z
UID:308-1550482200-1550484000@morningstar795.org
SUMMARY:Fundraising Committee February 18th\, 2019
DESCRIPTION:Fund Raising & Social Committee will meet at 9:30 AM
URL:https://morningstar795.org/event/fundraising-committee-february-18th-2019/
LOCATION:Morning Star Lodge 795
CATEGORIES:Special Meetings
END:VEVENT
BEGIN:VEVENT
DTSTART;TZID=America/New_York:20181219T190000
DTEND;TZID=America/New_York:20181219T210000
DTSTAMP:20260425T063917
CREATED:20181118T191157Z
LAST-MODIFIED:20181118T191157Z
UID:268-1545246000-1545253200@morningstar795.org
SUMMARY:School of Instruction - EA/FC December 19th\, 2018
DESCRIPTION:Take note – the EA / FC School of\nInstruction\, with the typewritten ritual\, will be\nDecember 19 at Mt Olivet Lodge # 226. Bring your\nRitual books with you – it’s an EXCELLENT\nopportunity to brush up on your ritual work!
URL:https://morningstar795.org/event/school-of-instruction-ea-fc-december-19th-2018/
LOCATION:Mt. Olivet 226\, E 2nd St. & North Main\, Christiansburg\, OH\, 45389\, United States
CATEGORIES:District Events
END:VEVENT
BEGIN:VEVENT
DTSTART;TZID=America/New_York:20181217T100000
DTEND;TZID=America/New_York:20181217T120000
DTSTAMP:20260425T063917
CREATED:20181118T192230Z
LAST-MODIFIED:20181209T185326Z
UID:272-1545040800-1545048000@morningstar795.org
SUMMARY:CANCELLED - Special Meeting December 17th\, 2018
DESCRIPTION:CANCELLED as of Dec. 9th\, 2018 due to Burkhart Auditorium under construction for new flooring \nSpecial or Practice meeting \nBurkhart Auditorium\, 10am OHM
URL:https://morningstar795.org/event/special-meeting-december-17th-2018/
LOCATION:Morning Star Lodge 795
CATEGORIES:Special Meetings
END:VEVENT
BEGIN:VEVENT
DTSTART;TZID=America/New_York:20181203T100000
DTEND;TZID=America/New_York:20181203T120000
DTSTAMP:20260425T063917
CREATED:20181118T192113Z
LAST-MODIFIED:20181118T192113Z
UID:270-1543831200-1543838400@morningstar795.org
SUMMARY:Stated Meeting December 3rd\, 2018
DESCRIPTION:Stated Meeting\, Burkhart Auditorium 10am
URL:https://morningstar795.org/event/stated-meeting-december-3rd-2018/
LOCATION:Morning Star Lodge 795
CATEGORIES:Stated Meetings
END:VEVENT
BEGIN:VEVENT
DTSTART;TZID=America/New_York:20181201T080000
DTEND;TZID=America/New_York:20181201T150000
DTSTAMP:20260425T063917
CREATED:20180826T172804Z
LAST-MODIFIED:20180826T172804Z
UID:256-1543651200-1543676400@morningstar795.org
SUMMARY:Past Masters Convocation December 1st\, 2018
DESCRIPTION:Past Master’s Convocation – H. S. Kissel Lodge # 674 @ 8 AM
URL:https://morningstar795.org/event/past-masters-convocation-december-1st-2018/
LOCATION:HS Kissell Lodge #674\, 125 W. High Street\, Springfield\, OH\, 45502\, United States
CATEGORIES:District Events
END:VEVENT
BEGIN:VEVENT
DTSTART;TZID=America/New_York:20181119T100000
DTEND;TZID=America/New_York:20181119T120000
DTSTAMP:20260425T063917
CREATED:20181118T185536Z
LAST-MODIFIED:20181118T185536Z
UID:264-1542621600-1542628800@morningstar795.org
SUMMARY:Practice MM Degree November 19th\, 2018
DESCRIPTION:Monday\, November 19 @ 10 AM in Burkhart Auditorium – There will be a practice on the MM degree.  ALL officers need to be there\, as well as brethren interested in speaking & non-speaking parts for the Second Section.
URL:https://morningstar795.org/event/practice-mm-degree-november-19th-2018/
LOCATION:Morning Star Lodge 795
CATEGORIES:Special Meetings
END:VEVENT
BEGIN:VEVENT
DTSTART;TZID=America/New_York:20181118T143000
DTEND;TZID=America/New_York:20181118T153000
DTSTAMP:20260425T063917
CREATED:20181029T002919Z
LAST-MODIFIED:20181029T002919Z
UID:261-1542551400-1542555000@morningstar795.org
SUMMARY:RWB Rob Weller to receive 50yr Award
DESCRIPTION:St. Andrews Lodge to Present 50 yr award to RWB Rob Weller\nAt the Clubhouse of the Ohio Masonic Home Springfield
URL:https://morningstar795.org/event/rwb-rob-weller-to-receive-50yr-award/
LOCATION:Ohio Masonic Home\, 2655 W. National Road\, Springfield\, OH\, 45504\, United States
CATEGORIES:District Events
END:VEVENT
BEGIN:VEVENT
DTSTART;TZID=America/New_York:20181105T100000
DTEND;TZID=America/New_York:20181105T113000
DTSTAMP:20260425T063917
CREATED:20180826T172650Z
LAST-MODIFIED:20180826T172650Z
UID:254-1541412000-1541417400@morningstar795.org
SUMMARY:Annual Meeting November 5th\, 2018
DESCRIPTION:Election of 2019 Officers
URL:https://morningstar795.org/event/annual-meeting-november-5th-2018/
LOCATION:Ohio Masonic Home\, 2655 W. National Road\, Springfield\, OH\, 45504\, United States
CATEGORIES:Stated Meetings
END:VEVENT
BEGIN:VEVENT
DTSTART;VALUE=DATE:20181103
DTEND;VALUE=DATE:20181104
DTSTAMP:20260425T063917
CREATED:20180826T172530Z
LAST-MODIFIED:20180826T172530Z
UID:252-1541203200-1541289599@morningstar795.org
SUMMARY:La Comedia Dinner Theater November 3rd\, 2018
DESCRIPTION:La Comedia Dinner Theater – “White Christmas” – $55
URL:https://morningstar795.org/event/la-comedia-dinner-theater-november-3rd-2018/
CATEGORIES:District Events
END:VEVENT
BEGIN:VEVENT
DTSTART;TZID=America/New_York:20181030T190000
DTEND;TZID=America/New_York:20181030T203000
DTSTAMP:20260425T063917
CREATED:20181028T235709Z
LAST-MODIFIED:20181028T235709Z
UID:259-1540926000-1540931400@morningstar795.org
SUMMARY:Installation of Dennis Kirk as DDGM
DESCRIPTION:
URL:https://morningstar795.org/event/installation-of-dennis-kirk-as-ddgm/
LOCATION:Mt. Olivet 226\, E 2nd St. & North Main\, Christiansburg\, OH\, 45389\, United States
CATEGORIES:District Events
END:VEVENT
BEGIN:VEVENT
DTSTART;VALUE=DATE:20181012
DTEND;VALUE=DATE:20181014
DTSTAMP:20260425T063917
CREATED:20180401T214531Z
LAST-MODIFIED:20180401T214531Z
UID:182-1539302400-1539475199@morningstar795.org
SUMMARY:Grand Lodge Communication 2018
DESCRIPTION:Grand Lodge Annual Communication\nAll Master Masons Welcome
URL:https://morningstar795.org/event/grand-lodge-communication-2018/
LOCATION:Kalahari Resort & Conference Center\, 7000 Kalahari Drive\, Sandusky\, OH\, 44870\, United States
CATEGORIES:Grand Lodge Event
END:VEVENT
BEGIN:VEVENT
DTSTART;TZID=America/New_York:20181008T093000
DTEND;TZID=America/New_York:20181008T110000
DTSTAMP:20260425T063917
CREATED:20180826T172404Z
LAST-MODIFIED:20180826T172404Z
UID:250-1538991000-1538996400@morningstar795.org
SUMMARY:Lodge Officer and Education Committee meeting October 8th\, 2018
DESCRIPTION:Lodge Officers & Education Committee meeting – 9:30 AM in York Rite Chapel
URL:https://morningstar795.org/event/lodge-officer-and-education-committee-meeting-october-8th-2018/
LOCATION:Ohio Masonic Home\, 2655 W. National Road\, Springfield\, OH\, 45504\, United States
CATEGORIES:Special Meetings
END:VEVENT
BEGIN:VEVENT
DTSTART;TZID=America/New_York:20181001T100000
DTEND;TZID=America/New_York:20181001T113000
DTSTAMP:20260425T063917
CREATED:20180826T171750Z
LAST-MODIFIED:20180826T171750Z
UID:248-1538388000-1538393400@morningstar795.org
SUMMARY:Stated Meeting October 1st\, 2018
DESCRIPTION:
URL:https://morningstar795.org/event/stated-meeting-october-1st-2018/
LOCATION:Ohio Masonic Home\, 2655 W. National Road\, Springfield\, OH\, 45504\, United States
CATEGORIES:Stated Meetings
END:VEVENT
BEGIN:VEVENT
DTSTART;TZID=America/New_York:20180922T110000
DTEND;TZID=America/New_York:20180922T180000
DTSTAMP:20260425T063917
CREATED:20180826T171424Z
LAST-MODIFIED:20180826T171424Z
UID:244-1537614000-1537639200@morningstar795.org
SUMMARY:Culture Fest September 22nd\, 2018
DESCRIPTION:Culture Fest 2018 will be Saturday\, September 22 from 11 AM to 6 PM in downtown Springfield.  The Lodge will have a booth there and we could use volunteers to help out.  More details to come on this.
URL:https://morningstar795.org/event/culture-fest-september-22nd-2018/
CATEGORIES:Special Meetings
END:VEVENT
BEGIN:VEVENT
DTSTART;VALUE=DATE:20180920
DTEND;VALUE=DATE:20180921
DTSTAMP:20260425T063917
CREATED:20180826T171258Z
LAST-MODIFIED:20180826T171258Z
UID:242-1537401600-1537487999@morningstar795.org
SUMMARY:Craft Club Outing September 20th\, 2018
DESCRIPTION:Thursday\, September 20\, will be the Craft Outing to the Springfield-Clark Shrine Club for a thick-cut “County Fair” grilled pork chop dinner.  Cost is $15 per person and bus transportation will be available from the Masonic Home.  More details to come\, but mark your calendar now for this event.
URL:https://morningstar795.org/event/craft-club-outing-september-20th-2018/
CATEGORIES:Special Meetings
END:VEVENT
END:VCALENDAR