BEGIN:VCALENDAR
VERSION:2.0
PRODID:-//Morning Star 795 - ECPv6.15.20//NONSGML v1.0//EN
CALSCALE:GREGORIAN
METHOD:PUBLISH
X-WR-CALNAME:Morning Star 795
X-ORIGINAL-URL:https://morningstar795.org
X-WR-CALDESC:Events for Morning Star 795
REFRESH-INTERVAL;VALUE=DURATION:PT1H
X-Robots-Tag:noindex
X-PUBLISHED-TTL:PT1H
BEGIN:VTIMEZONE
TZID:America/New_York
BEGIN:DAYLIGHT
TZOFFSETFROM:-0500
TZOFFSETTO:-0400
TZNAME:EDT
DTSTART:20220313T070000
END:DAYLIGHT
BEGIN:STANDARD
TZOFFSETFROM:-0400
TZOFFSETTO:-0500
TZNAME:EST
DTSTART:20221106T060000
END:STANDARD
BEGIN:DAYLIGHT
TZOFFSETFROM:-0500
TZOFFSETTO:-0400
TZNAME:EDT
DTSTART:20230312T070000
END:DAYLIGHT
BEGIN:STANDARD
TZOFFSETFROM:-0400
TZOFFSETTO:-0500
TZNAME:EST
DTSTART:20231105T060000
END:STANDARD
BEGIN:DAYLIGHT
TZOFFSETFROM:-0500
TZOFFSETTO:-0400
TZNAME:EDT
DTSTART:20240310T070000
END:DAYLIGHT
BEGIN:STANDARD
TZOFFSETFROM:-0400
TZOFFSETTO:-0500
TZNAME:EST
DTSTART:20241103T060000
END:STANDARD
BEGIN:DAYLIGHT
TZOFFSETFROM:-0500
TZOFFSETTO:-0400
TZNAME:EDT
DTSTART:20250309T070000
END:DAYLIGHT
BEGIN:STANDARD
TZOFFSETFROM:-0400
TZOFFSETTO:-0500
TZNAME:EST
DTSTART:20251102T060000
END:STANDARD
END:VTIMEZONE
BEGIN:VEVENT
DTSTART;TZID=America/New_York:20240304T100000
DTEND;TZID=America/New_York:20240304T120000
DTSTAMP:20260425T063842
CREATED:20240303T162540Z
LAST-MODIFIED:20240303T162542Z
UID:1241-1709546400-1709553600@morningstar795.org
SUMMARY:Stated Meeting March 4th 2024
DESCRIPTION:stated meeting for this Monday\, March 4\, at 10 AM in Burkhardt Auditorium. Dress will be business casual so no coat or tie for this one.WB James Oliver will give the education report. We are looking for others who have knowledge or experiences to share.
URL:https://morningstar795.org/event/stated-meeting-march-4th-2024/
CATEGORIES:Stated Meetings
END:VEVENT
BEGIN:VEVENT
DTSTART;TZID=America/New_York:20240229T190000
DTEND;TZID=America/New_York:20240229T210000
DTSTAMP:20260425T063842
CREATED:20240204T173733Z
LAST-MODIFIED:20240204T173734Z
UID:1232-1709233200-1709240400@morningstar795.org
SUMMARY:Clark Inspection Feb 29th 2024
DESCRIPTION:Fellow Craft \n\n\n\nMeal 6pm
URL:https://morningstar795.org/event/clark-inspection-feb-29th-2024/
LOCATION:Clark Lodge 101\, 125 W. High Street\, Springfield\, OH\, 45502\, United States
CATEGORIES:Inspections
END:VEVENT
BEGIN:VEVENT
DTSTART;TZID=America/New_York:20240224T090000
DTEND;TZID=America/New_York:20240224T113000
DTSTAMP:20260425T063842
CREATED:20230404T061305Z
LAST-MODIFIED:20240218T160028Z
UID:1049-1708765200-1708774200@morningstar795.org
SUMMARY:Morning Star #795 - Inspection
DESCRIPTION:Inspection on conferring of the Fellowcraft Degree \n\n\n\nOfficers arrive by 8:30am at latest. Coffee and doughnuts beginning around 8:30am.  Everyone is invited to stay for lunch at the Ohio Masonic Home Community Center after the meeting. \n\n\n\nFor those who have not attended a lodge meeting in Rickly Manor recently and who do not live at the Ohio Masonic Home\, please park behind the building\, as parking in front is extremely limited. There is an intercom buzzer at the back door\, and an elevator to the auditorium on the second floor. If you need a little extra assistance\, please reach out to one of the lodge officers before the meeting so that we can make certain to extend a warm welcome.
URL:https://morningstar795.org/event/morning-star-795-inspection/
LOCATION:Burkhart Auditorium\, Rickly Commons\, on the campus of the Ohio Masonic Home\, 2655 W National Rd\, Springfield\, Ohio\, 45504\, United States
CATEGORIES:Inspections
END:VEVENT
BEGIN:VEVENT
DTSTART;TZID=America/New_York:20240219T100000
DTEND;TZID=America/New_York:20240219T120000
DTSTAMP:20260425T063842
CREATED:20240204T172914Z
LAST-MODIFIED:20240204T172914Z
UID:1225-1708336800-1708344000@morningstar795.org
SUMMARY:Special Meeting February 19th 2024
DESCRIPTION:FC practice for upcoming Inspection Burkhardt Auditorium
URL:https://morningstar795.org/event/special-meeting-february-19th-2024/
CATEGORIES:Special Meetings
END:VEVENT
BEGIN:VEVENT
DTSTART;TZID=America/New_York:20240217T190000
DTEND;TZID=America/New_York:20240217T210000
DTSTAMP:20260425T063842
CREATED:20240204T173620Z
LAST-MODIFIED:20240204T173621Z
UID:1230-1708196400-1708203600@morningstar795.org
SUMMARY:Mechanicsburg Inspection Feb 17th 2024
DESCRIPTION:Entered Apprentice \n\n\n\nMeal 6pm
URL:https://morningstar795.org/event/mechanicsburg-inspection-feb-17th-2024/
LOCATION:Mechanicsburg Lodge 113\, 10 North Main Street\, Mechanicsburg\, OH\, 43044\, United States
CATEGORIES:Inspections
END:VEVENT
BEGIN:VEVENT
DTSTART;TZID=America/New_York:20240210T090000
DTEND;TZID=America/New_York:20240210T120000
DTSTAMP:20260425T063842
CREATED:20240204T173436Z
LAST-MODIFIED:20240204T173928Z
UID:1228-1707555600-1707566400@morningstar795.org
SUMMARY:New Carlisle Inspection Feb 10th 2024
DESCRIPTION:Fellow Craft \n\n\n\nDo not park on Main St as it is 2hr parking. Parking available at Closed Drug Store Parking Lot. ( Rt 571 & Main St. ) and Municipal Parking Lot on Church Street\, one block West of the Temple. \n\n\n\nBreakfast starting 7:30am. Yellow Dog Degree after Inspection
URL:https://morningstar795.org/event/new-carlisle-inspection-feb-10th-2024/
LOCATION:New Carlisle Lodge 100\, 110 South Main Street\, New Carlisle\, OH\, 45344\, United States
CATEGORIES:Inspections
END:VEVENT
BEGIN:VEVENT
DTSTART;TZID=America/New_York:20240205T100000
DTEND;TZID=America/New_York:20240205T120000
DTSTAMP:20260425T063842
CREATED:20240204T172726Z
LAST-MODIFIED:20240204T172727Z
UID:1223-1707127200-1707134400@morningstar795.org
SUMMARY:Stated Meeting February 5th 2024
DESCRIPTION:Burkhardt Auditorium
URL:https://morningstar795.org/event/stated-meeting-february-5th-2024/
CATEGORIES:Stated Meetings
END:VEVENT
BEGIN:VEVENT
DTSTART;TZID=America/New_York:20240115T100000
DTEND;TZID=America/New_York:20240115T120000
DTSTAMP:20260425T063842
CREATED:20231223T221415Z
LAST-MODIFIED:20231223T221456Z
UID:1214-1705312800-1705320000@morningstar795.org
SUMMARY:Stated Meeting January 15th 2024
DESCRIPTION:Stated Meeting and Pre-Inspection. Open in FC degree. Type written ritual will be available for review. Dress is Business Casual
URL:https://morningstar795.org/event/stated-meeting-january-15th-2024/
CATEGORIES:Stated Meetings
END:VEVENT
BEGIN:VEVENT
DTSTART;TZID=America/New_York:20240105T150000
DTEND;TZID=America/New_York:20240105T170000
DTSTAMP:20260425T063842
CREATED:20230404T060713Z
LAST-MODIFIED:20231117T034626Z
UID:1045-1704466800-1704474000@morningstar795.org
SUMMARY:Morning Star #795 - 12 Days of Christmas Party
DESCRIPTION:Please join us for a relaxing wrap-up of the Holiday Season!  This event is open to members\, their family and friends\, prospective members and their families\, and residents of the Ohio Masonic Home. \n\n\n\nBrethren are requested to bring their favorite snacks\, hors d’oeuvres\, and beverages for themselves and to share with our guests. \n\n\n\nThe Stewards will appreciate the help of any brethren with setup beginning at 2pm\, and cleanup after the event. \n\n\n\nNOTE:  Times and location are tentative; please check back for updates. \n\n\n\nFor those who have not attended a meeting in Rickly Commons recently and who do not live at the Ohio Masonic Home\, please park behind the building\, as parking in front is extremely limited. There is an intercom buzzer at the back door\, and an elevator to the auditorium on the second floor. If you need a little extra assistance\, please reach out to one of the lodge officers before the meeting so that we can make certain to extend a warm welcome.
URL:https://morningstar795.org/event/morning-star-795-12-days-of-christmas-party/
LOCATION:Burkhart Auditorium\, Rickly Commons\, on the campus of the Ohio Masonic Home\, 2655 W National Rd\, Springfield\, Ohio\, 45504\, United States
CATEGORIES:Special Meetings
END:VEVENT
BEGIN:VEVENT
DTSTART;TZID=America/New_York:20231218T100000
DTEND;TZID=America/New_York:20231218T120000
DTSTAMP:20260425T063842
CREATED:20231215T004045Z
LAST-MODIFIED:20231215T004046Z
UID:1211-1702893600-1702900800@morningstar795.org
SUMMARY:Special Meeting December 18th 2024
DESCRIPTION:Just a reminder that we have a special this coming Monday at 10AM in Burkhardt. The purpose is to practice the FC opening\, organize the degree work for our inspection\, and reorganize the Craft.
URL:https://morningstar795.org/event/special-meeting-december-18th-2024/
CATEGORIES:Special Meetings
END:VEVENT
BEGIN:VEVENT
DTSTART;TZID=America/New_York:20231202T020000
DTEND;TZID=America/New_York:20231202T023000
DTSTAMP:20260425T063842
CREATED:20230404T055519Z
LAST-MODIFIED:20231117T034642Z
UID:1042-1701482400-1701484200@morningstar795.org
SUMMARY:Past Masters' Convocation
DESCRIPTION:Hosted by Morning Star Lodge #795.   \n\n\n\nNote Location change: Springfield Masonic Center – 125 W High St. Springfield OH\n\n\n\nOpen to all Master Masons.  There will be an education program for all incoming Masters who have not received the Past Master’s Degree\, as well as a short program after the Degree on upcoming year expectations and news from our District Leadership. We will meet initially in Burkhardt Auditorium at the Springfield Masonic Center. After open\, incoming Worshipful Masters will remain for the Past Master’s Degree and tests and all other Master Masons are invited to the Educational Program to be held in the Festival Greenhouse (weather permitting\, Chapel otherwise) downstairs in the basement dining hall. \n\n\n\nFor anyone who is interested in breakfast\, the Lindner Community Center dining room opens at 7am.  If you’re not a resident of the Ohio Masonic Home\, please contact a lodge office to coordinate accommodating you as an OMH guest. Coffee and Donuts downstairs in the basement dining hall. \n\n\n\nFor those who have not attended a meeting in Rickly Commons recently and who do not live at the Ohio Masonic Home\, parking in front of Rickly Commons is extremely limited.  There is ample parking behind Rickly — stay to the left immediately after passing the guard shack\, and follow Lodge Road to the rear of Rickly Commons.  The back door has a small awning and there is an intercom buzzer.  Press the button on the left-hand pad/intercom (the button on the right marked “call” does not work).  There is an elevator to the auditorium on the second floor. If you need a little extra assistance\, please reach out to one of the lodge officers before the meeting so that we can make certain to extend a warm welcome.
URL:https://morningstar795.org/event/past-masters-convocation/
LOCATION:Springfield Masonic Temple\, 125 W High St\, Springfield\, Ohio\, 45502\, United States
CATEGORIES:District Events
END:VEVENT
BEGIN:VEVENT
DTSTART;TZID=America/New_York:20231111T100000
DTEND;TZID=America/New_York:20231111T120000
DTSTAMP:20260425T063842
CREATED:20230404T055012Z
LAST-MODIFIED:20231117T034652Z
UID:1040-1699696800-1699704000@morningstar795.org
SUMMARY:Morning Star #795 - Installation of Officers
DESCRIPTION:This is an OPEN meeting to install the newly elected officers for 2023-2024.  Family and friends\, and prospective members\, family\, and friends are invited to attend. \n\n\n\nMorning Star #795 also sets a “Missing Man Table” in observance of Veterans Day — a tribute to our missing POWs. \n\n\n\nCoffee and doughnuts beginning around 9am.  Everyone is invited to stay for lunch at the Lindner Community Center after the meeting. \n\n\n\nFor those who have not attended a meeting in Rickly Commons recently and who do not live at the Ohio Masonic Home\, please park behind the building\, as parking in front is extremely limited. There is an intercom buzzer at the back door\, and an elevator to the auditorium on the second floor. If you need a little extra assistance\, please reach out to one of the lodge officers before the meeting so that we can make certain to extend a warm welcome.
URL:https://morningstar795.org/event/morning-star-795-installation-of-officers/
LOCATION:Burkhart Auditorium\, Rickly Commons\, on the campus of the Ohio Masonic Home\, 2655 W National Rd\, Springfield\, Ohio\, 45504\, United States
CATEGORIES:Special Meetings
END:VEVENT
BEGIN:VEVENT
DTSTART;TZID=America/New_York:20231106T100000
DTEND;TZID=America/New_York:20231106T120000
DTSTAMP:20260425T063842
CREATED:20230404T054713Z
LAST-MODIFIED:20231117T034659Z
UID:1038-1699264800-1699272000@morningstar795.org
SUMMARY:Morning Star #795 - Annual Meeting
DESCRIPTION:Annual Meeting and Election of Officers \n\n\n\nCoffee and doughnuts beginning around 9am. Everyone is invited to stay for lunch at the Ohio Masonic Home Community Center after the meeting. \n\n\n\nFor those who have not attended a meeting in Rickly Commons recently and who do not live at the Ohio Masonic Home\, please park behind the building\, as parking in front is extremely limited. There is an intercom buzzer at the back door\, and an elevator to the auditorium on the second floor. If you need a little extra assistance\, please reach out to one of the lodge officers before the meeting so that we can make certain to extend a warm welcome.
URL:https://morningstar795.org/event/morning-star-795-annual-meeting/
LOCATION:Burkhart Auditorium\, Rickly Commons\, on the campus of the Ohio Masonic Home\, 2655 W National Rd\, Springfield\, Ohio\, 45504\, United States
CATEGORIES:Stated Meetings
END:VEVENT
BEGIN:VEVENT
DTSTART;TZID=America/New_York:20231020T080000
DTEND;TZID=America/New_York:20231020T170000
DTSTAMP:20260425T063842
CREATED:20230404T054442Z
LAST-MODIFIED:20231117T034742Z
UID:1034-1697788800-1697821200@morningstar795.org
SUMMARY:Grand Lodge Annual Communication
DESCRIPTION:Official information will be posted to https://www.freemason.com as it becomes available. \n\n\n\nThe Ninth District will be hosting a Hospitality Room on Thursday and Friday evenings. Please stop by and help support your District.
URL:https://morningstar795.org/event/grand-lodge-annual-communication/
LOCATION:Kalahari Resort & Conference Center\, 7000 Kalahari Drive\, Sandusky\, OH\, 44870\, United States
CATEGORIES:Grand Lodge Event
END:VEVENT
BEGIN:VEVENT
DTSTART;TZID=America/New_York:20231016T100000
DTEND;TZID=America/New_York:20231016T120000
DTSTAMP:20260425T063842
CREATED:20231014T140337Z
LAST-MODIFIED:20231014T140339Z
UID:1198-1697450400-1697457600@morningstar795.org
SUMMARY:Special Meeting October 16th 2023
DESCRIPTION:Special Meeting called for the purpose of Initiating a new Brother. Burkhardt Auditorium. Everyone\, please turn out for this event and welcome\, upon his initiation\, our new brother to Freemasonry – the best fraternity in the world
URL:https://morningstar795.org/event/special-meeting-october-16th-2023/
LOCATION:Burkhart Auditorium\, Rickly Commons\, on the campus of the Ohio Masonic Home\, 2655 W National Rd\, Springfield\, Ohio\, 45504\, United States
CATEGORIES:Special Meetings
END:VEVENT
BEGIN:VEVENT
DTSTART;TZID=America/New_York:20231002T100000
DTEND;TZID=America/New_York:20231002T120000
DTSTAMP:20260425T063842
CREATED:20230404T053842Z
LAST-MODIFIED:20231117T034742Z
UID:1032-1696240800-1696248000@morningstar795.org
SUMMARY:Morning Star #795 - Stated Meeting
DESCRIPTION:Coffee and doughnuts beginning around 9am. Everyone is invited to stay for lunch at the Ohio Masonic Home Community Center after the meeting. \n\n\n\nFor those who have not attended a lodge meeting in Rickly Manor recently and who do not live at the Ohio Masonic Home\, please park behind the building\, as parking in front is extremely limited. There is an intercom buzzer at the back door\, and an elevator to the auditorium on the second floor. If you need a little extra assistance\, please reach out to one of the lodge officers before the meeting so that we can make certain to extend a warm welcome.
URL:https://morningstar795.org/event/morning-star-795-stated-meeting-6/
LOCATION:Burkhart Auditorium\, Rickly Commons\, on the campus of the Ohio Masonic Home\, 2655 W National Rd\, Springfield\, Ohio\, 45504\, United States
CATEGORIES:Stated Meetings
END:VEVENT
BEGIN:VEVENT
DTSTART;TZID=America/New_York:20230918T190000
DTEND;TZID=America/New_York:20230918T210000
DTSTAMP:20260425T063842
CREATED:20230404T053725Z
LAST-MODIFIED:20231117T034742Z
UID:1030-1695063600-1695070800@morningstar795.org
SUMMARY:9th Masonic District Meeting
DESCRIPTION:Hosted by H S Kissel Lodge # 674 \n\n\n\nAll Master Masons are welcome. We will be voting on the upcoming year District Officer Line and concluding any pending business of the District.
URL:https://morningstar795.org/event/9th-masonic-district-meeting-2/
LOCATION:Springfield Masonic Temple\, 125 W High St\, Springfield\, Ohio\, 45502\, United States
CATEGORIES:District Events
END:VEVENT
BEGIN:VEVENT
DTSTART;TZID=America/New_York:20230918T090000
DTEND;TZID=America/New_York:20230918T120000
DTSTAMP:20260425T063842
CREATED:20230404T053410Z
LAST-MODIFIED:20231117T034743Z
UID:1027-1695027600-1695038400@morningstar795.org
SUMMARY:Morning Star #795 - Stated Meeting
DESCRIPTION:Special Meeting at 9am for MM degree \n\n\n\nSeptember Stated Meetings are held the 3rd Monday of the month due to the observance of Labor Day. \n\n\n\nEveryone is invited to stay for lunch at the Ohio Masonic Home Community Center after the meeting. \n\n\n\nFor those who have not attended a meeting in Rickly Commons recently and who do not live at the Ohio Masonic Home\, please park behind the building\, as parking in front is extremely limited. There is an intercom buzzer at the back door\, and an elevator to the auditorium on the second floor. If you need a little extra assistance\, please reach out to one of the lodge officers before the meeting so that we can make certain to extend a warm welcome.
URL:https://morningstar795.org/event/morning-star-795-stated-meeting-5/
LOCATION:Burkhart Auditorium\, Rickly Commons\, on the campus of the Ohio Masonic Home\, 2655 W National Rd\, Springfield\, Ohio\, 45504\, United States
CATEGORIES:Stated Meetings
END:VEVENT
BEGIN:VEVENT
DTSTART;TZID=America/New_York:20230902T180000
DTEND;TZID=America/New_York:20230902T200000
DTSTAMP:20260425T063842
CREATED:20230404T052244Z
LAST-MODIFIED:20230901T230548Z
UID:1023-1693677600-1693684800@morningstar795.org
SUMMARY:9th District Warden's Dinner
DESCRIPTION:Please RSVP to District 3rd VP Robert Pollock \n\n\n\nDue to staffing concerns at Meadows Restaurant. We are changing  the location of our Sep 2\, 2023 Warden’s Dinner to Rudy’s Smokehouse at 2222 S. Limestone\, Springfield OH. This is just north of the I-70 exit for Ohio 72.  
URL:https://morningstar795.org/event/morning-star-795-wardens-dinner/
LOCATION:2222 S. Limestone\, Springfield OH
CATEGORIES:District Events
END:VEVENT
BEGIN:VEVENT
DTSTART;TZID=America/New_York:20230821T090000
DTEND;TZID=America/New_York:20230821T120000
DTSTAMP:20260425T063842
CREATED:20230816T172913Z
LAST-MODIFIED:20230816T172914Z
UID:1185-1692608400-1692619200@morningstar795.org
SUMMARY:MM Degree
DESCRIPTION:We need can use your assistance and would love to see you there
URL:https://morningstar795.org/event/mm-degree/
CATEGORIES:Stated Meetings
END:VEVENT
BEGIN:VEVENT
DTSTART;TZID=America/New_York:20230819T140000
DTEND;TZID=America/New_York:20230819T163000
DTSTAMP:20260425T063842
CREATED:20230404T051835Z
LAST-MODIFIED:20231117T034743Z
UID:1021-1692453600-1692462600@morningstar795.org
SUMMARY:9th Masonic District Family Picnic
DESCRIPTION:All Masons and their families are invited to attend.  Sweets Raffle to help support RWB Shawn Johnson and GLO 2026.
URL:https://morningstar795.org/event/9th-masonic-district-family-picnic/
LOCATION:Christiansburg Community Park\, 115 W 2nd St\, Christiansburg\, Ohio\, 45389\, United States
CATEGORIES:District Events
END:VEVENT
BEGIN:VEVENT
DTSTART;TZID=America/New_York:20230811T110000
DTEND;TZID=America/New_York:20230811T133000
DTSTAMP:20260425T063842
CREATED:20230806T161225Z
LAST-MODIFIED:20230806T161227Z
UID:1181-1691751600-1691760600@morningstar795.org
SUMMARY:Services for Phillip Hoffman August 11th 2023
DESCRIPTION:Phillip Hoffman Funeral @ Jackson Lytle & Lewis Celebration Center225 N. Limestone St\, Springfield\, OHViewing 11-12\, Funeral Service 12:00Funeral Service will include Masonic\, Eastern Star\, and Military Services.Morning Star\, his home lodge\, is in charge of the Masonic Service.Celebration of Life at OMH Clubhouse after
URL:https://morningstar795.org/event/services-for-phillip-hoffman-august-11th-2023/
CATEGORIES:Emergent Meeting
END:VEVENT
BEGIN:VEVENT
DTSTART;TZID=America/New_York:20230807T100000
DTEND;TZID=America/New_York:20230807T120000
DTSTAMP:20260425T063842
CREATED:20230404T051515Z
LAST-MODIFIED:20231117T034743Z
UID:1019-1691402400-1691409600@morningstar795.org
SUMMARY:Morning Star #795 - Stated Meeting
DESCRIPTION:Coffee and doughnuts beginning around 9am. Everyone is invited to stay for lunch at the Ohio Masonic Home Community Center after the meeting. \n\n\n\nFor those who have not attended a meeting in Rickly Commons recently and who do not live at the Ohio Masonic Home\, please park behind the building\, as parking in front is extremely limited. There is an intercom buzzer at the back door\, and an elevator to the auditorium on the second floor. If you need a little extra assistance\, please reach out to one of the lodge officers before the meeting so that we can make certain to extend a warm welcome.
URL:https://morningstar795.org/event/morning-star-795-stated-meeting-4/
LOCATION:Burkhart Auditorium\, Rickly Commons\, on the campus of the Ohio Masonic Home\, 2655 W National Rd\, Springfield\, Ohio\, 45504\, United States
CATEGORIES:Stated Meetings
END:VEVENT
BEGIN:VEVENT
DTSTART;TZID=America/New_York:20230725T120000
DTEND;TZID=America/New_York:20230725T120000
DTSTAMP:20260425T063842
CREATED:20230706T032918Z
LAST-MODIFIED:20231117T034743Z
UID:1161-1690286400-1690286400@morningstar795.org
SUMMARY:Veterans' Dream Flights
DESCRIPTION:Any resident of the Ohio Masonic Home who is a Veteran is eligible for a FREE bi-plane ride.  Event is held at the Urbana Municipal Airport \n\n\n\nIf you or someone you know is interested\, please contact one of the lodge officers for more information.
URL:https://morningstar795.org/event/veterans-dream-flights/
LOCATION:Grimes Field\, 1636 N Main St\, Urbana\, Ohio\, 43078\, United States
END:VEVENT
BEGIN:VEVENT
DTSTART;TZID=America/New_York:20230718T120000
DTEND;TZID=America/New_York:20230718T130000
DTSTAMP:20260425T063842
CREATED:20230706T030948Z
LAST-MODIFIED:20231117T034743Z
UID:1156-1689681600-1689685200@morningstar795.org
SUMMARY:High Twelve # 483 Luncheon
DESCRIPTION:High Twelve is an organization of Master Masons who support Masonic causes with special emphasis on youth support and patriotic events.  This event is open to Master Masons\, their spouses\, and guests. \n\n\n\nPlease note the date change.  This meeting replaces the meeting that would ordinarily be held on 25-July.
URL:https://morningstar795.org/event/high-twelve-483-luncheon/
LOCATION:Linder Community Center\, Ohio Masonic Home\, 2655 W National Rd\, Springfield\, Ohio\, 45504\, United States
CATEGORIES:Craft Club
END:VEVENT
BEGIN:VEVENT
DTSTART;TZID=America/New_York:20230717T090000
DTEND;TZID=America/New_York:20230717T113000
DTSTAMP:20260425T063842
CREATED:20230706T030206Z
LAST-MODIFIED:20231117T034743Z
UID:1154-1689584400-1689593400@morningstar795.org
SUMMARY:Special Meeting - Full Form practice Master Mason Degree
DESCRIPTION:Please note the 9am start time! \n\n\n\nLodge officers have been reaching out to members to fill the various cast positions for the Second Section\, so please lend a hand for this degree. This will be one of our two required Master Mason degrees. We will confer the other one in August. \n\n\n\nPlease note that donuts and coffee will *NOT* be provided at this meeting.  Brethren who do not reside at the Ohio Masonic Home should contact one of the lodge officers if they wish to have breakfast at the Linder Community Center restaurant.
URL:https://morningstar795.org/event/special-meeting-full-form-practice-master-mason-degree/
LOCATION:Burkhart Auditorium\, Rickly Commons\, on the campus of the Ohio Masonic Home\, 2655 W National Rd\, Springfield\, Ohio\, 45504\, United States
CATEGORIES:Special Meetings
END:VEVENT
BEGIN:VEVENT
DTSTART;TZID=America/New_York:20230716T140000
DTEND;TZID=America/New_York:20230716T160000
DTSTAMP:20260425T063842
CREATED:20230706T025536Z
LAST-MODIFIED:20231117T034743Z
UID:1149-1689516000-1689523200@morningstar795.org
SUMMARY:Deputy Grand Master's Rollout
DESCRIPTION:See what plans are being made for the next Masonic year.
URL:https://morningstar795.org/event/deputy-grand-masters-rollout/
LOCATION:Vandalia Lodge #742\, 246 N Dixie Dr\, Vandalia\, Ohio\, 45377\, United States
CATEGORIES:District Events
END:VEVENT
BEGIN:VEVENT
DTSTART;TZID=America/New_York:20230715T070000
DTEND;TZID=America/New_York:20230715T160000
DTSTAMP:20260425T063842
CREATED:20230404T051238Z
LAST-MODIFIED:20231117T034826Z
UID:1017-1689404400-1689436800@morningstar795.org
SUMMARY:9th Masonic District Golf Outing
DESCRIPTION:See the District 1st VP Arliss Wooten for informational flyer and to secure your teams. Limited team spots available\, so please turn in your RSVP as soon as possible. \n\n\n\nRegistration:  6:30amShotgun start:  8am
URL:https://morningstar795.org/event/9th-masonic-district-golf-outing/
LOCATION:Locust Hills Golf Course\, 5575 N River Rd #9341\, Springfield\, Ohio\, 45502\, United States
CATEGORIES:District Events
END:VEVENT
BEGIN:VEVENT
DTSTART;TZID=America/New_York:20230703T100000
DTEND;TZID=America/New_York:20230703T120000
DTSTAMP:20260425T063842
CREATED:20230404T051005Z
LAST-MODIFIED:20231117T034826Z
UID:1015-1688378400-1688385600@morningstar795.org
SUMMARY:Morning Star #795 - Stated Meeting
DESCRIPTION:Coffee and doughnuts beginning around 9am. Everyone is invited to stay for lunch at the Ohio Masonic Home Community Center after the meeting. \n\n\n\nFor those who have not attended a meeting in Rickly Commons recently and who do not live at the Ohio Masonic Home\, please park behind the building\, as parking in front is extremely limited. There is an intercom buzzer at the back door\, and an elevator to the auditorium on the second floor. If you need a little extra assistance\, please reach out to one of the lodge officers before the meeting so that we can make certain to extend a warm welcome.
URL:https://morningstar795.org/event/morning-star-795-stated-meeting-3/
LOCATION:Burkhart Auditorium\, Rickly Commons\, on the campus of the Ohio Masonic Home\, 2655 W National Rd\, Springfield\, Ohio\, 45504\, United States
CATEGORIES:Stated Meetings
END:VEVENT
BEGIN:VEVENT
DTSTART;TZID=America/New_York:20230630T180000
DTEND;TZID=America/New_York:20230630T223000
DTSTAMP:20260425T063842
CREATED:20230404T050744Z
LAST-MODIFIED:20231117T034826Z
UID:1013-1688148000-1688164200@morningstar795.org
SUMMARY:Cancelled - Springfield Masonic Center Day
DESCRIPTION:The Springfield Masonic Center Day has been revised to limit attendance to only staff and residents of the Ohio Masonic Home.  Sorry!!
URL:https://morningstar795.org/event/masonic-home-day/
END:VEVENT
END:VCALENDAR