BEGIN:VCALENDAR
VERSION:2.0
PRODID:-//Morning Star 795 - ECPv6.15.20//NONSGML v1.0//EN
CALSCALE:GREGORIAN
METHOD:PUBLISH
X-WR-CALNAME:Morning Star 795
X-ORIGINAL-URL:https://morningstar795.org
X-WR-CALDESC:Events for Morning Star 795
REFRESH-INTERVAL;VALUE=DURATION:PT1H
X-Robots-Tag:noindex
X-PUBLISHED-TTL:PT1H
BEGIN:VTIMEZONE
TZID:America/New_York
BEGIN:DAYLIGHT
TZOFFSETFROM:-0500
TZOFFSETTO:-0400
TZNAME:EDT
DTSTART:20190310T070000
END:DAYLIGHT
BEGIN:STANDARD
TZOFFSETFROM:-0400
TZOFFSETTO:-0500
TZNAME:EST
DTSTART:20191103T060000
END:STANDARD
BEGIN:DAYLIGHT
TZOFFSETFROM:-0500
TZOFFSETTO:-0400
TZNAME:EDT
DTSTART:20200308T070000
END:DAYLIGHT
BEGIN:STANDARD
TZOFFSETFROM:-0400
TZOFFSETTO:-0500
TZNAME:EST
DTSTART:20201101T060000
END:STANDARD
BEGIN:DAYLIGHT
TZOFFSETFROM:-0500
TZOFFSETTO:-0400
TZNAME:EDT
DTSTART:20210314T070000
END:DAYLIGHT
BEGIN:STANDARD
TZOFFSETFROM:-0400
TZOFFSETTO:-0500
TZNAME:EST
DTSTART:20211107T060000
END:STANDARD
BEGIN:DAYLIGHT
TZOFFSETFROM:-0500
TZOFFSETTO:-0400
TZNAME:EDT
DTSTART:20220313T070000
END:DAYLIGHT
BEGIN:STANDARD
TZOFFSETFROM:-0400
TZOFFSETTO:-0500
TZNAME:EST
DTSTART:20221106T060000
END:STANDARD
BEGIN:DAYLIGHT
TZOFFSETFROM:-0500
TZOFFSETTO:-0400
TZNAME:EDT
DTSTART:20230312T070000
END:DAYLIGHT
BEGIN:STANDARD
TZOFFSETFROM:-0400
TZOFFSETTO:-0500
TZNAME:EST
DTSTART:20231105T060000
END:STANDARD
END:VTIMEZONE
BEGIN:VEVENT
DTSTART;TZID=America/New_York:20220103T100000
DTEND;TZID=America/New_York:20220103T113000
DTSTAMP:20260425T121821
CREATED:20220102T202344Z
LAST-MODIFIED:20220102T202344Z
UID:767-1641204000-1641209400@morningstar795.org
SUMMARY:Stated Meeting January 3rd 2022
DESCRIPTION:Meeting at New Carlisle 100 at 10am
URL:https://morningstar795.org/event/stated-meeting-january-3rd-2022/
LOCATION:New Carlisle Lodge 100\, 110 South Main Street\, New Carlisle\, OH\, 45344\, United States
CATEGORIES:Stated Meetings
END:VEVENT
BEGIN:VEVENT
DTSTART;TZID=America/New_York:20211206T100000
DTEND;TZID=America/New_York:20211206T120000
DTSTAMP:20260425T121821
CREATED:20211205T170353Z
LAST-MODIFIED:20211205T170353Z
UID:756-1638784800-1638792000@morningstar795.org
SUMMARY:Stated Meeting December 6th 2021
DESCRIPTION:Stated Meeting is Monday\, December 6 at 10 AM at New Carlisle Lodge # 100.  We’ll be going out for lunch afterwards.  Hope to see you there!
URL:https://morningstar795.org/event/stated-meeting-december-6th-2021/
LOCATION:New Carlisle Lodge 100\, 110 South Main Street\, New Carlisle\, OH\, 45344\, United States
CATEGORIES:Stated Meetings
END:VEVENT
BEGIN:VEVENT
DTSTART;TZID=America/New_York:20211101T100000
DTEND;TZID=America/New_York:20211101T120000
DTSTAMP:20260425T121821
CREATED:20211018T180110Z
LAST-MODIFIED:20211018T180110Z
UID:747-1635760800-1635768000@morningstar795.org
SUMMARY:Annual Meeting November 1st 2021
DESCRIPTION:Annual Meeting. We will be meeting at New Carlisle Lodge
URL:https://morningstar795.org/event/annual-meeting-november-1st-2021/
LOCATION:New Carlisle Lodge 100\, 110 South Main Street\, New Carlisle\, OH\, 45344\, United States
CATEGORIES:Stated Meetings
END:VEVENT
BEGIN:VEVENT
DTSTART;TZID=America/New_York:20211025T100000
DTEND;TZID=America/New_York:20211025T113000
DTSTAMP:20260425T121821
CREATED:20211017T165418Z
LAST-MODIFIED:20211018T175958Z
UID:743-1635156000-1635161400@morningstar795.org
SUMMARY:cancelled - Special Meeting October 25th 2021 (tentative)
DESCRIPTION:Special Meeting October 25th 2021 (tentative) \nNew Carlisle Lodge
URL:https://morningstar795.org/event/special-meeting-october-25th-2021-tentative/
LOCATION:New Carlisle Lodge 100\, 110 South Main Street\, New Carlisle\, OH\, 45344\, United States
CATEGORIES:Special Meetings
END:VEVENT
BEGIN:VEVENT
DTSTART;TZID=America/New_York:20211018T100000
DTEND;TZID=America/New_York:20211018T113000
DTSTAMP:20260425T121821
CREATED:20211017T165306Z
LAST-MODIFIED:20211018T175938Z
UID:741-1634551200-1634556600@morningstar795.org
SUMMARY:cancelled - Special Meeting October 18th 2021
DESCRIPTION:Special Meeting October 18th 2021 \nNew Carlisle Lodge
URL:https://morningstar795.org/event/special-meeting-october-18th-2021/
LOCATION:New Carlisle Lodge 100\, 110 South Main Street\, New Carlisle\, OH\, 45344\, United States
CATEGORIES:Special Meetings
END:VEVENT
BEGIN:VEVENT
DTSTART;TZID=America/New_York:20211004T100000
DTEND;TZID=America/New_York:20211004T120000
DTSTAMP:20260425T121821
CREATED:20210905T162250Z
LAST-MODIFIED:20210905T162250Z
UID:734-1633341600-1633348800@morningstar795.org
SUMMARY:Stated Meeting October 4th 2021
DESCRIPTION:Stated Meeting @ 10 AM at New Carlisle Lodge # 100 – last Stated Meeting before Annual Meeting – business held over from September 20 meeting will be completed at this meeting.
URL:https://morningstar795.org/event/stated-meeting-october-4th-2021/
LOCATION:New Carlisle Lodge 100\, 110 South Main Street\, New Carlisle\, OH\, 45344\, United States
CATEGORIES:Stated Meetings
END:VEVENT
BEGIN:VEVENT
DTSTART;VALUE=DATE:20211002
DTEND;VALUE=DATE:20211003
DTSTAMP:20260425T121821
CREATED:20210905T162148Z
LAST-MODIFIED:20210905T162148Z
UID:732-1633132800-1633219199@morningstar795.org
SUMMARY:One Day Class October 2nd 2021
DESCRIPTION:(tentative) – One Day Class with New Carlisle Lodge # 100 – we will confer the M.M. degree
URL:https://morningstar795.org/event/one-day-class-october-2nd-2021/
LOCATION:OH
CATEGORIES:Grand Lodge Event
END:VEVENT
BEGIN:VEVENT
DTSTART;TZID=America/New_York:20210920T100000
DTEND;TZID=America/New_York:20210920T120000
DTSTAMP:20260425T121821
CREATED:20210905T162043Z
LAST-MODIFIED:20210905T162043Z
UID:730-1632132000-1632139200@morningstar795.org
SUMMARY:Stated Meeting September 20th 2021
DESCRIPTION:Stated Meeting @ 10 AM at New Carlisle Lodge # 100 – business will be postponed in order to have a Full Form practice of M.M. Degree
URL:https://morningstar795.org/event/stated-meeting-september-20th-2021/
LOCATION:New Carlisle Lodge 100\, 110 South Main Street\, New Carlisle\, OH\, 45344\, United States
CATEGORIES:Stated Meetings
END:VEVENT
BEGIN:VEVENT
DTSTART;VALUE=DATE:20210830
DTEND;VALUE=DATE:20210831
DTSTAMP:20260425T121821
CREATED:20210414T234634Z
LAST-MODIFIED:20210414T234634Z
UID:687-1630281600-1630367999@morningstar795.org
SUMMARY:Craft Club Outing August 30th 2021
DESCRIPTION:Need ideas on where Brethren would like to go!
URL:https://morningstar795.org/event/craft-club-outing-august-30th-2021/
LOCATION:OH
CATEGORIES:Craft Club
END:VEVENT
BEGIN:VEVENT
DTSTART;TZID=America/New_York:20210822T120000
DTEND;TZID=America/New_York:20210822T160000
DTSTAMP:20260425T121821
CREATED:20210516T162316Z
LAST-MODIFIED:20210516T162316Z
UID:714-1629633600-1629648000@morningstar795.org
SUMMARY:District Family Picnic August 22nd 2021
DESCRIPTION:Ninth District Family Picnic\, open to all Masons & families in the Ninth District at RWB Scott Johnson’s house.
URL:https://morningstar795.org/event/district-family-picnic-august-22nd-2021/
LOCATION:OH
CATEGORIES:District Events
END:VEVENT
BEGIN:VEVENT
DTSTART;TZID=America/New_York:20210802T100000
DTEND;TZID=America/New_York:20210802T113000
DTSTAMP:20260425T121821
CREATED:20210516T162202Z
LAST-MODIFIED:20210516T162202Z
UID:712-1627898400-1627903800@morningstar795.org
SUMMARY:Stated Meeting August 2nd 2021
DESCRIPTION:Stated Meeting at 10 AM at New Carlisle Lodge # 100.
URL:https://morningstar795.org/event/stated-meeting-august-2nd-2021/
LOCATION:New Carlisle Lodge 100\, 110 South Main Street\, New Carlisle\, OH\, 45344\, United States
CATEGORIES:Stated Meetings
END:VEVENT
BEGIN:VEVENT
DTSTART;VALUE=DATE:20210724
DTEND;VALUE=DATE:20210725
DTSTAMP:20260425T121821
CREATED:20210328T140211Z
LAST-MODIFIED:20210414T230706Z
UID:680-1627084800-1627171199@morningstar795.org
SUMMARY:One Day Class July 24th 2021
DESCRIPTION:There is a One-Day Class coming! The date is July 24 and we’ll be working in conjunction with New Carlisle Lodge # 100 and Mt Olivet Lodge # 226. It will be an “Outdoor” degree. \n\n\n\nIt is held on the private property of a member of Mt Olivet Lodge near Christiansburg. Lunch will be provided at a cost of $10 per person and in case of rain\, the One Day Class will be held at New Carlisle Lodge # 100. Bring your own lawn chair and bug spray – it’s really a fun day. We will need to know if you are going\, and have your meal money by our Stated Meeting in June so we can get an accurate head count for the event.
URL:https://morningstar795.org/event/one-day-class-july-24th-2021/
LOCATION:OH
CATEGORIES:Special Meetings
END:VEVENT
BEGIN:VEVENT
DTSTART;TZID=America/New_York:20210719T100000
DTEND;TZID=America/New_York:20210719T113000
DTSTAMP:20260425T121821
CREATED:20210516T161957Z
LAST-MODIFIED:20210516T161957Z
UID:710-1626688800-1626694200@morningstar795.org
SUMMARY:Stated Meeting July 19th 2021
DESCRIPTION:Stated Meeting at 10 AM at New Carlisle Lodge # 100 – note date change because July 4th will be celebrated on Monday July 5th.
URL:https://morningstar795.org/event/stated-meeting-july-19th-2021/
LOCATION:New Carlisle Lodge 100\, 110 South Main Street\, New Carlisle\, OH\, 45344\, United States
CATEGORIES:Stated Meetings
END:VEVENT
BEGIN:VEVENT
DTSTART;TZID=America/New_York:20210717T080000
DTEND;TZID=America/New_York:20210717T170000
DTSTAMP:20260425T121821
CREATED:20210516T161833Z
LAST-MODIFIED:20210516T161833Z
UID:708-1626508800-1626541200@morningstar795.org
SUMMARY:District Golf Scramble July 17th 2021
DESCRIPTION:Ninth District Golf Scramble at Locust Hills Golf Course at 8 AM
URL:https://morningstar795.org/event/district-golf-scramble-july-17th-2021/
LOCATION:OH
CATEGORIES:District Events
END:VEVENT
BEGIN:VEVENT
DTSTART;TZID=America/New_York:20210621T100000
DTEND;TZID=America/New_York:20210621T120000
DTSTAMP:20260425T121821
CREATED:20210414T235539Z
LAST-MODIFIED:20210516T161721Z
UID:695-1624269600-1624276800@morningstar795.org
SUMMARY:Special Meeting June 21st 2021
DESCRIPTION:Special Meeting at 10 AM at New Carlisle Lodge # 100 for a Full Form practice of E.A. Degree
URL:https://morningstar795.org/event/special-meeting-june-21st-2021/
LOCATION:New Carlisle Lodge 100\, 110 South Main Street\, New Carlisle\, OH\, 45344\, United States
CATEGORIES:Special Meetings
END:VEVENT
BEGIN:VEVENT
DTSTART;TZID=America/New_York:20210607T100000
DTEND;TZID=America/New_York:20210607T120000
DTSTAMP:20260425T121821
CREATED:20210414T235342Z
LAST-MODIFIED:20210516T161638Z
UID:693-1623060000-1623067200@morningstar795.org
SUMMARY:Stated Meeting June 7th\, 2021
DESCRIPTION:Officer Move up day. \nStated Meeting at 10 AM at New Carlisle Lodge # 100.
URL:https://morningstar795.org/event/stated-meeting-june-7th-2021/
LOCATION:New Carlisle Lodge 100\, 110 South Main Street\, New Carlisle\, OH\, 45344\, United States
CATEGORIES:Stated Meetings
END:VEVENT
BEGIN:VEVENT
DTSTART;TZID=America/New_York:20210605T173000
DTEND;TZID=America/New_York:20210605T200000
DTSTAMP:20260425T121821
CREATED:20210516T161541Z
LAST-MODIFIED:20210516T161541Z
UID:704-1622914200-1622923200@morningstar795.org
SUMMARY:Grand Master's Reception June 5th 2021
DESCRIPTION:Grand Master’s Reception at 5:30 PM at Marriott Hotel in Springfield
URL:https://morningstar795.org/event/grand-masters-reception-june-5th-2021/
LOCATION:OH
CATEGORIES:District Events
END:VEVENT
BEGIN:VEVENT
DTSTART;TZID=America/New_York:20210605T103000
DTEND;TZID=America/New_York:20210605T113000
DTSTAMP:20260425T121821
CREATED:20210516T161405Z
LAST-MODIFIED:20210516T161405Z
UID:702-1622889000-1622892600@morningstar795.org
SUMMARY:Reconsecration Springfield June 5th 2021
DESCRIPTION:Reconsecration Ceremony at 10:30 AM at Springfield Masonic Temple – Anthony Lodge # 455 – 150 years & H S Kissell Lodge # 674 – 100 years.
URL:https://morningstar795.org/event/reconsecration-springfield-june-5th-2021/
LOCATION:Anthony Lodge 455\, 125 W. High Street\, Springfield\, OH\, 45502\, United States
CATEGORIES:Grand Lodge Event
END:VEVENT
BEGIN:VEVENT
DTSTART;TZID=America/New_York:20210517T193000
DTEND;TZID=America/New_York:20210517T213000
DTSTAMP:20260425T121821
CREATED:20210414T230904Z
LAST-MODIFIED:20210414T230904Z
UID:685-1621279800-1621287000@morningstar795.org
SUMMARY:District Meeting May 17th 2021
DESCRIPTION:The District meeting is also coming up next month – May 17th at Fielding Lodge\, starting at 7:30 PM. That meeting is open to all Master Masons.
URL:https://morningstar795.org/event/district-meeting-may-17th-2021/
LOCATION:Fielding Lodge 192\, 4 West Mound Street\, South Charleston\, OH\, 45368\, United States
CATEGORIES:District Events
END:VEVENT
BEGIN:VEVENT
DTSTART;TZID=America/New_York:20210517T100000
DTEND;TZID=America/New_York:20210517T120000
DTSTAMP:20260425T121821
CREATED:20210414T234909Z
LAST-MODIFIED:20210516T161130Z
UID:691-1621245600-1621252800@morningstar795.org
SUMMARY:Special Meeting May 17th 2021
DESCRIPTION:Special Meeting at 10 AM at New Carlisle Lodge # 100 to practice the first section of the E.A. Degree
URL:https://morningstar795.org/event/special-meeting-may-17th-2021/
LOCATION:New Carlisle Lodge 100\, 110 South Main Street\, New Carlisle\, OH\, 45344\, United States
CATEGORIES:Special Meetings
END:VEVENT
BEGIN:VEVENT
DTSTART;TZID=America/New_York:20210503T100000
DTEND;TZID=America/New_York:20210503T120000
DTSTAMP:20260425T121821
CREATED:20210414T234810Z
LAST-MODIFIED:20210414T234810Z
UID:689-1620036000-1620043200@morningstar795.org
SUMMARY:Stated Meeting May 3rd 2021
DESCRIPTION:At the Springfield Masonic Temple
URL:https://morningstar795.org/event/stated-meeting-may-3rd-2021/
LOCATION:OH
CATEGORIES:Stated Meetings
END:VEVENT
BEGIN:VEVENT
DTSTART;TZID=America/New_York:20210329T113000
DTEND;TZID=America/New_York:20210329T123000
DTSTAMP:20260425T121821
CREATED:20210328T140032Z
LAST-MODIFIED:20210328T140032Z
UID:678-1617017400-1617021000@morningstar795.org
SUMMARY:Craft Club Outing March 29th 2021
DESCRIPTION:Brethren\, the Craft Club is “Hitting The Road” on Monday\, March 29. We’re going to “The Pub”\, located in “The Green” in Beavercreek. We are meeting there for lunch at 11:30. Transportation and lunch are on your own\, wives are welcome and they have some of the best fish & chips you’ll ever find (I speak from personal experience)! We hope you can join us there!
URL:https://morningstar795.org/event/craft-club-outing-march-29th-2021/
LOCATION:OH
CATEGORIES:Craft Club
END:VEVENT
BEGIN:VEVENT
DTSTART;TZID=America/New_York:20210320T090000
DTEND;TZID=America/New_York:20210320T120000
DTSTAMP:20260425T121821
CREATED:20210124T184721Z
LAST-MODIFIED:20210308T005316Z
UID:661-1616230800-1616241600@morningstar795.org
SUMMARY:Inspection March 20th 2021
DESCRIPTION:This is our Inspection in the FC degree. \nLocation: New Carlisle Lodge #100
URL:https://morningstar795.org/event/inspection-march-20th-2021/
LOCATION:OH
CATEGORIES:Inspections
END:VEVENT
BEGIN:VEVENT
DTSTART;TZID=America/New_York:20210316T100000
DTEND;TZID=America/New_York:20210316T120000
DTSTAMP:20260425T121821
CREATED:20210314T212842Z
LAST-MODIFIED:20210314T212842Z
UID:674-1615888800-1615896000@morningstar795.org
SUMMARY:FC Degree Practice March 16th 2021 at 10am
DESCRIPTION:Our FC Degree practice\, originally scheduled for Monday\, March 15\, has been changed to Tuesday\, March 16.  Time & place are still the same:  10 AM @ New Carlisle Lodge.  When you come to the lodge on Tuesday\, please use the back door only.
URL:https://morningstar795.org/event/fc-degree-practice-march-16th-2021-at-10am/
LOCATION:New Carlisle Lodge 100\, 110 South Main Street\, New Carlisle\, OH\, 45344\, United States
CATEGORIES:Special Meetings
END:VEVENT
BEGIN:VEVENT
DTSTART;TZID=America/New_York:20210315T123000
DTEND;TZID=America/New_York:20210315T133000
DTSTAMP:20260425T121821
CREATED:20210314T212738Z
LAST-MODIFIED:20210314T212738Z
UID:672-1615811400-1615815000@morningstar795.org
SUMMARY:Masonic Funeral March 1th 2021 at 1PM
DESCRIPTION:We have a Masonic Funeral on Monday\, March 15\, at 1 PM.  It is for Bro Richard Shaw and it will be at Conroy Funeral Home\, 1660 E High Street in Springfield.  Please arrive at the funeral home by 12:30.
URL:https://morningstar795.org/event/masonic-funeral-march-1th-2021-at-1pm/
LOCATION:OH
CATEGORIES:Emergent Meeting
END:VEVENT
BEGIN:VEVENT
DTSTART;TZID=America/New_York:20210301T100000
DTEND;TZID=America/New_York:20210301T120000
DTSTAMP:20260425T121821
CREATED:20210124T184613Z
LAST-MODIFIED:20210124T184613Z
UID:659-1614592800-1614600000@morningstar795.org
SUMMARY:Stated Meeting March 1st 2021
DESCRIPTION:Location to be determined. \nThis is the date of our Pre-Inspection.
URL:https://morningstar795.org/event/stated-meeting-march-1st-2021/
LOCATION:OH
CATEGORIES:Stated Meetings
END:VEVENT
BEGIN:VEVENT
DTSTART;TZID=America/New_York:20210201T100000
DTEND;TZID=America/New_York:20210201T120000
DTSTAMP:20260425T121821
CREATED:20210124T184449Z
LAST-MODIFIED:20210124T184449Z
UID:657-1612173600-1612180800@morningstar795.org
SUMMARY:Stated Meeting February 1st 2021
DESCRIPTION:This is a Stated Meeting that will be held at New Carlisle Lodge #100 at 10am. We will practice the FC degree as well.
URL:https://morningstar795.org/event/stated-meeting-february-1st-2021/
LOCATION:New Carlisle Lodge 100\, 110 South Main Street\, New Carlisle\, OH\, 45344\, United States
CATEGORIES:Stated Meetings
END:VEVENT
BEGIN:VEVENT
DTSTART;TZID=America/New_York:20210104T100000
DTEND;TZID=America/New_York:20210104T110000
DTSTAMP:20260425T121821
CREATED:20210103T182026Z
LAST-MODIFIED:20210103T182026Z
UID:650-1609754400-1609758000@morningstar795.org
SUMMARY:Stated Meeting - January 4th 2021
DESCRIPTION:This will be a virtual meeting via Zoom. Please contact the secretary of the lodge for connection details.
URL:https://morningstar795.org/event/stated-meeting-january-4th-2021/
LOCATION:OH
CATEGORIES:Stated Meetings
END:VEVENT
BEGIN:VEVENT
DTSTART;TZID=America/New_York:20201207T100000
DTEND;TZID=America/New_York:20201207T120000
DTSTAMP:20260425T121821
CREATED:20201115T210425Z
LAST-MODIFIED:20201129T183240Z
UID:630-1607335200-1607342400@morningstar795.org
SUMMARY:Stated Meeting December 7th 2020 (Zoom)
DESCRIPTION:Per GM Edict 2021-3\, we will be holding a virtual stated meeting. Please contact the Secretary for connection details
URL:https://morningstar795.org/event/stated-meeting-december-7th-2020/
LOCATION:OH
CATEGORIES:Stated Meetings
END:VEVENT
BEGIN:VEVENT
DTSTART;VALUE=DATE:20201130
DTEND;VALUE=DATE:20201201
DTSTAMP:20260425T121821
CREATED:20201025T205039Z
LAST-MODIFIED:20201129T183343Z
UID:616-1606694400-1606780799@morningstar795.org
SUMMARY:(Cancelled) Fun Lunch November 30th\, 2020
DESCRIPTION:For the health and safety of all of our members\, the Fun Lunch for November 30th was cancelled
URL:https://morningstar795.org/event/fun-lunch-november-30th-2020/
LOCATION:OH
CATEGORIES:Special Meetings
END:VEVENT
END:VCALENDAR