BEGIN:VCALENDAR
VERSION:2.0
PRODID:-//Morning Star 795 - ECPv6.15.20//NONSGML v1.0//EN
CALSCALE:GREGORIAN
METHOD:PUBLISH
X-ORIGINAL-URL:https://morningstar795.org
X-WR-CALDESC:Events for Morning Star 795
REFRESH-INTERVAL;VALUE=DURATION:PT1H
X-Robots-Tag:noindex
X-PUBLISHED-TTL:PT1H
BEGIN:VTIMEZONE
TZID:America/New_York
BEGIN:DAYLIGHT
TZOFFSETFROM:-0500
TZOFFSETTO:-0400
TZNAME:EDT
DTSTART:20240310T070000
END:DAYLIGHT
BEGIN:STANDARD
TZOFFSETFROM:-0400
TZOFFSETTO:-0500
TZNAME:EST
DTSTART:20241103T060000
END:STANDARD
BEGIN:DAYLIGHT
TZOFFSETFROM:-0500
TZOFFSETTO:-0400
TZNAME:EDT
DTSTART:20250309T070000
END:DAYLIGHT
BEGIN:STANDARD
TZOFFSETFROM:-0400
TZOFFSETTO:-0500
TZNAME:EST
DTSTART:20251102T060000
END:STANDARD
BEGIN:DAYLIGHT
TZOFFSETFROM:-0500
TZOFFSETTO:-0400
TZNAME:EDT
DTSTART:20260308T070000
END:DAYLIGHT
BEGIN:STANDARD
TZOFFSETFROM:-0400
TZOFFSETTO:-0500
TZNAME:EST
DTSTART:20261101T060000
END:STANDARD
BEGIN:DAYLIGHT
TZOFFSETFROM:-0500
TZOFFSETTO:-0400
TZNAME:EDT
DTSTART:20270314T070000
END:DAYLIGHT
BEGIN:STANDARD
TZOFFSETFROM:-0400
TZOFFSETTO:-0500
TZNAME:EST
DTSTART:20271107T060000
END:STANDARD
END:VTIMEZONE
BEGIN:VEVENT
DTSTART;TZID=America/New_York:20251229T080000
DTEND;TZID=America/New_York:20251229T100000
DTSTAMP:20260423T192647
CREATED:20251224T183229Z
LAST-MODIFIED:20251224T183233Z
UID:1411-1766995200-1767002400@morningstar795.org
SUMMARY:5th Monday Pancake Breakfast December 29th 2025
DESCRIPTION:
URL:https://morningstar795.org/event/5th-monday-pancake-breakfast-december-29th-2025/
CATEGORIES:Craft Club
END:VEVENT
BEGIN:VEVENT
DTSTART;TZID=America/New_York:20260105T100000
DTEND;TZID=America/New_York:20260105T120000
DTSTAMP:20260423T192647
CREATED:20251224T183320Z
LAST-MODIFIED:20251224T183322Z
UID:1413-1767607200-1767614400@morningstar795.org
SUMMARY:Stated Meeting January 5th 2026
DESCRIPTION:
URL:https://morningstar795.org/event/stated-meeting-january-5th-2026/
CATEGORIES:Stated Meetings
END:VEVENT
BEGIN:VEVENT
DTSTART;TZID=America/New_York:20260202T100000
DTEND;TZID=America/New_York:20260202T120000
DTSTAMP:20260423T192647
CREATED:20260115T004141Z
LAST-MODIFIED:20260115T004145Z
UID:1417-1770026400-1770033600@morningstar795.org
SUMMARY:Stated Meeting February 2nd 2026
DESCRIPTION:
URL:https://morningstar795.org/event/stated-meeting-february-2nd-2026/
CATEGORIES:Stated Meetings
END:VEVENT
BEGIN:VEVENT
DTSTART;TZID=America/New_York:20260302T100000
DTEND;TZID=America/New_York:20260302T120000
DTSTAMP:20260423T192647
CREATED:20260227T003911Z
LAST-MODIFIED:20260227T003918Z
UID:1427-1772445600-1772452800@morningstar795.org
SUMMARY:Stated Meeting March 2nd 2026
DESCRIPTION:
URL:https://morningstar795.org/event/stated-meeting-march-2nd-2026/
CATEGORIES:Stated Meetings
END:VEVENT
BEGIN:VEVENT
DTSTART;TZID=America/New_York:20260314T090000
DTEND;TZID=America/New_York:20260314T120000
DTSTAMP:20260423T192647
CREATED:20260115T004241Z
LAST-MODIFIED:20260115T004243Z
UID:1419-1773478800-1773489600@morningstar795.org
SUMMARY:Morning Star Inspection March 14th 2026
DESCRIPTION:
URL:https://morningstar795.org/event/morning-star-inspection-march-14th-2026/
CATEGORIES:Inspections
END:VEVENT
BEGIN:VEVENT
DTSTART;TZID=America/New_York:20260330T080000
DTEND;TZID=America/New_York:20260330T100000
DTSTAMP:20260423T192647
CREATED:20260227T004020Z
LAST-MODIFIED:20260227T004022Z
UID:1429-1774857600-1774864800@morningstar795.org
SUMMARY:5th Monday Breakfast March 30th 2026
DESCRIPTION:
URL:https://morningstar795.org/event/5th-monday-breakfast-march-30th-2026/
CATEGORIES:Craft Club
END:VEVENT
BEGIN:VEVENT
DTSTART;TZID=America/New_York:20260406T100000
DTEND;TZID=America/New_York:20260406T120000
DTSTAMP:20260423T192647
CREATED:20260331T213026Z
LAST-MODIFIED:20260331T213030Z
UID:1435-1775469600-1775476800@morningstar795.org
SUMMARY:Stated Meeting April 6th 2026
DESCRIPTION:
URL:https://morningstar795.org/event/stated-meeting-april-6th-2026/
CATEGORIES:Stated Meetings
END:VEVENT
END:VCALENDAR