BEGIN:VCALENDAR
VERSION:2.0
PRODID:-//Morning Star 795 - ECPv6.15.20//NONSGML v1.0//EN
CALSCALE:GREGORIAN
METHOD:PUBLISH
X-WR-CALNAME:Morning Star 795
X-ORIGINAL-URL:https://morningstar795.org
X-WR-CALDESC:Events for Morning Star 795
REFRESH-INTERVAL;VALUE=DURATION:PT1H
X-Robots-Tag:noindex
X-PUBLISHED-TTL:PT1H
BEGIN:VTIMEZONE
TZID:America/New_York
BEGIN:DAYLIGHT
TZOFFSETFROM:-0500
TZOFFSETTO:-0400
TZNAME:EDT
DTSTART:20230312T070000
END:DAYLIGHT
BEGIN:STANDARD
TZOFFSETFROM:-0400
TZOFFSETTO:-0500
TZNAME:EST
DTSTART:20231105T060000
END:STANDARD
BEGIN:DAYLIGHT
TZOFFSETFROM:-0500
TZOFFSETTO:-0400
TZNAME:EDT
DTSTART:20240310T070000
END:DAYLIGHT
BEGIN:STANDARD
TZOFFSETFROM:-0400
TZOFFSETTO:-0500
TZNAME:EST
DTSTART:20241103T060000
END:STANDARD
BEGIN:DAYLIGHT
TZOFFSETFROM:-0500
TZOFFSETTO:-0400
TZNAME:EDT
DTSTART:20250309T070000
END:DAYLIGHT
BEGIN:STANDARD
TZOFFSETFROM:-0400
TZOFFSETTO:-0500
TZNAME:EST
DTSTART:20251102T060000
END:STANDARD
BEGIN:DAYLIGHT
TZOFFSETFROM:-0500
TZOFFSETTO:-0400
TZNAME:EDT
DTSTART:20260308T070000
END:DAYLIGHT
BEGIN:STANDARD
TZOFFSETFROM:-0400
TZOFFSETTO:-0500
TZNAME:EST
DTSTART:20261101T060000
END:STANDARD
BEGIN:DAYLIGHT
TZOFFSETFROM:-0500
TZOFFSETTO:-0400
TZNAME:EDT
DTSTART:20270314T070000
END:DAYLIGHT
BEGIN:STANDARD
TZOFFSETFROM:-0400
TZOFFSETTO:-0500
TZNAME:EST
DTSTART:20271107T060000
END:STANDARD
END:VTIMEZONE
BEGIN:VEVENT
DTSTART;TZID=America/New_York:20260105T100000
DTEND;TZID=America/New_York:20260105T120000
DTSTAMP:20260423T193745
CREATED:20251224T183320Z
LAST-MODIFIED:20251224T183322Z
UID:1413-1767607200-1767614400@morningstar795.org
SUMMARY:Stated Meeting January 5th 2026
DESCRIPTION:
URL:https://morningstar795.org/event/stated-meeting-january-5th-2026/
CATEGORIES:Stated Meetings
END:VEVENT
BEGIN:VEVENT
DTSTART;TZID=America/New_York:20251229T080000
DTEND;TZID=America/New_York:20251229T100000
DTSTAMP:20260423T193745
CREATED:20251224T183229Z
LAST-MODIFIED:20251224T183233Z
UID:1411-1766995200-1767002400@morningstar795.org
SUMMARY:5th Monday Pancake Breakfast December 29th 2025
DESCRIPTION:
URL:https://morningstar795.org/event/5th-monday-pancake-breakfast-december-29th-2025/
CATEGORIES:Craft Club
END:VEVENT
BEGIN:VEVENT
DTSTART;TZID=America/New_York:20251103T100000
DTEND;TZID=America/New_York:20251103T113000
DTSTAMP:20260423T193745
CREATED:20251019T182119Z
LAST-MODIFIED:20251019T182120Z
UID:1395-1762164000-1762169400@morningstar795.org
SUMMARY:Annual Meeting November 3rd 2025
DESCRIPTION:Election of Officers at our Annual Meeting
URL:https://morningstar795.org/event/annual-meeting-november-3rd-2025/
CATEGORIES:Stated Meetings
END:VEVENT
BEGIN:VEVENT
DTSTART;TZID=America/New_York:20251006T100000
DTEND;TZID=America/New_York:20251006T113000
DTSTAMP:20260423T193745
CREATED:20250924T181832Z
LAST-MODIFIED:20250924T181833Z
UID:1390-1759744800-1759750200@morningstar795.org
SUMMARY:Stated Meeting October 6th 2025
DESCRIPTION:
URL:https://morningstar795.org/event/stated-meeting-october-6th-2025/
CATEGORIES:Stated Meetings
END:VEVENT
BEGIN:VEVENT
DTSTART;TZID=America/New_York:20250929T080000
DTEND;TZID=America/New_York:20250929T100000
DTSTAMP:20260423T193745
CREATED:20250908T133759Z
LAST-MODIFIED:20250908T133801Z
UID:1386-1759132800-1759140000@morningstar795.org
SUMMARY:Pancake breakfast September 29 2025
DESCRIPTION:Festival Green House
URL:https://morningstar795.org/event/pancake-breakfast-september-29-2025/
CATEGORIES:Craft Club
END:VEVENT
BEGIN:VEVENT
DTSTART;TZID=America/New_York:20250915T100000
DTEND;TZID=America/New_York:20250915T120000
DTSTAMP:20260423T193745
CREATED:20250908T133549Z
LAST-MODIFIED:20250908T133551Z
UID:1384-1757930400-1757937600@morningstar795.org
SUMMARY:Stated Meeting September 15 2025
DESCRIPTION:
URL:https://morningstar795.org/event/stated-meeting-september-15-2025/
CATEGORIES:Stated Meetings
END:VEVENT
BEGIN:VEVENT
DTSTART;TZID=America/New_York:20250630T080000
DTEND;TZID=America/New_York:20250630T100000
DTSTAMP:20260423T193745
CREATED:20250625T012751Z
LAST-MODIFIED:20250625T012753Z
UID:1372-1751270400-1751277600@morningstar795.org
SUMMARY:5th Monday Breakfast June 30 2025
DESCRIPTION:It is that time again! Pancakes\, sausages\, and who knows what else may show up! This Monday\, June 30\, from 8 to 10 AM\, at the Festival Green\, Morning Star says “good morning” to all at the Springfield Masonic Community by hosting our 5th Monday Breakfast. This is open to all. Bring a guest\, bring family\, bring prospective candidates\, also staff of SMC. All welcomed.We need help! This is an event that many look forward to. Setup begins at 7AM. It may be early yes. But those who set up get fed first if they get done before 8. If you enjoy cooking fantastic. We can use help. Please be ready to help clean up. A big thank you to all who just volunteered and remember that a good craft is working craft.
URL:https://morningstar795.org/event/5th-monday-breakfast-june-30-2025/
CATEGORIES:Craft Club
END:VEVENT
BEGIN:VEVENT
DTSTART;TZID=America/New_York:20250505T100000
DTEND;TZID=America/New_York:20250505T120000
DTSTAMP:20260423T193745
CREATED:20250422T013011Z
LAST-MODIFIED:20250504T160113Z
UID:1363-1746439200-1746446400@morningstar795.org
SUMMARY:Stated Meeting May 5th 2025
DESCRIPTION:We will be conferring the EA degree on two candidates
URL:https://morningstar795.org/event/stated-meeting-may-5th-2025/
CATEGORIES:Stated Meetings
END:VEVENT
BEGIN:VEVENT
DTSTART;TZID=America/New_York:20250331T080000
DTEND;TZID=America/New_York:20250331T100000
DTSTAMP:20260423T193745
CREATED:20250321T004109Z
LAST-MODIFIED:20250321T004110Z
UID:1357-1743408000-1743415200@morningstar795.org
SUMMARY:Awards and Pancakes March 31st 2025
DESCRIPTION:On the 5th Monday\, March 31\, we will be having our 5th Monday Breakfast in the Festival Green shelter house at the OMC Springfield Campus. Breakfast begins at 8 AM and lasts until 10 AM.  All and any are welcomed. Open to all. \n\n\n\nNotice\, however\, that I said AWARDS. At the breakfast at 9 AM\, we will be having our awards ceremony. WM Ken Magill will receive his 60 year award. Bro. Julius James Friis will receive a 70 year award. Spread the word and lets celebrate. \n\n\n\nWe will be needing help. Setup will be at 7:15 AM. This may need more than usual because we are expecting more people. Breakfast will be 8 to 10. The awards at 9. Cleanup will be at 10 or when the crowd leaves. \n\n\n\nDress is casual
URL:https://morningstar795.org/event/awards-and-pancakes-march-31st-2025/
CATEGORIES:Craft Club
END:VEVENT
BEGIN:VEVENT
DTSTART;TZID=America/New_York:20250315T090000
DTEND;TZID=America/New_York:20250315T120000
DTSTAMP:20260423T193745
CREATED:20250206T015322Z
LAST-MODIFIED:20250206T015324Z
UID:1349-1742029200-1742040000@morningstar795.org
SUMMARY:Annual Inspection March 15th 2025
DESCRIPTION:
URL:https://morningstar795.org/event/annual-inspection-march-15th-2025/
CATEGORIES:Inspections
END:VEVENT
BEGIN:VEVENT
DTSTART;TZID=America/New_York:20250310T090000
DTEND;TZID=America/New_York:20250310T120000
DTSTAMP:20260423T193745
CREATED:20250206T015218Z
LAST-MODIFIED:20250206T015219Z
UID:1347-1741597200-1741608000@morningstar795.org
SUMMARY:Special Meeting March 10th 2025
DESCRIPTION:
URL:https://morningstar795.org/event/special-meeting-march-10th-2025/
CATEGORIES:Special Meetings
END:VEVENT
BEGIN:VEVENT
DTSTART;TZID=America/New_York:20250303T100000
DTEND;TZID=America/New_York:20250303T120000
DTSTAMP:20260423T193745
CREATED:20250206T015119Z
LAST-MODIFIED:20250206T015120Z
UID:1345-1740996000-1741003200@morningstar795.org
SUMMARY:Stated Meeting March 3rd 2025
DESCRIPTION:
URL:https://morningstar795.org/event/stated-meeting-march-3rd-2025/
CATEGORIES:Stated Meetings
END:VEVENT
BEGIN:VEVENT
DTSTART;TZID=America/New_York:20250303T090000
DTEND;TZID=America/New_York:20250303T100000
DTSTAMP:20260423T193745
CREATED:20250206T015037Z
LAST-MODIFIED:20250206T015038Z
UID:1343-1740992400-1740996000@morningstar795.org
SUMMARY:Special meeting March 3rd 2025
DESCRIPTION:
URL:https://morningstar795.org/event/special-meeting-march-3rd-2025/
CATEGORIES:Special Meetings
END:VEVENT
BEGIN:VEVENT
DTSTART;TZID=America/New_York:20250224T090000
DTEND;TZID=America/New_York:20250224T110000
DTSTAMP:20260423T193745
CREATED:20250206T014931Z
LAST-MODIFIED:20250206T014931Z
UID:1341-1740387600-1740394800@morningstar795.org
SUMMARY:Special meeting February 24th 2025
DESCRIPTION:
URL:https://morningstar795.org/event/special-meeting-february-24th-2025/
CATEGORIES:Special Meetings
END:VEVENT
BEGIN:VEVENT
DTSTART;TZID=America/New_York:20250217T090000
DTEND;TZID=America/New_York:20250217T100000
DTSTAMP:20260423T193745
CREATED:20250206T014833Z
LAST-MODIFIED:20250206T014834Z
UID:1339-1739782800-1739786400@morningstar795.org
SUMMARY:Special meeting February 17th 2025
DESCRIPTION:
URL:https://morningstar795.org/event/special-meeting-february-17th-2025/
CATEGORIES:Special Meetings
END:VEVENT
BEGIN:VEVENT
DTSTART;TZID=America/New_York:20250210T090000
DTEND;TZID=America/New_York:20250210T100000
DTSTAMP:20260423T193745
CREATED:20250206T014723Z
LAST-MODIFIED:20250206T014725Z
UID:1337-1739178000-1739181600@morningstar795.org
SUMMARY:Special meeting February 10th 2025
DESCRIPTION:
URL:https://morningstar795.org/event/special-meeting-february-10th-2025/
CATEGORIES:Special Meetings
END:VEVENT
BEGIN:VEVENT
DTSTART;TZID=America/New_York:20250120T100000
DTEND;TZID=America/New_York:20250120T120000
DTSTAMP:20260423T193745
CREATED:20250106T004853Z
LAST-MODIFIED:20250106T004855Z
UID:1332-1737367200-1737374400@morningstar795.org
SUMMARY:Stated Meeting January 20th 2025
DESCRIPTION:Alternate date chosen for Stated Meeting due to pending severe winter weather possibility on January 6th.
URL:https://morningstar795.org/event/stated-meeting-january-20th-2025/
CATEGORIES:Stated Meetings
END:VEVENT
BEGIN:VEVENT
DTSTART;TZID=America/New_York:20250106T090000
DTEND;TZID=America/New_York:20250106T113000
DTSTAMP:20260423T193745
CREATED:20241220T010855Z
LAST-MODIFIED:20250106T004658Z
UID:1327-1736154000-1736163000@morningstar795.org
SUMMARY:Rescheduled Stated Meeting January 6th 2025
DESCRIPTION:Due to severe weather possibility\, the Stated Meeting has been moved to the alternate date January 20th! \n\n\n\nAt our next stated on January 6\, we will be busy. We have a petition to vote upon. That means at that meeting we will need to schedule two (2) EAs\, one (one) FC\, and practice dates for our inspection in MM. I am hoping to also have a new petition for first reading.
URL:https://morningstar795.org/event/stated-meeting-january-6th-2025/
CATEGORIES:Stated Meetings
END:VEVENT
BEGIN:VEVENT
DTSTART;TZID=America/New_York:20241230T090000
DTEND;TZID=America/New_York:20241230T110000
DTSTAMP:20260423T193745
CREATED:20241220T010702Z
LAST-MODIFIED:20241220T010704Z
UID:1325-1735549200-1735556400@morningstar795.org
SUMMARY:Pancake Breakfast December 30th
DESCRIPTION:Just a reminder that our next 5th Monday Pancake Breakfast is this month on Monday\, December 30\, at 9 AM until 11 AM. We will need setup beginning 8:15 AM and cleanup following the breakfast. It will be at the Festival Green Clubhouse. The event is open to all – member of MS795\, SMC residents\, SMC staff\, prospective members. Brethren\, I will be honest with you. From what I have been hearing\, this is getting pretty popular and well liked. Let’s have a great turnout.
URL:https://morningstar795.org/event/pancake-breakfast-december-30th/
CATEGORIES:Craft Club
END:VEVENT
BEGIN:VEVENT
DTSTART;TZID=America/New_York:20241202T100000
DTEND;TZID=America/New_York:20241202T120000
DTSTAMP:20260423T193745
CREATED:20241129T215028Z
LAST-MODIFIED:20241129T215032Z
UID:1317-1733133600-1733140800@morningstar795.org
SUMMARY:Stated Meeting December 2nd 2024
DESCRIPTION:
URL:https://morningstar795.org/event/stated-meeting-december-2nd-2024/
CATEGORIES:Stated Meetings
END:VEVENT
BEGIN:VEVENT
DTSTART;TZID=America/New_York:20241118T090000
DTEND;TZID=America/New_York:20241118T103000
DTSTAMP:20260423T193745
CREATED:20241102T232852Z
LAST-MODIFIED:20241102T232854Z
UID:1311-1731920400-1731925800@morningstar795.org
SUMMARY:Installation of Officers November 18 2024
DESCRIPTION:Installation of officers and a short Lodge of Sorrows will be Monday\, November 18\, at 9AM in Burkhardt Auditorium. This is an OPEN installation. We will take the first 10 minutes to hold a short Lodge of Sorrows for those we have lost this year to death. I firmly believe that the last duty of an outgoing master and officer line is to honor those lost on their watch in such a manner. After which the lodge will be turned over to the installing officer. WB Magill has asked MWB Paul Weglage to be installing officer for installation. Please all officers for 2024-2025 plain on attending and being installed even if you are continuing in your office. Refreshments will follow. Dress for officers will be business.
URL:https://morningstar795.org/event/installation-of-officers-november-18-2024/
CATEGORIES:Special Meetings
END:VEVENT
BEGIN:VEVENT
DTSTART;TZID=America/New_York:20241104T100000
DTEND;TZID=America/New_York:20241104T120000
DTSTAMP:20260423T193745
CREATED:20241027T154425Z
LAST-MODIFIED:20241102T232651Z
UID:1307-1730714400-1730721600@morningstar795.org
SUMMARY:Annual Meeting November 4th 2024
DESCRIPTION:Annual Meeting and Election of Officers \n\n\n\nMonday\, November 4\, at 10AM in Burkhardt Auditorium is our stated meeting. It is our annual meeting in which a new line of officers will be elected and appointed. Dress for officers is business. Please think upon in what way\, you can brighten the Light of Freemasonry. It does not have to be as an officer. Look deeply at your joys and talents and see how they can further freemasonry – then make it so.
URL:https://morningstar795.org/event/annual-meeting-november-4th-2024/
CATEGORIES:Stated Meetings
END:VEVENT
BEGIN:VEVENT
DTSTART;TZID=America/New_York:20241007T100000
DTEND;TZID=America/New_York:20241007T120000
DTSTAMP:20260423T193745
CREATED:20240918T223535Z
LAST-MODIFIED:20240918T223536Z
UID:1300-1728295200-1728302400@morningstar795.org
SUMMARY:Stated Meeting October 7th 2024
DESCRIPTION:Next stated meeting is Monday\, October 7\, at 10AM in Burkhardt Auditorium. Officers dress will be business (yes hoping temps get back to normal). There is scheduled for a representative from the Alzheimer’s Association to visit us.
URL:https://morningstar795.org/event/stated-meeting-october-7th-2024/
CATEGORIES:Stated Meetings
END:VEVENT
BEGIN:VEVENT
DTSTART;TZID=America/New_York:20240930T090000
DTEND;TZID=America/New_York:20240930T110000
DTSTAMP:20260423T193745
CREATED:20240902T145558Z
LAST-MODIFIED:20240927T131339Z
UID:1296-1727686800-1727694000@morningstar795.org
SUMMARY:Cancelled: 5th Monday Breakfast September 30 2024
DESCRIPTION:This event has been cancelled for September \n\n\n\nMonday\, September 30 is 5th Monday Breakfast. 9AM to 11AM at the Festival Green Clubhouse. Open to all.Monday\, September 30 is 5th Monday Breakfast. 9AM to 11AM at the Festival Green Clubhouse. Open to all.
URL:https://morningstar795.org/event/5th-monday-breakfast-september-30-2024/
CATEGORIES:Craft Club
END:VEVENT
BEGIN:VEVENT
DTSTART;TZID=America/New_York:20240916T100000
DTEND;TZID=America/New_York:20240916T120000
DTSTAMP:20260423T193745
CREATED:20240625T231712Z
LAST-MODIFIED:20240728T004645Z
UID:1280-1726480800-1726488000@morningstar795.org
SUMMARY:Stated Meeting September 16th 2024
DESCRIPTION:The September meeting will be Past Masters. All MS795 members who are past masters of any lodge recognized by the Grand Lodge of Ohio are to bring the hat they wore as master. If you do not have one\, remember we will not know if the one you bring is the one you wore. Bring a hat anyway to celebrate your year(s) as a master. On a first come-first serve basis\, you may choose an officer’s chair to sit in for that meeting. It will be in lowest degree of member who attends.
URL:https://morningstar795.org/event/stated-meeting-september-16th-2024/
CATEGORIES:Stated Meetings
END:VEVENT
BEGIN:VEVENT
DTSTART;TZID=America/New_York:20240902T080000
DTEND;TZID=America/New_York:20240902T170000
DTSTAMP:20260423T193745
CREATED:20240728T004922Z
LAST-MODIFIED:20240728T004925Z
UID:1287-1725264000-1725296400@morningstar795.org
SUMMARY:Labor Day September 2nd 2024
DESCRIPTION:The September meeting will be the 3rd Monday\, September 16\, at 10 AM. This is because the 1st Monday is Labor day and by our bylaws when a meeting date falls on a national holiday\, the stated meeting goes to the 3rd Monday.
URL:https://morningstar795.org/event/labor-day-september-2nd-2024/
CATEGORIES:Stated Meetings
END:VEVENT
BEGIN:VEVENT
DTSTART;TZID=America/New_York:20240805T100000
DTEND;TZID=America/New_York:20240805T120000
DTSTAMP:20260423T193745
CREATED:20240728T005105Z
LAST-MODIFIED:20240728T005107Z
UID:1289-1722852000-1722859200@morningstar795.org
SUMMARY:Stated Meeting August 5th 2024
DESCRIPTION:Dress for officers is business casual. Brother Don Muncy has agreed to giving a talk about his visit to the 80th Anniversary of Normandy. Also at this meeting\, we will be discussing next year’s officers.
URL:https://morningstar795.org/event/stated-meeting-august-5th-2024/
CATEGORIES:Stated Meetings
END:VEVENT
BEGIN:VEVENT
DTSTART;TZID=America/New_York:20240729T000000
DTEND;TZID=America/New_York:20240729T235959
DTSTAMP:20260423T193745
CREATED:20240625T231514Z
LAST-MODIFIED:20240625T231520Z
UID:1278-1722211200-1722297599@morningstar795.org
SUMMARY:5th Monday Breakfast July 29th 2024
DESCRIPTION:5th Monday Breakfast at the Festival Green scheduled for Monday\, July 29 \n\n\n\nTime of event to be announced later
URL:https://morningstar795.org/event/5th-monday-breakfast-july-29th-2024/
CATEGORIES:Craft Club
END:VEVENT
BEGIN:VEVENT
DTSTART;TZID=America/New_York:20240701T100000
DTEND;TZID=America/New_York:20240701T120000
DTSTAMP:20260423T193745
CREATED:20240623T182437Z
LAST-MODIFIED:20240625T231249Z
UID:1275-1719828000-1719835200@morningstar795.org
SUMMARY:Stated Meeting July 1st 2024
DESCRIPTION:Our next stated meeting is Monday\, July 1\, at 10AM in Burkhardt. The dress for the meeting is business casual. To celebrate the birth of our nation\, patriotic dress is encouraged. This modifies business casual to include t-shirts that are patriotic. Patriotic wear for this will include shirts that honor our Armed Forces\, Law Enforcement. Fire Fighters\, First Responders\, as well as the normal patriotic clothing. Remember\, even though this is an election year\, clothing of a political nature is not to be worn in the lodge room. The education program will be WB Tim Reuber from Mt Olivet Lodge presenting a program on beekeeping. He gave one to us when we were at New Carlisle during Covid. Members of the lodge have requested he do it again. It is well worth seeing. \n\n\n\nAt the July 1 meeting\, we will discuss  our 5th Monday Breakfast at the Festival Green scheduled for Monday\, July 29. We will discuss menu\, job assignments\, and the time of the event. \n\n\n\nLunch in Lindner will follow the meeting.
URL:https://morningstar795.org/event/stated-meeting-july-1st-2024/
CATEGORIES:Stated Meetings
END:VEVENT
BEGIN:VEVENT
DTSTART;TZID=America/New_York:20240617T100000
DTEND;TZID=America/New_York:20240617T120000
DTSTAMP:20260423T193745
CREATED:20240415T013641Z
LAST-MODIFIED:20240506T205133Z
UID:1255-1718618400-1718625600@morningstar795.org
SUMMARY:Special Meeting June 17th 2024
DESCRIPTION:The raising of a Brother will be on Monday\, June 17\, at 10 AM. Please all turn out to welcome a brand-new master mason. Also note that this is the third Monday of the month.
URL:https://morningstar795.org/event/special-meeting-june-17th-2024/
CATEGORIES:Special Meetings
END:VEVENT
END:VCALENDAR