BEGIN:VCALENDAR
VERSION:2.0
PRODID:-//Morning Star 795 - ECPv6.15.20//NONSGML v1.0//EN
CALSCALE:GREGORIAN
METHOD:PUBLISH
X-WR-CALNAME:Morning Star 795
X-ORIGINAL-URL:https://morningstar795.org
X-WR-CALDESC:Events for Morning Star 795
REFRESH-INTERVAL;VALUE=DURATION:PT1H
X-Robots-Tag:noindex
X-PUBLISHED-TTL:PT1H
BEGIN:VTIMEZONE
TZID:America/New_York
BEGIN:DAYLIGHT
TZOFFSETFROM:-0500
TZOFFSETTO:-0400
TZNAME:EDT
DTSTART:20200308T070000
END:DAYLIGHT
BEGIN:STANDARD
TZOFFSETFROM:-0400
TZOFFSETTO:-0500
TZNAME:EST
DTSTART:20201101T060000
END:STANDARD
BEGIN:DAYLIGHT
TZOFFSETFROM:-0500
TZOFFSETTO:-0400
TZNAME:EDT
DTSTART:20210314T070000
END:DAYLIGHT
BEGIN:STANDARD
TZOFFSETFROM:-0400
TZOFFSETTO:-0500
TZNAME:EST
DTSTART:20211107T060000
END:STANDARD
BEGIN:DAYLIGHT
TZOFFSETFROM:-0500
TZOFFSETTO:-0400
TZNAME:EDT
DTSTART:20220313T070000
END:DAYLIGHT
BEGIN:STANDARD
TZOFFSETFROM:-0400
TZOFFSETTO:-0500
TZNAME:EST
DTSTART:20221106T060000
END:STANDARD
BEGIN:DAYLIGHT
TZOFFSETFROM:-0500
TZOFFSETTO:-0400
TZNAME:EDT
DTSTART:20230312T070000
END:DAYLIGHT
BEGIN:STANDARD
TZOFFSETFROM:-0400
TZOFFSETTO:-0500
TZNAME:EST
DTSTART:20231105T060000
END:STANDARD
BEGIN:DAYLIGHT
TZOFFSETFROM:-0500
TZOFFSETTO:-0400
TZNAME:EDT
DTSTART:20240310T070000
END:DAYLIGHT
BEGIN:STANDARD
TZOFFSETFROM:-0400
TZOFFSETTO:-0500
TZNAME:EST
DTSTART:20241103T060000
END:STANDARD
END:VTIMEZONE
BEGIN:VEVENT
DTSTART;TZID=America/New_York:20231106T100000
DTEND;TZID=America/New_York:20231106T120000
DTSTAMP:20260424T162556
CREATED:20230404T054713Z
LAST-MODIFIED:20231117T034659Z
UID:1038-1699264800-1699272000@morningstar795.org
SUMMARY:Morning Star #795 - Annual Meeting
DESCRIPTION:Annual Meeting and Election of Officers \n\n\n\nCoffee and doughnuts beginning around 9am. Everyone is invited to stay for lunch at the Ohio Masonic Home Community Center after the meeting. \n\n\n\nFor those who have not attended a meeting in Rickly Commons recently and who do not live at the Ohio Masonic Home\, please park behind the building\, as parking in front is extremely limited. There is an intercom buzzer at the back door\, and an elevator to the auditorium on the second floor. If you need a little extra assistance\, please reach out to one of the lodge officers before the meeting so that we can make certain to extend a warm welcome.
URL:https://morningstar795.org/event/morning-star-795-annual-meeting/
LOCATION:Burkhart Auditorium\, Rickly Commons\, on the campus of the Ohio Masonic Home\, 2655 W National Rd\, Springfield\, Ohio\, 45504\, United States
CATEGORIES:Stated Meetings
END:VEVENT
BEGIN:VEVENT
DTSTART;TZID=America/New_York:20231002T100000
DTEND;TZID=America/New_York:20231002T120000
DTSTAMP:20260424T162556
CREATED:20230404T053842Z
LAST-MODIFIED:20231117T034742Z
UID:1032-1696240800-1696248000@morningstar795.org
SUMMARY:Morning Star #795 - Stated Meeting
DESCRIPTION:Coffee and doughnuts beginning around 9am. Everyone is invited to stay for lunch at the Ohio Masonic Home Community Center after the meeting. \n\n\n\nFor those who have not attended a lodge meeting in Rickly Manor recently and who do not live at the Ohio Masonic Home\, please park behind the building\, as parking in front is extremely limited. There is an intercom buzzer at the back door\, and an elevator to the auditorium on the second floor. If you need a little extra assistance\, please reach out to one of the lodge officers before the meeting so that we can make certain to extend a warm welcome.
URL:https://morningstar795.org/event/morning-star-795-stated-meeting-6/
LOCATION:Burkhart Auditorium\, Rickly Commons\, on the campus of the Ohio Masonic Home\, 2655 W National Rd\, Springfield\, Ohio\, 45504\, United States
CATEGORIES:Stated Meetings
END:VEVENT
BEGIN:VEVENT
DTSTART;TZID=America/New_York:20230918T090000
DTEND;TZID=America/New_York:20230918T120000
DTSTAMP:20260424T162556
CREATED:20230404T053410Z
LAST-MODIFIED:20231117T034743Z
UID:1027-1695027600-1695038400@morningstar795.org
SUMMARY:Morning Star #795 - Stated Meeting
DESCRIPTION:Special Meeting at 9am for MM degree \n\n\n\nSeptember Stated Meetings are held the 3rd Monday of the month due to the observance of Labor Day. \n\n\n\nEveryone is invited to stay for lunch at the Ohio Masonic Home Community Center after the meeting. \n\n\n\nFor those who have not attended a meeting in Rickly Commons recently and who do not live at the Ohio Masonic Home\, please park behind the building\, as parking in front is extremely limited. There is an intercom buzzer at the back door\, and an elevator to the auditorium on the second floor. If you need a little extra assistance\, please reach out to one of the lodge officers before the meeting so that we can make certain to extend a warm welcome.
URL:https://morningstar795.org/event/morning-star-795-stated-meeting-5/
LOCATION:Burkhart Auditorium\, Rickly Commons\, on the campus of the Ohio Masonic Home\, 2655 W National Rd\, Springfield\, Ohio\, 45504\, United States
CATEGORIES:Stated Meetings
END:VEVENT
BEGIN:VEVENT
DTSTART;TZID=America/New_York:20230821T090000
DTEND;TZID=America/New_York:20230821T120000
DTSTAMP:20260424T162556
CREATED:20230816T172913Z
LAST-MODIFIED:20230816T172914Z
UID:1185-1692608400-1692619200@morningstar795.org
SUMMARY:MM Degree
DESCRIPTION:We need can use your assistance and would love to see you there
URL:https://morningstar795.org/event/mm-degree/
CATEGORIES:Stated Meetings
END:VEVENT
BEGIN:VEVENT
DTSTART;TZID=America/New_York:20230807T100000
DTEND;TZID=America/New_York:20230807T120000
DTSTAMP:20260424T162556
CREATED:20230404T051515Z
LAST-MODIFIED:20231117T034743Z
UID:1019-1691402400-1691409600@morningstar795.org
SUMMARY:Morning Star #795 - Stated Meeting
DESCRIPTION:Coffee and doughnuts beginning around 9am. Everyone is invited to stay for lunch at the Ohio Masonic Home Community Center after the meeting. \n\n\n\nFor those who have not attended a meeting in Rickly Commons recently and who do not live at the Ohio Masonic Home\, please park behind the building\, as parking in front is extremely limited. There is an intercom buzzer at the back door\, and an elevator to the auditorium on the second floor. If you need a little extra assistance\, please reach out to one of the lodge officers before the meeting so that we can make certain to extend a warm welcome.
URL:https://morningstar795.org/event/morning-star-795-stated-meeting-4/
LOCATION:Burkhart Auditorium\, Rickly Commons\, on the campus of the Ohio Masonic Home\, 2655 W National Rd\, Springfield\, Ohio\, 45504\, United States
CATEGORIES:Stated Meetings
END:VEVENT
BEGIN:VEVENT
DTSTART;TZID=America/New_York:20230703T100000
DTEND;TZID=America/New_York:20230703T120000
DTSTAMP:20260424T162556
CREATED:20230404T051005Z
LAST-MODIFIED:20231117T034826Z
UID:1015-1688378400-1688385600@morningstar795.org
SUMMARY:Morning Star #795 - Stated Meeting
DESCRIPTION:Coffee and doughnuts beginning around 9am. Everyone is invited to stay for lunch at the Ohio Masonic Home Community Center after the meeting. \n\n\n\nFor those who have not attended a meeting in Rickly Commons recently and who do not live at the Ohio Masonic Home\, please park behind the building\, as parking in front is extremely limited. There is an intercom buzzer at the back door\, and an elevator to the auditorium on the second floor. If you need a little extra assistance\, please reach out to one of the lodge officers before the meeting so that we can make certain to extend a warm welcome.
URL:https://morningstar795.org/event/morning-star-795-stated-meeting-3/
LOCATION:Burkhart Auditorium\, Rickly Commons\, on the campus of the Ohio Masonic Home\, 2655 W National Rd\, Springfield\, Ohio\, 45504\, United States
CATEGORIES:Stated Meetings
END:VEVENT
BEGIN:VEVENT
DTSTART;TZID=America/New_York:20230605T100000
DTEND;TZID=America/New_York:20230605T120000
DTSTAMP:20260424T162556
CREATED:20230404T044633Z
LAST-MODIFIED:20231117T034826Z
UID:999-1685959200-1685966400@morningstar795.org
SUMMARY:Morning Star #795 - Stated Meeting
DESCRIPTION:Coffee and doughnuts beginning around 9am. Everyone is invited to stay for lunch at the Ohio Masonic Home Community Center after the meeting. \n\n\n\nFor those who have not attended a lodge meeting in Rickly Manor recently and who do not live at the Ohio Masonic Home\, please park behind the building\, as parking in front is extremely limited. There is an intercom buzzer at the back door\, and an elevator to the auditorium on the second floor. If you need a little extra assistance\, please reach out to one of the lodge officers before the meeting so that we can make certain to extend a warm welcome.
URL:https://morningstar795.org/event/morning-star-795-stated-meeting-2/
LOCATION:Burkhart Auditorium\, Rickly Commons\, on the campus of the Ohio Masonic Home\, 2655 W National Rd\, Springfield\, Ohio\, 45504\, United States
CATEGORIES:Stated Meetings
END:VEVENT
BEGIN:VEVENT
DTSTART;TZID=America/New_York:20230501T100000
DTEND;TZID=America/New_York:20230501T120000
DTSTAMP:20260424T162556
CREATED:20230404T043502Z
LAST-MODIFIED:20231117T034826Z
UID:991-1682935200-1682942400@morningstar795.org
SUMMARY:Morning Star #795 - Stated Meeting
DESCRIPTION:Coffee and doughnuts beginning around 9am.  Everyone is invited to stay for lunch at the Ohio Masonic Home Community Center after the meeting. \n\n\n\nFor those who have not attended a meeting in Rickly Commons recently and who do not live at the Ohio Masonic Home\, please park behind the building\, as parking in front is extremely limited. There is an intercom buzzer at the back door\, and an elevator to the auditorium on the second floor. If you need a little extra assistance\, please reach out to one of the lodge officers before the meeting so that we can make certain to extend a warm welcome.
URL:https://morningstar795.org/event/morning-star-795-stated-meeting/
LOCATION:Burkhart Auditorium\, Rickly Commons\, on the campus of the Ohio Masonic Home\, 2655 W National Rd\, Springfield\, Ohio\, 45504\, United States
CATEGORIES:Stated Meetings
END:VEVENT
BEGIN:VEVENT
DTSTART;TZID=America/New_York:20230403T100000
DTEND;TZID=America/New_York:20230403T120000
DTSTAMP:20260424T162556
CREATED:20230403T000740Z
LAST-MODIFIED:20230403T000741Z
UID:967-1680516000-1680523200@morningstar795.org
SUMMARY:Stated Meeting April 3rd 2023
DESCRIPTION:
URL:https://morningstar795.org/event/stated-meeting-april-3rd-2023/
LOCATION:Ohio Masonic Home\, 2655 W. National Road\, Springfield\, OH\, 45504\, United States
CATEGORIES:Stated Meetings
END:VEVENT
BEGIN:VEVENT
DTSTART;TZID=America/New_York:20230206T100000
DTEND;TZID=America/New_York:20230206T113000
DTSTAMP:20260424T162556
CREATED:20230102T040538Z
LAST-MODIFIED:20230102T040727Z
UID:925-1675677600-1675683000@morningstar795.org
SUMMARY:Stated Meeting February 6th 2023
DESCRIPTION:
URL:https://morningstar795.org/event/stated-meeting-february-6th-2023/
CATEGORIES:Stated Meetings
END:VEVENT
BEGIN:VEVENT
DTSTART;TZID=America/New_York:20230116T100000
DTEND;TZID=America/New_York:20230116T120000
DTSTAMP:20260424T162556
CREATED:20221229T165313Z
LAST-MODIFIED:20221229T165314Z
UID:907-1673863200-1673870400@morningstar795.org
SUMMARY:Stated Meeting January 16th 2023
DESCRIPTION:Ohio Masonic Home Shelter House
URL:https://morningstar795.org/event/stated-meeting-january-16th-2023/
CATEGORIES:Stated Meetings
END:VEVENT
BEGIN:VEVENT
DTSTART;TZID=America/New_York:20221205T100000
DTEND;TZID=America/New_York:20221205T120000
DTSTAMP:20260424T162556
CREATED:20221014T184633Z
LAST-MODIFIED:20221014T184633Z
UID:893-1670234400-1670241600@morningstar795.org
SUMMARY:Stated Meeting December 5th 2022
DESCRIPTION:
URL:https://morningstar795.org/event/stated-meeting-december-5th-2022/
CATEGORIES:Stated Meetings
END:VEVENT
BEGIN:VEVENT
DTSTART;TZID=America/New_York:20221107T100000
DTEND;TZID=America/New_York:20221107T120000
DTSTAMP:20260424T162556
CREATED:20221014T184224Z
LAST-MODIFIED:20221030T180750Z
UID:889-1667815200-1667822400@morningstar795.org
SUMMARY:Annual Meeting November 7th 2022
DESCRIPTION:Festival Green Clubhouse \n\n\n\nNote: Annual dues should be turned in by this date (Masonic Home residents DO NOT pay dues)
URL:https://morningstar795.org/event/annual-meeting-november-7th-2022/
CATEGORIES:Stated Meetings
END:VEVENT
BEGIN:VEVENT
DTSTART;TZID=America/New_York:20221003T100000
DTEND;TZID=America/New_York:20221003T113000
DTSTAMP:20260424T162556
CREATED:20220904T145751Z
LAST-MODIFIED:20221002T162141Z
UID:861-1664791200-1664796600@morningstar795.org
SUMMARY:Stated Meeting October 3rd 2022
DESCRIPTION:At the Festival Greenhouse!\n\nWelcome home brothers
URL:https://morningstar795.org/event/stated-meeting-october-3rd-2022/
LOCATION:Ohio Masonic Home\, 2655 W. National Road\, Springfield\, OH\, 45504\, United States
CATEGORIES:Stated Meetings
END:VEVENT
BEGIN:VEVENT
DTSTART;TZID=America/New_York:20220919T100000
DTEND;TZID=America/New_York:20220919T113000
DTSTAMP:20260424T162556
CREATED:20220904T144747Z
LAST-MODIFIED:20220904T144747Z
UID:857-1663581600-1663587000@morningstar795.org
SUMMARY:Stated Meeting September 19th 2022
DESCRIPTION:At the Festival Greenhouse on OHM Campus!!! \nWelcome home brothers
URL:https://morningstar795.org/event/stated-meeting-september-19th-2022/
LOCATION:Ohio Masonic Home\, 2655 W. National Road\, Springfield\, OH\, 45504\, United States
CATEGORIES:Stated Meetings
END:VEVENT
BEGIN:VEVENT
DTSTART;TZID=America/New_York:20220718T100000
DTEND;TZID=America/New_York:20220718T113000
DTSTAMP:20260424T162556
CREATED:20220626T193237Z
LAST-MODIFIED:20220626T193237Z
UID:839-1658138400-1658143800@morningstar795.org
SUMMARY:Stated Meeting July 18th 2022
DESCRIPTION:
URL:https://morningstar795.org/event/stated-meeting-july-18th-2022/
CATEGORIES:Stated Meetings
END:VEVENT
BEGIN:VEVENT
DTSTART;TZID=America/New_York:20220606T100000
DTEND;TZID=America/New_York:20220606T120000
DTSTAMP:20260424T162556
CREATED:20220523T011448Z
LAST-MODIFIED:20220523T011448Z
UID:829-1654509600-1654516800@morningstar795.org
SUMMARY:Stated Meeting June 6th 2022
DESCRIPTION:FC practice \nHeld at New Carlisle Lodge 100
URL:https://morningstar795.org/event/stated-meeting-june-6th-2022/
LOCATION:New Carlisle Lodge 100\, 110 South Main Street\, New Carlisle\, OH\, 45344\, United States
CATEGORIES:Stated Meetings
END:VEVENT
BEGIN:VEVENT
DTSTART;TZID=America/New_York:20220404T100000
DTEND;TZID=America/New_York:20220404T113000
DTSTAMP:20260424T162556
CREATED:20220322T015318Z
LAST-MODIFIED:20220322T015318Z
UID:817-1649066400-1649071800@morningstar795.org
SUMMARY:Stated Meeting April 4th 2022
DESCRIPTION:Stated Meeting\, meeting at New Carlisle #100
URL:https://morningstar795.org/event/stated-meeting-april-4th-2022/
LOCATION:New Carlisle Lodge 100\, 110 South Main Street\, New Carlisle\, OH\, 45344\, United States
CATEGORIES:Stated Meetings
END:VEVENT
BEGIN:VEVENT
DTSTART;TZID=America/New_York:20220307T100000
DTEND;TZID=America/New_York:20220307T120000
DTSTAMP:20260424T162556
CREATED:20220213T172028Z
LAST-MODIFIED:20220213T172028Z
UID:799-1646647200-1646654400@morningstar795.org
SUMMARY:Stated Meeting March 7th 2022
DESCRIPTION:At New Carlisle \nPre-Inspection: DDGM will have Type Written Ritual in hand for practice in MM
URL:https://morningstar795.org/event/stated-meeting-march-7th-2022/
LOCATION:New Carlisle Lodge 100\, 110 South Main Street\, New Carlisle\, OH\, 45344\, United States
CATEGORIES:Stated Meetings
END:VEVENT
BEGIN:VEVENT
DTSTART;TZID=America/New_York:20220207T100000
DTEND;TZID=America/New_York:20220207T113000
DTSTAMP:20260424T162556
CREATED:20220130T234920Z
LAST-MODIFIED:20220130T234920Z
UID:781-1644228000-1644233400@morningstar795.org
SUMMARY:Stated Meeting February 7th 2022
DESCRIPTION:Meet at New Carlisle Lodge 10am
URL:https://morningstar795.org/event/stated-meeting-february-7th-2022/
LOCATION:New Carlisle Lodge 100\, 110 South Main Street\, New Carlisle\, OH\, 45344\, United States
CATEGORIES:Stated Meetings
END:VEVENT
BEGIN:VEVENT
DTSTART;TZID=America/New_York:20220103T100000
DTEND;TZID=America/New_York:20220103T113000
DTSTAMP:20260424T162556
CREATED:20220102T202344Z
LAST-MODIFIED:20220102T202344Z
UID:767-1641204000-1641209400@morningstar795.org
SUMMARY:Stated Meeting January 3rd 2022
DESCRIPTION:Meeting at New Carlisle 100 at 10am
URL:https://morningstar795.org/event/stated-meeting-january-3rd-2022/
LOCATION:New Carlisle Lodge 100\, 110 South Main Street\, New Carlisle\, OH\, 45344\, United States
CATEGORIES:Stated Meetings
END:VEVENT
BEGIN:VEVENT
DTSTART;TZID=America/New_York:20211206T100000
DTEND;TZID=America/New_York:20211206T120000
DTSTAMP:20260424T162556
CREATED:20211205T170353Z
LAST-MODIFIED:20211205T170353Z
UID:756-1638784800-1638792000@morningstar795.org
SUMMARY:Stated Meeting December 6th 2021
DESCRIPTION:Stated Meeting is Monday\, December 6 at 10 AM at New Carlisle Lodge # 100.  We’ll be going out for lunch afterwards.  Hope to see you there!
URL:https://morningstar795.org/event/stated-meeting-december-6th-2021/
LOCATION:New Carlisle Lodge 100\, 110 South Main Street\, New Carlisle\, OH\, 45344\, United States
CATEGORIES:Stated Meetings
END:VEVENT
BEGIN:VEVENT
DTSTART;TZID=America/New_York:20211101T100000
DTEND;TZID=America/New_York:20211101T120000
DTSTAMP:20260424T162556
CREATED:20211018T180110Z
LAST-MODIFIED:20211018T180110Z
UID:747-1635760800-1635768000@morningstar795.org
SUMMARY:Annual Meeting November 1st 2021
DESCRIPTION:Annual Meeting. We will be meeting at New Carlisle Lodge
URL:https://morningstar795.org/event/annual-meeting-november-1st-2021/
LOCATION:New Carlisle Lodge 100\, 110 South Main Street\, New Carlisle\, OH\, 45344\, United States
CATEGORIES:Stated Meetings
END:VEVENT
BEGIN:VEVENT
DTSTART;TZID=America/New_York:20211004T100000
DTEND;TZID=America/New_York:20211004T120000
DTSTAMP:20260424T162556
CREATED:20210905T162250Z
LAST-MODIFIED:20210905T162250Z
UID:734-1633341600-1633348800@morningstar795.org
SUMMARY:Stated Meeting October 4th 2021
DESCRIPTION:Stated Meeting @ 10 AM at New Carlisle Lodge # 100 – last Stated Meeting before Annual Meeting – business held over from September 20 meeting will be completed at this meeting.
URL:https://morningstar795.org/event/stated-meeting-october-4th-2021/
LOCATION:New Carlisle Lodge 100\, 110 South Main Street\, New Carlisle\, OH\, 45344\, United States
CATEGORIES:Stated Meetings
END:VEVENT
BEGIN:VEVENT
DTSTART;TZID=America/New_York:20210920T100000
DTEND;TZID=America/New_York:20210920T120000
DTSTAMP:20260424T162556
CREATED:20210905T162043Z
LAST-MODIFIED:20210905T162043Z
UID:730-1632132000-1632139200@morningstar795.org
SUMMARY:Stated Meeting September 20th 2021
DESCRIPTION:Stated Meeting @ 10 AM at New Carlisle Lodge # 100 – business will be postponed in order to have a Full Form practice of M.M. Degree
URL:https://morningstar795.org/event/stated-meeting-september-20th-2021/
LOCATION:New Carlisle Lodge 100\, 110 South Main Street\, New Carlisle\, OH\, 45344\, United States
CATEGORIES:Stated Meetings
END:VEVENT
BEGIN:VEVENT
DTSTART;TZID=America/New_York:20210802T100000
DTEND;TZID=America/New_York:20210802T113000
DTSTAMP:20260424T162556
CREATED:20210516T162202Z
LAST-MODIFIED:20210516T162202Z
UID:712-1627898400-1627903800@morningstar795.org
SUMMARY:Stated Meeting August 2nd 2021
DESCRIPTION:Stated Meeting at 10 AM at New Carlisle Lodge # 100.
URL:https://morningstar795.org/event/stated-meeting-august-2nd-2021/
LOCATION:New Carlisle Lodge 100\, 110 South Main Street\, New Carlisle\, OH\, 45344\, United States
CATEGORIES:Stated Meetings
END:VEVENT
BEGIN:VEVENT
DTSTART;TZID=America/New_York:20210719T100000
DTEND;TZID=America/New_York:20210719T113000
DTSTAMP:20260424T162556
CREATED:20210516T161957Z
LAST-MODIFIED:20210516T161957Z
UID:710-1626688800-1626694200@morningstar795.org
SUMMARY:Stated Meeting July 19th 2021
DESCRIPTION:Stated Meeting at 10 AM at New Carlisle Lodge # 100 – note date change because July 4th will be celebrated on Monday July 5th.
URL:https://morningstar795.org/event/stated-meeting-july-19th-2021/
LOCATION:New Carlisle Lodge 100\, 110 South Main Street\, New Carlisle\, OH\, 45344\, United States
CATEGORIES:Stated Meetings
END:VEVENT
BEGIN:VEVENT
DTSTART;TZID=America/New_York:20210607T100000
DTEND;TZID=America/New_York:20210607T120000
DTSTAMP:20260424T162556
CREATED:20210414T235342Z
LAST-MODIFIED:20210516T161638Z
UID:693-1623060000-1623067200@morningstar795.org
SUMMARY:Stated Meeting June 7th\, 2021
DESCRIPTION:Officer Move up day. \nStated Meeting at 10 AM at New Carlisle Lodge # 100.
URL:https://morningstar795.org/event/stated-meeting-june-7th-2021/
LOCATION:New Carlisle Lodge 100\, 110 South Main Street\, New Carlisle\, OH\, 45344\, United States
CATEGORIES:Stated Meetings
END:VEVENT
BEGIN:VEVENT
DTSTART;TZID=America/New_York:20210503T100000
DTEND;TZID=America/New_York:20210503T120000
DTSTAMP:20260424T162556
CREATED:20210414T234810Z
LAST-MODIFIED:20210414T234810Z
UID:689-1620036000-1620043200@morningstar795.org
SUMMARY:Stated Meeting May 3rd 2021
DESCRIPTION:At the Springfield Masonic Temple
URL:https://morningstar795.org/event/stated-meeting-may-3rd-2021/
CATEGORIES:Stated Meetings
END:VEVENT
BEGIN:VEVENT
DTSTART;TZID=America/New_York:20210301T100000
DTEND;TZID=America/New_York:20210301T120000
DTSTAMP:20260424T162556
CREATED:20210124T184613Z
LAST-MODIFIED:20210124T184613Z
UID:659-1614592800-1614600000@morningstar795.org
SUMMARY:Stated Meeting March 1st 2021
DESCRIPTION:Location to be determined. \nThis is the date of our Pre-Inspection.
URL:https://morningstar795.org/event/stated-meeting-march-1st-2021/
CATEGORIES:Stated Meetings
END:VEVENT
END:VCALENDAR