BEGIN:VCALENDAR
VERSION:2.0
PRODID:-//Morning Star 795 - ECPv6.15.20//NONSGML v1.0//EN
CALSCALE:GREGORIAN
METHOD:PUBLISH
X-WR-CALNAME:Morning Star 795
X-ORIGINAL-URL:https://morningstar795.org
X-WR-CALDESC:Events for Morning Star 795
REFRESH-INTERVAL;VALUE=DURATION:PT1H
X-Robots-Tag:noindex
X-PUBLISHED-TTL:PT1H
BEGIN:VTIMEZONE
TZID:America/New_York
BEGIN:DAYLIGHT
TZOFFSETFROM:-0500
TZOFFSETTO:-0400
TZNAME:EDT
DTSTART:20190310T070000
END:DAYLIGHT
BEGIN:STANDARD
TZOFFSETFROM:-0400
TZOFFSETTO:-0500
TZNAME:EST
DTSTART:20191103T060000
END:STANDARD
BEGIN:DAYLIGHT
TZOFFSETFROM:-0500
TZOFFSETTO:-0400
TZNAME:EDT
DTSTART:20200308T070000
END:DAYLIGHT
BEGIN:STANDARD
TZOFFSETFROM:-0400
TZOFFSETTO:-0500
TZNAME:EST
DTSTART:20201101T060000
END:STANDARD
BEGIN:DAYLIGHT
TZOFFSETFROM:-0500
TZOFFSETTO:-0400
TZNAME:EDT
DTSTART:20210314T070000
END:DAYLIGHT
BEGIN:STANDARD
TZOFFSETFROM:-0400
TZOFFSETTO:-0500
TZNAME:EST
DTSTART:20211107T060000
END:STANDARD
END:VTIMEZONE
BEGIN:VTIMEZONE
TZID:America/New_York
BEGIN:DAYLIGHT
TZOFFSETFROM:-0500
TZOFFSETTO:-0400
TZNAME:EDT
DTSTART:20170312T070000
END:DAYLIGHT
BEGIN:STANDARD
TZOFFSETFROM:-0400
TZOFFSETTO:-0500
TZNAME:EST
DTSTART:20171105T060000
END:STANDARD
BEGIN:DAYLIGHT
TZOFFSETFROM:-0500
TZOFFSETTO:-0400
TZNAME:EDT
DTSTART:20180311T070000
END:DAYLIGHT
BEGIN:STANDARD
TZOFFSETFROM:-0400
TZOFFSETTO:-0500
TZNAME:EST
DTSTART:20181104T060000
END:STANDARD
BEGIN:DAYLIGHT
TZOFFSETFROM:-0500
TZOFFSETTO:-0400
TZNAME:EDT
DTSTART:20190310T070000
END:DAYLIGHT
BEGIN:STANDARD
TZOFFSETFROM:-0400
TZOFFSETTO:-0500
TZNAME:EST
DTSTART:20191103T060000
END:STANDARD
END:VTIMEZONE
BEGIN:VEVENT
DTSTART;TZID=America/New_York:20200720T100000
DTEND;TZID=America/New_York:20200720T110000
DTSTAMP:20260424T220240
CREATED:20200628T210050Z
LAST-MODIFIED:20200628T210050Z
UID:576-1595239200-1595242800@morningstar795.org
SUMMARY:Officer's Meeting July 20 2020
DESCRIPTION:WebEx Officer Meeting. Contact WM for connection details
URL:https://morningstar795.org/event/officers-meeting-july-20-2020/
CATEGORIES:Officer Meetings
END:VEVENT
BEGIN:VEVENT
DTSTART;TZID=America/New_York:20200518T100000
DTEND;TZID=America/New_York:20200518T113000
DTSTAMP:20260424T220240
CREATED:20200504T153219Z
LAST-MODIFIED:20200504T153247Z
UID:557-1589796000-1589801400@morningstar795.org
SUMMARY:Virtual Meeting - May 18th 2020
DESCRIPTION:This will be a Virtual Meeting for Lodge members to keep in touch and get any latest news of upcoming events. This will also be the Officer’s Meeting at the same time. All lodge brothers welcome to attend. \nWorshipful Master will send invite to all Lodge members via the GrandView system
URL:https://morningstar795.org/event/virtual-meeting-may-18th-2020/
CATEGORIES:Officer Meetings
END:VEVENT
BEGIN:VEVENT
DTSTART;TZID=America/New_York:20200120T100000
DTEND;TZID=America/New_York:20200120T113000
DTSTAMP:20260424T220240
CREATED:20200105T225453Z
LAST-MODIFIED:20200110T013621Z
UID:481-1579514400-1579519800@morningstar795.org
SUMMARY:Officer Meeting January 20th 2020
DESCRIPTION:“Lodge Activities” in Burkhart Auditorium at 10 AM for Officers & Committees
URL:https://morningstar795.org/event/officer-meeting-january-20th-2020/
LOCATION:Morning Star Lodge 795
CATEGORIES:Officer Meetings
END:VEVENT
BEGIN:VEVENT
DTSTART;TZID=America/New_York:20180910T093000
DTEND;TZID=America/New_York:20180910T113000
DTSTAMP:20260424T220240
CREATED:20180826T170642Z
LAST-MODIFIED:20180826T170642Z
UID:234-1536571800-1536579000@morningstar795.org
SUMMARY:Officers Meeting and Lodge Education Committee September 10th\, 2018
DESCRIPTION:9:30 AM York Rite Chapel
URL:https://morningstar795.org/event/officers-meeting-and-lodge-education-committee-september-10th-2018/
LOCATION:Ohio Masonic Home\, 2655 W. National Road\, Springfield\, OH\, 45504\, United States
CATEGORIES:Officer Meetings
END:VEVENT
BEGIN:VEVENT
DTSTART;TZID=America/New_York:20180813T093000
DTEND;TZID=America/New_York:20180813T110000
DTSTAMP:20260424T220240
CREATED:20180708T215731Z
LAST-MODIFIED:20180708T215731Z
UID:225-1534152600-1534158000@morningstar795.org
SUMMARY:Officers and Education Committee August 13th\, 2018
DESCRIPTION:Lodge Officers & Lodge Education Committee meeting – 9:30 AM in the York Rite Chapel.  Brethren who would like to be considered for an office next year should attend.
URL:https://morningstar795.org/event/officers-and-education-committee-august-13th-2018/
LOCATION:Morning Star Lodge 795
CATEGORIES:Officer Meetings
END:VEVENT
BEGIN:VEVENT
DTSTART;TZID=America/New_York:20180709T093000
DTEND;TZID=America/New_York:20180709T110000
DTSTAMP:20260424T220240
CREATED:20180708T214738Z
LAST-MODIFIED:20180708T214738Z
UID:214-1531128600-1531134000@morningstar795.org
SUMMARY:Officer and Education Committee July 9th\, 2018
DESCRIPTION:Lodge Officers & Lodge Education Committee meeting – 9:30 AM in the York Rite Chapel.  Brethren who would like to be considered for an office next year should attend.
URL:https://morningstar795.org/event/officer-and-education-committee-july-9th-2018/
LOCATION:Morning Star Lodge 795
CATEGORIES:Officer Meetings
END:VEVENT
BEGIN:VEVENT
DTSTART;TZID=America/New_York:20180409T093000
DTEND;TZID=America/New_York:20180409T113000
DTSTAMP:20260424T220240
CREATED:20180401T214216Z
LAST-MODIFIED:20180401T214216Z
UID:180-1523266200-1523273400@morningstar795.org
SUMMARY:Officer's Meeting April 9th\, 2018
DESCRIPTION:Meet in the York Rite Chapel \nEducation Committee meet after
URL:https://morningstar795.org/event/officers-meeting-april-9th-2018/
LOCATION:Morning Star Lodge 795
CATEGORIES:Officer Meetings
END:VEVENT
END:VCALENDAR