BEGIN:VCALENDAR
VERSION:2.0
PRODID:-//Morning Star 795 - ECPv6.15.20//NONSGML v1.0//EN
CALSCALE:GREGORIAN
METHOD:PUBLISH
X-ORIGINAL-URL:https://morningstar795.org
X-WR-CALDESC:Events for Morning Star 795
REFRESH-INTERVAL;VALUE=DURATION:PT1H
X-Robots-Tag:noindex
X-PUBLISHED-TTL:PT1H
BEGIN:VTIMEZONE
TZID:America/New_York
BEGIN:DAYLIGHT
TZOFFSETFROM:-0500
TZOFFSETTO:-0400
TZNAME:EDT
DTSTART:20190310T070000
END:DAYLIGHT
BEGIN:STANDARD
TZOFFSETFROM:-0400
TZOFFSETTO:-0500
TZNAME:EST
DTSTART:20191103T060000
END:STANDARD
BEGIN:DAYLIGHT
TZOFFSETFROM:-0500
TZOFFSETTO:-0400
TZNAME:EDT
DTSTART:20200308T070000
END:DAYLIGHT
BEGIN:STANDARD
TZOFFSETFROM:-0400
TZOFFSETTO:-0500
TZNAME:EST
DTSTART:20201101T060000
END:STANDARD
BEGIN:DAYLIGHT
TZOFFSETFROM:-0500
TZOFFSETTO:-0400
TZNAME:EDT
DTSTART:20210314T070000
END:DAYLIGHT
BEGIN:STANDARD
TZOFFSETFROM:-0400
TZOFFSETTO:-0500
TZNAME:EST
DTSTART:20211107T060000
END:STANDARD
END:VTIMEZONE
BEGIN:VTIMEZONE
TZID:America/New_York
BEGIN:DAYLIGHT
TZOFFSETFROM:-0500
TZOFFSETTO:-0400
TZNAME:EDT
DTSTART:20170312T070000
END:DAYLIGHT
BEGIN:STANDARD
TZOFFSETFROM:-0400
TZOFFSETTO:-0500
TZNAME:EST
DTSTART:20171105T060000
END:STANDARD
BEGIN:DAYLIGHT
TZOFFSETFROM:-0500
TZOFFSETTO:-0400
TZNAME:EDT
DTSTART:20180311T070000
END:DAYLIGHT
BEGIN:STANDARD
TZOFFSETFROM:-0400
TZOFFSETTO:-0500
TZNAME:EST
DTSTART:20181104T060000
END:STANDARD
BEGIN:DAYLIGHT
TZOFFSETFROM:-0500
TZOFFSETTO:-0400
TZNAME:EDT
DTSTART:20190310T070000
END:DAYLIGHT
BEGIN:STANDARD
TZOFFSETFROM:-0400
TZOFFSETTO:-0500
TZNAME:EST
DTSTART:20191103T060000
END:STANDARD
BEGIN:DAYLIGHT
TZOFFSETFROM:-0500
TZOFFSETTO:-0400
TZNAME:EDT
DTSTART:20200308T070000
END:DAYLIGHT
BEGIN:STANDARD
TZOFFSETFROM:-0400
TZOFFSETTO:-0500
TZNAME:EST
DTSTART:20201101T060000
END:STANDARD
END:VTIMEZONE
BEGIN:VEVENT
DTSTART;TZID=America/New_York:20200125T090000
DTEND;TZID=America/New_York:20200125T120000
DTSTAMP:20260424T195627
CREATED:20200105T225608Z
LAST-MODIFIED:20200110T013641Z
UID:483-1579942800-1579953600@morningstar795.org
SUMMARY:Mt. Olivet Inspection January 25th 2020
DESCRIPTION:MM degree – open at 9 AM & breakfast at 7:30 AM
URL:https://morningstar795.org/event/mt-olivet-inspection-january-25th-2020/
LOCATION:Mt. Olivet 226\, E 2nd St. & North Main\, Christiansburg\, OH\, 45389\, United States
CATEGORIES:Inspections
END:VEVENT
BEGIN:VEVENT
DTSTART;TZID=America/New_York:20200111T090000
DTEND;TZID=America/New_York:20200111T113000
DTSTAMP:20260424T195627
CREATED:20190623T155238Z
LAST-MODIFIED:20200110T013301Z
UID:403-1578733200-1578742200@morningstar795.org
SUMMARY:Morning Star Inspection January 11th\, 2020
DESCRIPTION:11 January 2020 – Morning Star Lodge Inspection – 9 AM – EA Degree – Grand Master will be here! \nBreakfast 7:30 AM in Lindner A & B by Home City # 258 O.E.S
URL:https://morningstar795.org/event/morning-star-inspection-january-11th-2020/
LOCATION:Morning Star Lodge 795
CATEGORIES:Inspections
END:VEVENT
BEGIN:VEVENT
DTSTART;TZID=America/New_York:20190330T090000
DTEND;TZID=America/New_York:20190330T130000
DTSTAMP:20260424T195627
CREATED:20190217T210209Z
LAST-MODIFIED:20190217T210209Z
UID:310-1553936400-1553950800@morningstar795.org
SUMMARY:Morning Star Inspection March 30th\, 2019
DESCRIPTION:Special Meeting – Inspection Master Mason Degree & lunch follows at Lindner Center
URL:https://morningstar795.org/event/morning-star-inspection-march-30th-2019/
LOCATION:Morning Star Lodge 795
CATEGORIES:Inspections
END:VEVENT
BEGIN:VEVENT
DTSTART;TZID=America/New_York:20190323T090000
DTEND;TZID=America/New_York:20190323T110000
DTSTAMP:20260424T195627
CREATED:20190224T195004Z
LAST-MODIFIED:20190224T195004Z
UID:318-1553331600-1553338800@morningstar795.org
SUMMARY:Anthony Inspection March 23rd\, 2019
DESCRIPTION:
URL:https://morningstar795.org/event/anthony-inspection-march-23rd-2019/
LOCATION:Anthony Lodge 455\, 125 W. High Street\, Springfield\, OH\, 45502\, United States
CATEGORIES:Inspections
END:VEVENT
BEGIN:VEVENT
DTSTART;TZID=America/New_York:20190316T090000
DTEND;TZID=America/New_York:20190316T110000
DTSTAMP:20260424T195627
CREATED:20190224T194910Z
LAST-MODIFIED:20190224T194910Z
UID:316-1552726800-1552734000@morningstar795.org
SUMMARY:Urania Inspection March 16th\, 2019
DESCRIPTION:
URL:https://morningstar795.org/event/urania-inspection-march-16th-2019/
LOCATION:Urania Lodge #311\, 102 E. Main Street\, Plain City\, OH\, 43064\, United States
CATEGORIES:Inspections
END:VEVENT
BEGIN:VEVENT
DTSTART;TZID=America/New_York:20190306T190000
DTEND;TZID=America/New_York:20190306T210000
DTSTAMP:20260424T195627
CREATED:20190224T194817Z
LAST-MODIFIED:20190224T194817Z
UID:314-1551898800-1551906000@morningstar795.org
SUMMARY:Mt. Olivet Inspection March 6th\, 2019
DESCRIPTION:
URL:https://morningstar795.org/event/mt-olivet-inspection-march-6th-2019/
LOCATION:Mt. Olivet 226\, E 2nd St. & North Main\, Christiansburg\, OH\, 45389\, United States
CATEGORIES:Inspections
END:VEVENT
BEGIN:VEVENT
DTSTART;TZID=America/New_York:20190302T090000
DTEND;TZID=America/New_York:20190302T120000
DTSTAMP:20260424T195627
CREATED:20190224T194719Z
LAST-MODIFIED:20190224T194719Z
UID:312-1551517200-1551528000@morningstar795.org
SUMMARY:Harmony Lodge Inspection March 2nd\, 2019
DESCRIPTION:
URL:https://morningstar795.org/event/harmony-lodge-inspection-march-2nd-2019/
LOCATION:Harmony Lodge #8\, 222 N. Main Street\, Urbana\, OH\, 43078\, United States
CATEGORIES:Inspections
END:VEVENT
BEGIN:VEVENT
DTSTART;TZID=America/New_York:20190223T180000
DTEND;TZID=America/New_York:20190223T210000
DTSTAMP:20260424T195627
CREATED:20190217T205613Z
LAST-MODIFIED:20190217T205613Z
UID:303-1550944800-1550955600@morningstar795.org
SUMMARY:Mt. Sterling Lodge Inspection February 23rd\, 2019
DESCRIPTION:
URL:https://morningstar795.org/event/mt-sterling-lodge-inspection-february-23rd-2019/
LOCATION:Mount Sterling 269\, 48 N. London Street\, Mount Sterling\, OH\, 43143\, United States
CATEGORIES:Inspections
END:VEVENT
BEGIN:VEVENT
DTSTART;TZID=America/New_York:20190222T180000
DTEND;TZID=America/New_York:20190222T210000
DTSTAMP:20260424T195627
CREATED:20190217T205453Z
LAST-MODIFIED:20190217T205453Z
UID:301-1550858400-1550869200@morningstar795.org
SUMMARY:Mechanicsburg Inspection February 22nd\, 2019
DESCRIPTION:
URL:https://morningstar795.org/event/mechanicsburg-inspection-february-22nd-2019/
LOCATION:Mechanicsburg Lodge 113\, 10 North Main Street\, Mechanicsburg\, OH\, 43044\, United States
CATEGORIES:Inspections
END:VEVENT
BEGIN:VEVENT
DTSTART;TZID=America/New_York:20190220T180000
DTEND;TZID=America/New_York:20190220T210000
DTSTAMP:20260424T195627
CREATED:20190217T205350Z
LAST-MODIFIED:20190217T205350Z
UID:299-1550685600-1550696400@morningstar795.org
SUMMARY:HS Kissell Inspection February 20th\, 2019
DESCRIPTION:
URL:https://morningstar795.org/event/hs-kissell-inspection-february-20th-2019/
LOCATION:HS Kissell Lodge #674\, 125 W. High Street\, Springfield\, OH\, 45502\, United States
CATEGORIES:Inspections
END:VEVENT
BEGIN:VEVENT
DTSTART;TZID=America/New_York:20180407T190000
DTEND;TZID=America/New_York:20180407T210000
DTSTAMP:20260424T195627
CREATED:20180318T151142Z
LAST-MODIFIED:20180318T151142Z
UID:176-1523127600-1523134800@morningstar795.org
SUMMARY:HS Kissell Inspection April 7th\, 2018
DESCRIPTION:7PM Open\n6PM Dinner
URL:https://morningstar795.org/event/hs-kissell-inspection-april-7th-2018/
LOCATION:HS Kissell Lodge #674\, 125 W. High Street\, Springfield\, OH\, 45502\, United States
CATEGORIES:Inspections
END:VEVENT
BEGIN:VEVENT
DTSTART;TZID=America/New_York:20180407T090000
DTEND;TZID=America/New_York:20180407T120000
DTSTAMP:20260424T195627
CREATED:20180318T150952Z
LAST-MODIFIED:20180318T151219Z
UID:174-1523091600-1523102400@morningstar795.org
SUMMARY:Morning Star Inspection April 7th\, 2018
DESCRIPTION:9 AM\, all officers at Lodge by 8 AM\, lunch to follow @ Lindner Center\, cost $6 – RSVP to WB Hoffman
URL:https://morningstar795.org/event/morning-star-inspection-april-7th-2018/
LOCATION:Morning Star Lodge 795
CATEGORIES:Inspections
END:VEVENT
BEGIN:VEVENT
DTSTART;TZID=America/New_York:20180404T190000
DTEND;TZID=America/New_York:20180404T210000
DTSTAMP:20260424T195627
CREATED:20180206T043010Z
LAST-MODIFIED:20180318T150019Z
UID:159-1522868400-1522875600@morningstar795.org
SUMMARY:Mt. Olivet 226 Inspection April 4th\, 2018
DESCRIPTION:6PM Dinner\n7PM Open
URL:https://morningstar795.org/event/mt-olivet-226-inspection-april-4th-2018/
LOCATION:Mt. Olivet 226\, E 2nd St. & North Main\, Christiansburg\, OH\, 45389\, United States
CATEGORIES:Inspections
END:VEVENT
BEGIN:VEVENT
DTSTART;TZID=America/New_York:20180324T090000
DTEND;TZID=America/New_York:20180324T120000
DTSTAMP:20260424T195627
CREATED:20180318T150537Z
LAST-MODIFIED:20180318T150537Z
UID:167-1521882000-1521892800@morningstar795.org
SUMMARY:Harmony Inspection March 24th\, 2018
DESCRIPTION:9 AM Open\n7 AM Breakfast
URL:https://morningstar795.org/event/harmony-inspection-march-24th-2018/
LOCATION:Harmony Lodge #8\, 222 N. Main Street\, Urbana\, OH\, 43078\, United States
CATEGORIES:Inspections
END:VEVENT
BEGIN:VEVENT
DTSTART;TZID=America/New_York:20180319T190000
DTEND;TZID=America/New_York:20180319T210000
DTSTAMP:20260424T195627
CREATED:20180206T042728Z
LAST-MODIFIED:20180206T042728Z
UID:156-1521486000-1521493200@morningstar795.org
SUMMARY:St. Andrews 619 Inspection March 19th\, 2018
DESCRIPTION:6PM Dinner\n7PM Open
URL:https://morningstar795.org/event/st-andrews-619-inspection-march-19th-2018/
LOCATION:St. Andrews Lodge #619\, 125 W. High Street\, Springfield\, OH\, 45502\, United States
CATEGORIES:Inspections
END:VEVENT
BEGIN:VEVENT
DTSTART;TZID=America/New_York:20180317T090000
DTEND;TZID=America/New_York:20180317T233000
DTSTAMP:20260424T195627
CREATED:20180206T042509Z
LAST-MODIFIED:20180206T042509Z
UID:153-1521277200-1521329400@morningstar795.org
SUMMARY:Urania 311 Inspection March 17th\, 2018
DESCRIPTION:NO BREAKFAST\nMany visit Der Dutchman\n9AM Open
URL:https://morningstar795.org/event/urania-311-inspection-march-17th-2018/
LOCATION:Urania Lodge #311\, 102 E. Main Street\, Plain City\, OH\, 43064\, United States
CATEGORIES:Inspections
END:VEVENT
BEGIN:VEVENT
DTSTART;TZID=America/New_York:20180303T090000
DTEND;TZID=America/New_York:20180303T113000
DTSTAMP:20260424T195627
CREATED:20180206T042031Z
LAST-MODIFIED:20180206T042031Z
UID:148-1520067600-1520076600@morningstar795.org
SUMMARY:Mount Sterling 269 Inspection March 3rd\, 2018
DESCRIPTION:8AM Breakfast\n9AM Open
URL:https://morningstar795.org/event/mount-sterling-269-inspection-march-3rd-2018/
LOCATION:Mount Sterling 269\, 48 N. London Street\, Mount Sterling\, OH\, 43143\, United States
CATEGORIES:Inspections
END:VEVENT
BEGIN:VEVENT
DTSTART;TZID=America/New_York:20180224T190000
DTEND;TZID=America/New_York:20180224T210000
DTSTAMP:20260424T195627
CREATED:20180120T031059Z
LAST-MODIFIED:20180120T031059Z
UID:132-1519498800-1519506000@morningstar795.org
SUMMARY:Fielding Lodge 192 Inspection February 24th\, 2018
DESCRIPTION:Open 7pm \nDinner 6pm
URL:https://morningstar795.org/event/fielding-lodge-192-inspection-february-24th-2018/
LOCATION:Fielding Lodge 192\, 4 West Mound Street\, South Charleston\, OH\, 45368\, United States
CATEGORIES:Inspections
END:VEVENT
BEGIN:VEVENT
DTSTART;TZID=America/New_York:20180216T190000
DTEND;TZID=America/New_York:20180216T210000
DTSTAMP:20260424T195627
CREATED:20180120T030846Z
LAST-MODIFIED:20180120T030846Z
UID:129-1518807600-1518814800@morningstar795.org
SUMMARY:Chandler Lodge 138 Inspection February 16th\, 2018
DESCRIPTION:Open 7pm \nDinner 6pm
URL:https://morningstar795.org/event/chandler-lodge-138-inspection-february-16th-2018/
LOCATION:Chandler Lodge 138\, 65 North Main Street\, London\, OH\, 43140\, United States
CATEGORIES:Inspections
END:VEVENT
BEGIN:VEVENT
DTSTART;TZID=America/New_York:20180210T090000
DTEND;TZID=America/New_York:20180210T120000
DTSTAMP:20260424T195627
CREATED:20180120T030553Z
LAST-MODIFIED:20180120T030553Z
UID:126-1518253200-1518264000@morningstar795.org
SUMMARY:New Carlisle Lodge 100 Inspection February 10th\, 2018
DESCRIPTION:Open 9am \nBreakfast 7:30 am
URL:https://morningstar795.org/event/new-carlisle-lodge-100-inspection-february-10th-2018/
LOCATION:New Carlisle Lodge 100\, 110 South Main Street\, New Carlisle\, OH\, 45344\, United States
CATEGORIES:Inspections
END:VEVENT
BEGIN:VEVENT
DTSTART;TZID=America/New_York:20180202T190000
DTEND;TZID=America/New_York:20180202T210000
DTSTAMP:20260424T195627
CREATED:20180120T025632Z
LAST-MODIFIED:20180120T025632Z
UID:122-1517598000-1517605200@morningstar795.org
SUMMARY:Madison Lodge 221 Inspection February 2nd\, 2018
DESCRIPTION:Open 7pm \nDinner 6pm
URL:https://morningstar795.org/event/madison-lodge-221-inspection-february-2nd-2018/
LOCATION:OH
CATEGORIES:Inspections
END:VEVENT
BEGIN:VEVENT
DTSTART;TZID=America/New_York:20180130T190000
DTEND;TZID=America/New_York:20180130T210000
DTSTAMP:20260424T195627
CREATED:20180120T025330Z
LAST-MODIFIED:20180120T025831Z
UID:119-1517338800-1517346000@morningstar795.org
SUMMARY:Clark Lodge 101 Inspection January 30th\, 2018
DESCRIPTION:Open 7pm \nDinner 6pm
URL:https://morningstar795.org/event/clark-lodge-101-inspection-january-30th-2018/
LOCATION:Clark Lodge 101\, 125 W. High Street\, Springfield\, OH\, 45502\, United States
CATEGORIES:Inspections
END:VEVENT
BEGIN:VEVENT
DTSTART;TZID=America/New_York:20180127T190000
DTEND;TZID=America/New_York:20180127T210000
DTSTAMP:20260424T195627
CREATED:20180120T024715Z
LAST-MODIFIED:20180120T025749Z
UID:116-1517079600-1517086800@morningstar795.org
SUMMARY:Mechanicsburg Lodge 113 Inspection January 27th\, 2018
DESCRIPTION:Open 7pm \nDinner 6pm
URL:https://morningstar795.org/event/mechanicsburg-lodge-113-inspection-january-27th-2018/
LOCATION:Mechanicsburg Lodge 113\, 10 North Main Street\, Mechanicsburg\, OH\, 43044\, United States
CATEGORIES:Inspections
END:VEVENT
BEGIN:VEVENT
DTSTART;TZID=America/New_York:20180124T190000
DTEND;TZID=America/New_York:20180124T210000
DTSTAMP:20260424T195627
CREATED:20180120T024120Z
LAST-MODIFIED:20180120T025709Z
UID:113-1516820400-1516827600@morningstar795.org
SUMMARY:Anthony Lodge 455 Inspection January 24th\, 2018
DESCRIPTION:Open 7PM \nDinner 6PM
URL:https://morningstar795.org/event/anthony-lodge-455-inspection-january-24th-2018/
LOCATION:Anthony Lodge 455\, 125 W. High Street\, Springfield\, OH\, 45502\, United States
CATEGORIES:Inspections
END:VEVENT
END:VCALENDAR