BEGIN:VCALENDAR
VERSION:2.0
PRODID:-//Morning Star 795 - ECPv6.15.20//NONSGML v1.0//EN
CALSCALE:GREGORIAN
METHOD:PUBLISH
X-ORIGINAL-URL:https://morningstar795.org
X-WR-CALDESC:Events for Morning Star 795
REFRESH-INTERVAL;VALUE=DURATION:PT1H
X-Robots-Tag:noindex
X-PUBLISHED-TTL:PT1H
BEGIN:VTIMEZONE
TZID:America/New_York
BEGIN:DAYLIGHT
TZOFFSETFROM:-0500
TZOFFSETTO:-0400
TZNAME:EDT
DTSTART:20190310T070000
END:DAYLIGHT
BEGIN:STANDARD
TZOFFSETFROM:-0400
TZOFFSETTO:-0500
TZNAME:EST
DTSTART:20191103T060000
END:STANDARD
BEGIN:DAYLIGHT
TZOFFSETFROM:-0500
TZOFFSETTO:-0400
TZNAME:EDT
DTSTART:20200308T070000
END:DAYLIGHT
BEGIN:STANDARD
TZOFFSETFROM:-0400
TZOFFSETTO:-0500
TZNAME:EST
DTSTART:20201101T060000
END:STANDARD
BEGIN:DAYLIGHT
TZOFFSETFROM:-0500
TZOFFSETTO:-0400
TZNAME:EDT
DTSTART:20210314T070000
END:DAYLIGHT
BEGIN:STANDARD
TZOFFSETFROM:-0400
TZOFFSETTO:-0500
TZNAME:EST
DTSTART:20211107T060000
END:STANDARD
BEGIN:DAYLIGHT
TZOFFSETFROM:-0500
TZOFFSETTO:-0400
TZNAME:EDT
DTSTART:20220313T070000
END:DAYLIGHT
BEGIN:STANDARD
TZOFFSETFROM:-0400
TZOFFSETTO:-0500
TZNAME:EST
DTSTART:20221106T060000
END:STANDARD
BEGIN:DAYLIGHT
TZOFFSETFROM:-0500
TZOFFSETTO:-0400
TZNAME:EDT
DTSTART:20230312T070000
END:DAYLIGHT
BEGIN:STANDARD
TZOFFSETFROM:-0400
TZOFFSETTO:-0500
TZNAME:EST
DTSTART:20231105T060000
END:STANDARD
END:VTIMEZONE
BEGIN:VTIMEZONE
TZID:America/New_York
BEGIN:DAYLIGHT
TZOFFSETFROM:-0500
TZOFFSETTO:-0400
TZNAME:EDT
DTSTART:20180311T070000
END:DAYLIGHT
BEGIN:STANDARD
TZOFFSETFROM:-0400
TZOFFSETTO:-0500
TZNAME:EST
DTSTART:20181104T060000
END:STANDARD
BEGIN:DAYLIGHT
TZOFFSETFROM:-0500
TZOFFSETTO:-0400
TZNAME:EDT
DTSTART:20190310T070000
END:DAYLIGHT
BEGIN:STANDARD
TZOFFSETFROM:-0400
TZOFFSETTO:-0500
TZNAME:EST
DTSTART:20191103T060000
END:STANDARD
BEGIN:DAYLIGHT
TZOFFSETFROM:-0500
TZOFFSETTO:-0400
TZNAME:EDT
DTSTART:20200308T070000
END:DAYLIGHT
BEGIN:STANDARD
TZOFFSETFROM:-0400
TZOFFSETTO:-0500
TZNAME:EST
DTSTART:20201101T060000
END:STANDARD
END:VTIMEZONE
BEGIN:VEVENT
DTSTART;TZID=America/New_York:20220319T100000
DTEND;TZID=America/New_York:20220319T120000
DTSTAMP:20260424T162908
CREATED:20220227T185319Z
LAST-MODIFIED:20220227T185319Z
UID:806-1647684000-1647691200@morningstar795.org
SUMMARY:Morning Star Inspection March 19th 2022
DESCRIPTION:MM degree @ New Carlisle Lodge 100 \nNO MEAL \nopen 10AM
URL:https://morningstar795.org/event/morning-star-inspection-march-19th-2022/
LOCATION:New Carlisle Lodge 100\, 110 South Main Street\, New Carlisle\, OH\, 45344\, United States
CATEGORIES:Inspections
END:VEVENT
BEGIN:VEVENT
DTSTART;TZID=America/New_York:20220316T193000
DTEND;TZID=America/New_York:20220316T210000
DTSTAMP:20260424T162908
CREATED:20220227T185058Z
LAST-MODIFIED:20220227T185058Z
UID:804-1647459000-1647464400@morningstar795.org
SUMMARY:St. Andrews Inspection March 16th 2022
DESCRIPTION:EA degree \nNO MEAL \nopen 7PM
URL:https://morningstar795.org/event/st-andrews-inspection-march-16th-2022/
LOCATION:St. Andrews Lodge #619\, 125 W. High Street\, Springfield\, OH\, 45502\, United States
CATEGORIES:Inspections
END:VEVENT
BEGIN:VEVENT
DTSTART;TZID=America/New_York:20220312T090000
DTEND;TZID=America/New_York:20220312T113000
DTSTAMP:20260424T162908
CREATED:20220227T184920Z
LAST-MODIFIED:20220227T184920Z
UID:802-1647075600-1647084600@morningstar795.org
SUMMARY:Harmony Inspection March 12th 2022
DESCRIPTION:MM Degree \nBreakfast 7AM \nOpen 9AM
URL:https://morningstar795.org/event/harmony-inspection-march-12th-2022/
LOCATION:Harmony Lodge #8\, 222 N. Main Street\, Urbana\, OH\, 43078\, United States
CATEGORIES:Inspections
END:VEVENT
BEGIN:VEVENT
DTSTART;TZID=America/New_York:20220226T190000
DTEND;TZID=America/New_York:20220226T210000
DTSTAMP:20260424T162908
CREATED:20220130T235940Z
LAST-MODIFIED:20220130T235940Z
UID:795-1645902000-1645909200@morningstar795.org
SUMMARY:Fielding Inspection February 26th 2022
DESCRIPTION:Meal 6pm \nOpen 7pm
URL:https://morningstar795.org/event/fielding-inspection-february-26th-2022/
LOCATION:Fielding Lodge 192\, 4 West Mound Street\, South Charleston\, OH\, 45368\, United States
CATEGORIES:Inspections
END:VEVENT
BEGIN:VEVENT
DTSTART;TZID=America/New_York:20220223T190000
DTEND;TZID=America/New_York:20220223T210000
DTSTAMP:20260424T162908
CREATED:20220130T235826Z
LAST-MODIFIED:20220130T235826Z
UID:793-1645642800-1645650000@morningstar795.org
SUMMARY:Anthony Inspection February 23rd 2022
DESCRIPTION:Meal 6pm \nOpen 7pm
URL:https://morningstar795.org/event/anthony-inspection-february-23rd-2022/
LOCATION:Anthony Lodge 455\, 125 W. High Street\, Springfield\, OH\, 45502\, United States
CATEGORIES:Inspections
END:VEVENT
BEGIN:VEVENT
DTSTART;TZID=America/New_York:20220219T190000
DTEND;TZID=America/New_York:20220219T210000
DTSTAMP:20260424T162908
CREATED:20220130T235558Z
LAST-MODIFIED:20220130T235558Z
UID:789-1645297200-1645304400@morningstar795.org
SUMMARY:Mechanicsburg Inspection February 19th 2022
DESCRIPTION:Meal 6pm \nOpen 7pm
URL:https://morningstar795.org/event/mechanicsburg-inspection-february-19th-2022/
LOCATION:Mechanicsburg Lodge 113\, 10 North Main Street\, Mechanicsburg\, OH\, 43044\, United States
CATEGORIES:Inspections
END:VEVENT
BEGIN:VEVENT
DTSTART;TZID=America/New_York:20220217T190000
DTEND;TZID=America/New_York:20220217T210000
DTSTAMP:20260424T162908
CREATED:20220130T235350Z
LAST-MODIFIED:20220130T235350Z
UID:787-1645124400-1645131600@morningstar795.org
SUMMARY:HS Kissell Inspection February 17th 2022
DESCRIPTION:Meal 6pm \nopen 7PM
URL:https://morningstar795.org/event/hs-kissell-inspection-february-17th-2022/
LOCATION:HS Kissell Lodge #674\, 125 W. High Street\, Springfield\, OH\, 45502\, United States
CATEGORIES:Inspections
END:VEVENT
BEGIN:VEVENT
DTSTART;TZID=America/New_York:20220212T090000
DTEND;TZID=America/New_York:20220212T113000
DTSTAMP:20260424T162908
CREATED:20220130T235154Z
LAST-MODIFIED:20220130T235154Z
UID:785-1644656400-1644665400@morningstar795.org
SUMMARY:New Carlisle Inspection February 12th 2022
DESCRIPTION:Breakfast prior 8am or so \nOpen 9am
URL:https://morningstar795.org/event/new-carlisle-inspection-february-12th-2022/
LOCATION:New Carlisle Lodge 100\, 110 South Main Street\, New Carlisle\, OH\, 45344\, United States
CATEGORIES:Inspections
END:VEVENT
BEGIN:VEVENT
DTSTART;TZID=America/New_York:20220208T190000
DTEND;TZID=America/New_York:20220208T210000
DTSTAMP:20260424T162908
CREATED:20220130T235022Z
LAST-MODIFIED:20220130T235022Z
UID:783-1644346800-1644354000@morningstar795.org
SUMMARY:Urania Inspection February 8th 2022
DESCRIPTION:No meal prior \nopen at 7pm
URL:https://morningstar795.org/event/urania-inspection-february-8th-2022/
LOCATION:Urania Lodge #311\, 102 E. Main Street\, Plain City\, OH\, 43064\, United States
CATEGORIES:Inspections
END:VEVENT
BEGIN:VEVENT
DTSTART;TZID=America/New_York:20220202T190000
DTEND;TZID=America/New_York:20220202T210000
DTSTAMP:20260424T162908
CREATED:20220130T234744Z
LAST-MODIFIED:20220130T234744Z
UID:779-1643828400-1643835600@morningstar795.org
SUMMARY:Chandler Inspection February 2nd 2022
DESCRIPTION:No Meal prior \nOpen at 7PM
URL:https://morningstar795.org/event/chandler-inspection-february-2nd-2022/
LOCATION:Chandler Lodge 138\, 65 North Main Street\, London\, OH\, 43140\, United States
CATEGORIES:Inspections
END:VEVENT
BEGIN:VEVENT
DTSTART;TZID=America/New_York:20220117T190000
DTEND;TZID=America/New_York:20220117T210000
DTSTAMP:20260424T162908
CREATED:20220102T203043Z
LAST-MODIFIED:20220102T203043Z
UID:769-1642446000-1642453200@morningstar795.org
SUMMARY:Madison 221 Inspection FC January 17th 2022
DESCRIPTION:Madison Lodge inspection in FC \nopen at 7pm \nNo meal prior
URL:https://morningstar795.org/event/madison-221-inspection-fc-january-17th-2022/
LOCATION:Madison Lodge #221\, 60 E. Main Street\, West Jefferson\, OH\, 43162\, United States
CATEGORIES:Inspections
END:VEVENT
BEGIN:VEVENT
DTSTART;TZID=America/New_York:20210320T090000
DTEND;TZID=America/New_York:20210320T120000
DTSTAMP:20260424T162908
CREATED:20210124T184721Z
LAST-MODIFIED:20210308T005316Z
UID:661-1616230800-1616241600@morningstar795.org
SUMMARY:Inspection March 20th 2021
DESCRIPTION:This is our Inspection in the FC degree. \nLocation: New Carlisle Lodge #100
URL:https://morningstar795.org/event/inspection-march-20th-2021/
LOCATION:OH
CATEGORIES:Inspections
END:VEVENT
BEGIN:VEVENT
DTSTART;TZID=America/New_York:20200328T090000
DTEND;TZID=America/New_York:20200328T113000
DTSTAMP:20260424T162908
CREATED:20200105T231454Z
LAST-MODIFIED:20200316T223855Z
UID:513-1585386000-1585395000@morningstar795.org
SUMMARY:Postponed - Urania Inspection March 28th 2020
DESCRIPTION:As of 3/16/20 at 4 PM \nBrethren\, in light of the recent updates regarding Covid 19\, it has been decided that the last 2 Inspections for the 9th District will be postponed and rescheduled. Please pass this information along to others in your lodges. \nRWB Dave Waggoner\nRWB Dennis Kirk\nMWB Steve Cokonougher
URL:https://morningstar795.org/event/urania-inspection-march-28th-2020/
LOCATION:Urania Lodge #311\, 102 E. Main Street\, Plain City\, OH\, 43064\, United States
CATEGORIES:Inspections
END:VEVENT
BEGIN:VEVENT
DTSTART;TZID=America/New_York:20200321T190000
DTEND;TZID=America/New_York:20200321T210000
DTSTAMP:20260424T162908
CREATED:20200105T231341Z
LAST-MODIFIED:20200316T223822Z
UID:511-1584817200-1584824400@morningstar795.org
SUMMARY:Postponed - Mt. Sterling Inspection March 21st 2020
DESCRIPTION:As of 3/16/20 at 4 PM \nBrethren\, in light of the recent updates regarding Covid 19\, it has been decided that the last 2 Inspections for the 9th District will be postponed and rescheduled. Please pass this information along to others in your lodges. \nRWB Dave Waggoner\nRWB Dennis Kirk\nMWB Steve Cokonougher
URL:https://morningstar795.org/event/mt-sterling-inspection-march-21st-2020/
LOCATION:Mount Sterling 269\, 48 N. London Street\, Mount Sterling\, OH\, 43143\, United States
CATEGORIES:Inspections
END:VEVENT
BEGIN:VEVENT
DTSTART;TZID=America/New_York:20200314T090000
DTEND;TZID=America/New_York:20200314T113000
DTSTAMP:20260424T162908
CREATED:20200105T231238Z
LAST-MODIFIED:20200105T231238Z
UID:508-1584176400-1584185400@morningstar795.org
SUMMARY:Madison Inspection March 14th 2020
DESCRIPTION:Inspection \nLunch after inspection across street at Pat’s Pizza
URL:https://morningstar795.org/event/madison-inspection-march-14th-2020/
LOCATION:Madison Lodge #221\, 60 E. Main Street\, West Jefferson\, OH\, 43162\, United States
CATEGORIES:Inspections
END:VEVENT
BEGIN:VEVENT
DTSTART;TZID=America/New_York:20200307T090000
DTEND;TZID=America/New_York:20200307T113000
DTSTAMP:20260424T162908
CREATED:20200105T230913Z
LAST-MODIFIED:20200105T230913Z
UID:504-1583571600-1583580600@morningstar795.org
SUMMARY:Harmony Inspection March 7th 2020
DESCRIPTION:Inspection
URL:https://morningstar795.org/event/harmony-inspection-march-7th-2020/
LOCATION:Harmony Lodge #8\, 222 N. Main Street\, Urbana\, OH\, 43078\, United States
CATEGORIES:Inspections
END:VEVENT
BEGIN:VEVENT
DTSTART;TZID=America/New_York:20200229T090000
DTEND;TZID=America/New_York:20200229T113000
DTSTAMP:20260424T162908
CREATED:20200105T230808Z
LAST-MODIFIED:20200105T230808Z
UID:502-1582966800-1582975800@morningstar795.org
SUMMARY:Clark Inspection February 29th 2020
DESCRIPTION:Inspection
URL:https://morningstar795.org/event/clark-inspection-february-29th-2020/
LOCATION:Clark Lodge 101\, 125 W. High Street\, Springfield\, OH\, 45502\, United States
CATEGORIES:Inspections
END:VEVENT
BEGIN:VEVENT
DTSTART;TZID=America/New_York:20200222T190000
DTEND;TZID=America/New_York:20200222T210000
DTSTAMP:20260424T162908
CREATED:20200105T230708Z
LAST-MODIFIED:20200105T230708Z
UID:500-1582398000-1582405200@morningstar795.org
SUMMARY:Fielding Inspection February 22nd 2020
DESCRIPTION:Inpsection
URL:https://morningstar795.org/event/fielding-inspection-february-22nd-2020/
LOCATION:Fielding Lodge 192\, 4 West Mound Street\, South Charleston\, OH\, 45368\, United States
CATEGORIES:Inspections
END:VEVENT
BEGIN:VEVENT
DTSTART;TZID=America/New_York:20200215T190000
DTEND;TZID=America/New_York:20200215T210000
DTSTAMP:20260424T162908
CREATED:20200105T230604Z
LAST-MODIFIED:20200105T230604Z
UID:498-1581793200-1581800400@morningstar795.org
SUMMARY:HS Kissell Inpsection February 15th 2020
DESCRIPTION:Inspection
URL:https://morningstar795.org/event/hs-kissell-inpsection-february-15th-2020/
LOCATION:HS Kissell Lodge #674\, 125 W. High Street\, Springfield\, OH\, 45502\, United States
CATEGORIES:Inspections
END:VEVENT
BEGIN:VEVENT
DTSTART;TZID=America/New_York:20200208T090000
DTEND;TZID=America/New_York:20200208T113000
DTSTAMP:20260424T162908
CREATED:20200105T230452Z
LAST-MODIFIED:20200105T230452Z
UID:496-1581152400-1581161400@morningstar795.org
SUMMARY:New Carlisle Inspection February 8th 2020
DESCRIPTION:Inspection
URL:https://morningstar795.org/event/new-carlisle-inspection-february-8th-2020/
LOCATION:New Carlisle Lodge 100\, 110 South Main Street\, New Carlisle\, OH\, 45344\, United States
CATEGORIES:Inspections
END:VEVENT
BEGIN:VEVENT
DTSTART;TZID=America/New_York:20200205T190000
DTEND;TZID=America/New_York:20200205T210000
DTSTAMP:20260424T162908
CREATED:20200105T230249Z
LAST-MODIFIED:20200105T230249Z
UID:492-1580929200-1580936400@morningstar795.org
SUMMARY:Chandler Inspection February 5th 2020
DESCRIPTION:Inspection
URL:https://morningstar795.org/event/chandler-inspection-february-5th-2020/
LOCATION:Chandler Lodge 138\, 65 North Main Street\, London\, OH\, 43140\, United States
CATEGORIES:Inspections
END:VEVENT
BEGIN:VEVENT
DTSTART;TZID=America/New_York:20200201T190000
DTEND;TZID=America/New_York:20200201T210000
DTSTAMP:20260424T162908
CREATED:20200105T230131Z
LAST-MODIFIED:20200110T013757Z
UID:490-1580583600-1580590800@morningstar795.org
SUMMARY:Mechanicsburg Inspection February 1st 2020
DESCRIPTION:MM degree at 7 PM & dinner at 6 PM
URL:https://morningstar795.org/event/mechanicsburg-inspection-february-1st-2020/
LOCATION:Mechanicsburg Lodge 113\, 10 North Main Street\, Mechanicsburg\, OH\, 43044\, United States
CATEGORIES:Inspections
END:VEVENT
BEGIN:VEVENT
DTSTART;TZID=America/New_York:20200131T190000
DTEND;TZID=America/New_York:20200131T210000
DTSTAMP:20260424T162908
CREATED:20200105T225847Z
LAST-MODIFIED:20200110T013732Z
UID:488-1580497200-1580504400@morningstar795.org
SUMMARY:Anthony Inspection January 31st 2020
DESCRIPTION:MM degree at 7 PM & dinner at 6 PM
URL:https://morningstar795.org/event/anthony-inspection-january-31st-2020/
LOCATION:Anthony Lodge 455\, 125 W. High Street\, Springfield\, OH\, 45502\, United States
CATEGORIES:Inspections
END:VEVENT
BEGIN:VEVENT
DTSTART;TZID=America/New_York:20200130T190000
DTEND;TZID=America/New_York:20200130T210000
DTSTAMP:20260424T162908
CREATED:20200105T225731Z
LAST-MODIFIED:20200110T013708Z
UID:485-1580410800-1580418000@morningstar795.org
SUMMARY:St. Andrews Inpsection January 30th 2020
DESCRIPTION:FC degree – open at 7 PM & dinner at 6 PM
URL:https://morningstar795.org/event/st-andrews-inpsection-january-30th-2020/
LOCATION:St. Andrews Lodge #619\, 125 W. High Street\, Springfield\, OH\, 45502\, United States
CATEGORIES:Inspections
END:VEVENT
BEGIN:VEVENT
DTSTART;TZID=America/New_York:20200125T090000
DTEND;TZID=America/New_York:20200125T120000
DTSTAMP:20260424T162908
CREATED:20200105T225608Z
LAST-MODIFIED:20200110T013641Z
UID:483-1579942800-1579953600@morningstar795.org
SUMMARY:Mt. Olivet Inspection January 25th 2020
DESCRIPTION:MM degree – open at 9 AM & breakfast at 7:30 AM
URL:https://morningstar795.org/event/mt-olivet-inspection-january-25th-2020/
LOCATION:Mt. Olivet 226\, E 2nd St. & North Main\, Christiansburg\, OH\, 45389\, United States
CATEGORIES:Inspections
END:VEVENT
BEGIN:VEVENT
DTSTART;TZID=America/New_York:20200111T090000
DTEND;TZID=America/New_York:20200111T113000
DTSTAMP:20260424T162908
CREATED:20190623T155238Z
LAST-MODIFIED:20200110T013301Z
UID:403-1578733200-1578742200@morningstar795.org
SUMMARY:Morning Star Inspection January 11th\, 2020
DESCRIPTION:11 January 2020 – Morning Star Lodge Inspection – 9 AM – EA Degree – Grand Master will be here! \nBreakfast 7:30 AM in Lindner A & B by Home City # 258 O.E.S
URL:https://morningstar795.org/event/morning-star-inspection-january-11th-2020/
LOCATION:Morning Star Lodge 795
CATEGORIES:Inspections
END:VEVENT
BEGIN:VEVENT
DTSTART;TZID=America/New_York:20190330T090000
DTEND;TZID=America/New_York:20190330T130000
DTSTAMP:20260424T162908
CREATED:20190217T210209Z
LAST-MODIFIED:20190217T210209Z
UID:310-1553936400-1553950800@morningstar795.org
SUMMARY:Morning Star Inspection March 30th\, 2019
DESCRIPTION:Special Meeting – Inspection Master Mason Degree & lunch follows at Lindner Center
URL:https://morningstar795.org/event/morning-star-inspection-march-30th-2019/
LOCATION:Morning Star Lodge 795
CATEGORIES:Inspections
END:VEVENT
BEGIN:VEVENT
DTSTART;TZID=America/New_York:20190323T090000
DTEND;TZID=America/New_York:20190323T110000
DTSTAMP:20260424T162908
CREATED:20190224T195004Z
LAST-MODIFIED:20190224T195004Z
UID:318-1553331600-1553338800@morningstar795.org
SUMMARY:Anthony Inspection March 23rd\, 2019
DESCRIPTION:
URL:https://morningstar795.org/event/anthony-inspection-march-23rd-2019/
LOCATION:Anthony Lodge 455\, 125 W. High Street\, Springfield\, OH\, 45502\, United States
CATEGORIES:Inspections
END:VEVENT
BEGIN:VEVENT
DTSTART;TZID=America/New_York:20190316T090000
DTEND;TZID=America/New_York:20190316T110000
DTSTAMP:20260424T162908
CREATED:20190224T194910Z
LAST-MODIFIED:20190224T194910Z
UID:316-1552726800-1552734000@morningstar795.org
SUMMARY:Urania Inspection March 16th\, 2019
DESCRIPTION:
URL:https://morningstar795.org/event/urania-inspection-march-16th-2019/
LOCATION:Urania Lodge #311\, 102 E. Main Street\, Plain City\, OH\, 43064\, United States
CATEGORIES:Inspections
END:VEVENT
BEGIN:VEVENT
DTSTART;TZID=America/New_York:20190306T190000
DTEND;TZID=America/New_York:20190306T210000
DTSTAMP:20260424T162908
CREATED:20190224T194817Z
LAST-MODIFIED:20190224T194817Z
UID:314-1551898800-1551906000@morningstar795.org
SUMMARY:Mt. Olivet Inspection March 6th\, 2019
DESCRIPTION:
URL:https://morningstar795.org/event/mt-olivet-inspection-march-6th-2019/
LOCATION:Mt. Olivet 226\, E 2nd St. & North Main\, Christiansburg\, OH\, 45389\, United States
CATEGORIES:Inspections
END:VEVENT
END:VCALENDAR