BEGIN:VCALENDAR
VERSION:2.0
PRODID:-//Morning Star 795 - ECPv6.15.20//NONSGML v1.0//EN
CALSCALE:GREGORIAN
METHOD:PUBLISH
X-ORIGINAL-URL:https://morningstar795.org
X-WR-CALDESC:Events for Morning Star 795
REFRESH-INTERVAL;VALUE=DURATION:PT1H
X-Robots-Tag:noindex
X-PUBLISHED-TTL:PT1H
BEGIN:VTIMEZONE
TZID:America/New_York
BEGIN:DAYLIGHT
TZOFFSETFROM:-0500
TZOFFSETTO:-0400
TZNAME:EDT
DTSTART:20170312T070000
END:DAYLIGHT
BEGIN:STANDARD
TZOFFSETFROM:-0400
TZOFFSETTO:-0500
TZNAME:EST
DTSTART:20171105T060000
END:STANDARD
BEGIN:DAYLIGHT
TZOFFSETFROM:-0500
TZOFFSETTO:-0400
TZNAME:EDT
DTSTART:20180311T070000
END:DAYLIGHT
BEGIN:STANDARD
TZOFFSETFROM:-0400
TZOFFSETTO:-0500
TZNAME:EST
DTSTART:20181104T060000
END:STANDARD
BEGIN:DAYLIGHT
TZOFFSETFROM:-0500
TZOFFSETTO:-0400
TZNAME:EDT
DTSTART:20190310T070000
END:DAYLIGHT
BEGIN:STANDARD
TZOFFSETFROM:-0400
TZOFFSETTO:-0500
TZNAME:EST
DTSTART:20191103T060000
END:STANDARD
END:VTIMEZONE
BEGIN:VEVENT
DTSTART;TZID=America/New_York:20181219T190000
DTEND;TZID=America/New_York:20181219T210000
DTSTAMP:20260424T184054
CREATED:20181118T191157Z
LAST-MODIFIED:20181118T191157Z
UID:268-1545246000-1545253200@morningstar795.org
SUMMARY:School of Instruction - EA/FC December 19th\, 2018
DESCRIPTION:Take note – the EA / FC School of\nInstruction\, with the typewritten ritual\, will be\nDecember 19 at Mt Olivet Lodge # 226. Bring your\nRitual books with you – it’s an EXCELLENT\nopportunity to brush up on your ritual work!
URL:https://morningstar795.org/event/school-of-instruction-ea-fc-december-19th-2018/
LOCATION:Mt. Olivet 226\, E 2nd St. & North Main\, Christiansburg\, OH\, 45389\, United States
CATEGORIES:District Events
END:VEVENT
BEGIN:VEVENT
DTSTART;TZID=America/New_York:20181201T080000
DTEND;TZID=America/New_York:20181201T150000
DTSTAMP:20260424T184054
CREATED:20180826T172804Z
LAST-MODIFIED:20180826T172804Z
UID:256-1543651200-1543676400@morningstar795.org
SUMMARY:Past Masters Convocation December 1st\, 2018
DESCRIPTION:Past Master’s Convocation – H. S. Kissel Lodge # 674 @ 8 AM
URL:https://morningstar795.org/event/past-masters-convocation-december-1st-2018/
LOCATION:HS Kissell Lodge #674\, 125 W. High Street\, Springfield\, OH\, 45502\, United States
CATEGORIES:District Events
END:VEVENT
BEGIN:VEVENT
DTSTART;TZID=America/New_York:20181118T143000
DTEND;TZID=America/New_York:20181118T153000
DTSTAMP:20260424T184054
CREATED:20181029T002919Z
LAST-MODIFIED:20181029T002919Z
UID:261-1542551400-1542555000@morningstar795.org
SUMMARY:RWB Rob Weller to receive 50yr Award
DESCRIPTION:St. Andrews Lodge to Present 50 yr award to RWB Rob Weller\nAt the Clubhouse of the Ohio Masonic Home Springfield
URL:https://morningstar795.org/event/rwb-rob-weller-to-receive-50yr-award/
LOCATION:Ohio Masonic Home\, 2655 W. National Road\, Springfield\, OH\, 45504\, United States
CATEGORIES:District Events
END:VEVENT
BEGIN:VEVENT
DTSTART;VALUE=DATE:20181103
DTEND;VALUE=DATE:20181104
DTSTAMP:20260424T184054
CREATED:20180826T172530Z
LAST-MODIFIED:20180826T172530Z
UID:252-1541203200-1541289599@morningstar795.org
SUMMARY:La Comedia Dinner Theater November 3rd\, 2018
DESCRIPTION:La Comedia Dinner Theater – “White Christmas” – $55
URL:https://morningstar795.org/event/la-comedia-dinner-theater-november-3rd-2018/
LOCATION:OH
CATEGORIES:District Events
END:VEVENT
BEGIN:VEVENT
DTSTART;TZID=America/New_York:20181030T190000
DTEND;TZID=America/New_York:20181030T203000
DTSTAMP:20260424T184054
CREATED:20181028T235709Z
LAST-MODIFIED:20181028T235709Z
UID:259-1540926000-1540931400@morningstar795.org
SUMMARY:Installation of Dennis Kirk as DDGM
DESCRIPTION:
URL:https://morningstar795.org/event/installation-of-dennis-kirk-as-ddgm/
LOCATION:Mt. Olivet 226\, E 2nd St. & North Main\, Christiansburg\, OH\, 45389\, United States
CATEGORIES:District Events
END:VEVENT
BEGIN:VEVENT
DTSTART;TZID=America/New_York:20180917T190000
DTEND;TZID=America/New_York:20180917T203000
DTSTAMP:20260424T184054
CREATED:20180826T171105Z
LAST-MODIFIED:20180826T171105Z
UID:240-1537210800-1537216200@morningstar795.org
SUMMARY:Ninth District Meeting September 17th\, 2018
DESCRIPTION:Ninth District Meeting\nAll Master Masons welcome
URL:https://morningstar795.org/event/ninth-district-meeting-september-17th-2018/
LOCATION:St. Andrews Lodge #619\, 125 W. High Street\, Springfield\, OH\, 45502\, United States
CATEGORIES:District Events
END:VEVENT
BEGIN:VEVENT
DTSTART;TZID=America/New_York:20180914T180000
DTEND;TZID=America/New_York:20180914T200000
DTSTAMP:20260424T184054
CREATED:20180826T170821Z
LAST-MODIFIED:20180826T170821Z
UID:236-1536948000-1536955200@morningstar795.org
SUMMARY:Wardens Dinner September 14th\, 2018
DESCRIPTION:Ninth District Wardens Dinner at Meadows Restaurant 6PM
URL:https://morningstar795.org/event/wardens-dinner-september-14th-2018/
LOCATION:OH
CATEGORIES:District Events
END:VEVENT
BEGIN:VEVENT
DTSTART;TZID=America/New_York:20180722T160000
DTEND;TZID=America/New_York:20180722T180000
DTSTAMP:20260424T184054
CREATED:20180708T215403Z
LAST-MODIFIED:20180708T215403Z
UID:221-1532275200-1532282400@morningstar795.org
SUMMARY:Ninth District Picnic July 22nd\, 2018
DESCRIPTION:Ninth District Picnic – Masonic Home Clubhouse @ 4 PM – there is no charge\, but you must have a ticket to eat.  Tickets are available from the WM.
URL:https://morningstar795.org/event/ninth-district-picnic-july-22nd-2018/
LOCATION:Ohio Masonic Home\, 2655 W. National Road\, Springfield\, OH\, 45504\, United States
CATEGORIES:District Events
END:VEVENT
BEGIN:VEVENT
DTSTART;TZID=America/New_York:20180712T180000
DTEND;TZID=America/New_York:20180712T200000
DTSTAMP:20260424T184054
CREATED:20180708T214856Z
LAST-MODIFIED:20180708T214856Z
UID:216-1531418400-1531425600@morningstar795.org
SUMMARY:Hawaiian Night July 12th\, 2018
DESCRIPTION:Hawaiian Night @ New Carlisle Lodge # 100.  Luau dinner at 6 PM / Meeting @ 7 PM
URL:https://morningstar795.org/event/hawaiian-night-july-12th-2018/
LOCATION:New Carlisle Lodge 100\, 110 South Main Street\, New Carlisle\, OH\, 45344\, United States
CATEGORIES:District Events
END:VEVENT
BEGIN:VEVENT
DTSTART;TZID=America/New_York:20180609T173000
DTEND;TZID=America/New_York:20180609T210000
DTSTAMP:20260424T184054
CREATED:20180514T021323Z
LAST-MODIFIED:20180514T021323Z
UID:204-1528565400-1528578000@morningstar795.org
SUMMARY:Grand Master's Reception June 9th\, 2018
DESCRIPTION:Grand Master’s Reception at Marriott Hotel in Springfield.  Deadline for reservations is May 26.  Contact WM for info.  Bro. Albert Carr will receive the Grand Master’s Local Patriot Award at the event.
URL:https://morningstar795.org/event/grand-masters-reception-june-9th-2018/
LOCATION:OH
CATEGORIES:District Events
END:VEVENT
BEGIN:VEVENT
DTSTART;TZID=America/New_York:20180606T180000
DTEND;TZID=America/New_York:20180606T210000
DTSTAMP:20260424T184054
CREATED:20180514T021033Z
LAST-MODIFIED:20180514T021033Z
UID:199-1528308000-1528318800@morningstar795.org
SUMMARY:More Light Night June 6th\, 2018
DESCRIPTION:Mt. Olivet Lodge # 226 “More Light Night” – “Order Of Beavers”
URL:https://morningstar795.org/event/more-light-night-june-6th-2018/
LOCATION:Mt. Olivet 226\, E 2nd St. & North Main\, Christiansburg\, OH\, 45389\, United States
CATEGORIES:District Events
END:VEVENT
BEGIN:VEVENT
DTSTART;VALUE=DATE:20180526
DTEND;VALUE=DATE:20180527
DTSTAMP:20260424T184054
CREATED:20180514T021217Z
LAST-MODIFIED:20180514T021217Z
UID:202-1527292800-1527379199@morningstar795.org
SUMMARY:Grand Masters Reception Registration Deadline May 26th\, 2018
DESCRIPTION:Deadline to register for the Grand Masters Reception on June 9th
URL:https://morningstar795.org/event/grand-masters-reception-registration-deadline-may-26th-2018/
LOCATION:OH
CATEGORIES:District Events
END:VEVENT
BEGIN:VEVENT
DTSTART;TZID=America/New_York:20180521T193000
DTEND;TZID=America/New_York:20180521T210000
DTSTAMP:20260424T184054
CREATED:20180514T020335Z
LAST-MODIFIED:20180514T020335Z
UID:192-1526931000-1526936400@morningstar795.org
SUMMARY:Ninth District Meeting May 21st\, 2018
DESCRIPTION:District Meeting at Anthony Lodge # 455
URL:https://morningstar795.org/event/ninth-district-meeting-may-21st-2018/
LOCATION:Anthony Lodge 455\, 125 W. High Street\, Springfield\, OH\, 45502\, United States
CATEGORIES:District Events
END:VEVENT
BEGIN:VEVENT
DTSTART;TZID=America/New_York:20180327T180000
DTEND;TZID=America/New_York:20180327T210000
DTSTAMP:20260424T184054
CREATED:20180318T150710Z
LAST-MODIFIED:20180318T150710Z
UID:170-1522173600-1522184400@morningstar795.org
SUMMARY:Clark 101 More Light Night March 27th\, 2018
DESCRIPTION:7PM Open\n6PM Dinner
URL:https://morningstar795.org/event/clark-101-more-light-night-march-27th-2018/
LOCATION:Clark Lodge 101\, 125 W. High Street\, Springfield\, OH\, 45502\, United States
CATEGORIES:District Events
END:VEVENT
END:VCALENDAR