BEGIN:VCALENDAR
VERSION:2.0
PRODID:-//Morning Star 795 - ECPv6.15.20//NONSGML v1.0//EN
CALSCALE:GREGORIAN
METHOD:PUBLISH
X-WR-CALNAME:Morning Star 795
X-ORIGINAL-URL:https://morningstar795.org
X-WR-CALDESC:Events for Morning Star 795
REFRESH-INTERVAL;VALUE=DURATION:PT1H
X-Robots-Tag:noindex
X-PUBLISHED-TTL:PT1H
BEGIN:VTIMEZONE
TZID:America/New_York
BEGIN:DAYLIGHT
TZOFFSETFROM:-0500
TZOFFSETTO:-0400
TZNAME:EDT
DTSTART:20180311T070000
END:DAYLIGHT
BEGIN:STANDARD
TZOFFSETFROM:-0400
TZOFFSETTO:-0500
TZNAME:EST
DTSTART:20181104T060000
END:STANDARD
BEGIN:DAYLIGHT
TZOFFSETFROM:-0500
TZOFFSETTO:-0400
TZNAME:EDT
DTSTART:20190310T070000
END:DAYLIGHT
BEGIN:STANDARD
TZOFFSETFROM:-0400
TZOFFSETTO:-0500
TZNAME:EST
DTSTART:20191103T060000
END:STANDARD
BEGIN:DAYLIGHT
TZOFFSETFROM:-0500
TZOFFSETTO:-0400
TZNAME:EDT
DTSTART:20200308T070000
END:DAYLIGHT
BEGIN:STANDARD
TZOFFSETFROM:-0400
TZOFFSETTO:-0500
TZNAME:EST
DTSTART:20201101T060000
END:STANDARD
BEGIN:DAYLIGHT
TZOFFSETFROM:-0500
TZOFFSETTO:-0400
TZNAME:EDT
DTSTART:20210314T070000
END:DAYLIGHT
BEGIN:STANDARD
TZOFFSETFROM:-0400
TZOFFSETTO:-0500
TZNAME:EST
DTSTART:20211107T060000
END:STANDARD
BEGIN:DAYLIGHT
TZOFFSETFROM:-0500
TZOFFSETTO:-0400
TZNAME:EDT
DTSTART:20220313T070000
END:DAYLIGHT
BEGIN:STANDARD
TZOFFSETFROM:-0400
TZOFFSETTO:-0500
TZNAME:EST
DTSTART:20221106T060000
END:STANDARD
BEGIN:DAYLIGHT
TZOFFSETFROM:-0500
TZOFFSETTO:-0400
TZNAME:EDT
DTSTART:20230312T070000
END:DAYLIGHT
BEGIN:STANDARD
TZOFFSETFROM:-0400
TZOFFSETTO:-0500
TZNAME:EST
DTSTART:20231105T060000
END:STANDARD
END:VTIMEZONE
BEGIN:VTIMEZONE
TZID:America/New_York
BEGIN:DAYLIGHT
TZOFFSETFROM:-0500
TZOFFSETTO:-0400
TZNAME:EDT
DTSTART:20170312T070000
END:DAYLIGHT
BEGIN:STANDARD
TZOFFSETFROM:-0400
TZOFFSETTO:-0500
TZNAME:EST
DTSTART:20171105T060000
END:STANDARD
BEGIN:DAYLIGHT
TZOFFSETFROM:-0500
TZOFFSETTO:-0400
TZNAME:EDT
DTSTART:20180311T070000
END:DAYLIGHT
BEGIN:STANDARD
TZOFFSETFROM:-0400
TZOFFSETTO:-0500
TZNAME:EST
DTSTART:20181104T060000
END:STANDARD
BEGIN:DAYLIGHT
TZOFFSETFROM:-0500
TZOFFSETTO:-0400
TZNAME:EDT
DTSTART:20190310T070000
END:DAYLIGHT
BEGIN:STANDARD
TZOFFSETFROM:-0400
TZOFFSETTO:-0500
TZNAME:EST
DTSTART:20191103T060000
END:STANDARD
END:VTIMEZONE
BEGIN:VEVENT
DTSTART;TZID=America/New_York:20220516T190000
DTEND;TZID=America/New_York:20220516T210000
DTSTAMP:20260424T152129
CREATED:20220509T014123Z
LAST-MODIFIED:20220509T014123Z
UID:825-1652727600-1652734800@morningstar795.org
SUMMARY:9th District Spring Meeting May 16th 2022
DESCRIPTION:May 16th 9th District Spring meeting held at Mt. Sterling Lodge 7pm. All Master Masons are welcome.
URL:https://morningstar795.org/event/9th-district-spring-meeting-may-16th-2022/
LOCATION:Mount Sterling 269\, 48 N. London Street\, Mount Sterling\, OH\, 43143\, United States
CATEGORIES:District Events
END:VEVENT
BEGIN:VEVENT
DTSTART;TZID=America/New_York:20210822T120000
DTEND;TZID=America/New_York:20210822T160000
DTSTAMP:20260424T152129
CREATED:20210516T162316Z
LAST-MODIFIED:20210516T162316Z
UID:714-1629633600-1629648000@morningstar795.org
SUMMARY:District Family Picnic August 22nd 2021
DESCRIPTION:Ninth District Family Picnic\, open to all Masons & families in the Ninth District at RWB Scott Johnson’s house.
URL:https://morningstar795.org/event/district-family-picnic-august-22nd-2021/
LOCATION:OH
CATEGORIES:District Events
END:VEVENT
BEGIN:VEVENT
DTSTART;TZID=America/New_York:20210717T080000
DTEND;TZID=America/New_York:20210717T170000
DTSTAMP:20260424T152129
CREATED:20210516T161833Z
LAST-MODIFIED:20210516T161833Z
UID:708-1626508800-1626541200@morningstar795.org
SUMMARY:District Golf Scramble July 17th 2021
DESCRIPTION:Ninth District Golf Scramble at Locust Hills Golf Course at 8 AM
URL:https://morningstar795.org/event/district-golf-scramble-july-17th-2021/
LOCATION:OH
CATEGORIES:District Events
END:VEVENT
BEGIN:VEVENT
DTSTART;TZID=America/New_York:20210605T173000
DTEND;TZID=America/New_York:20210605T200000
DTSTAMP:20260424T152129
CREATED:20210516T161541Z
LAST-MODIFIED:20210516T161541Z
UID:704-1622914200-1622923200@morningstar795.org
SUMMARY:Grand Master's Reception June 5th 2021
DESCRIPTION:Grand Master’s Reception at 5:30 PM at Marriott Hotel in Springfield
URL:https://morningstar795.org/event/grand-masters-reception-june-5th-2021/
LOCATION:OH
CATEGORIES:District Events
END:VEVENT
BEGIN:VEVENT
DTSTART;TZID=America/New_York:20210517T193000
DTEND;TZID=America/New_York:20210517T213000
DTSTAMP:20260424T152129
CREATED:20210414T230904Z
LAST-MODIFIED:20210414T230904Z
UID:685-1621279800-1621287000@morningstar795.org
SUMMARY:District Meeting May 17th 2021
DESCRIPTION:The District meeting is also coming up next month – May 17th at Fielding Lodge\, starting at 7:30 PM. That meeting is open to all Master Masons.
URL:https://morningstar795.org/event/district-meeting-may-17th-2021/
LOCATION:Fielding Lodge 192\, 4 West Mound Street\, South Charleston\, OH\, 45368\, United States
CATEGORIES:District Events
END:VEVENT
BEGIN:VEVENT
DTSTART;TZID=America/New_York:20201107T090000
DTEND;TZID=America/New_York:20201107T093000
DTSTAMP:20260424T152129
CREATED:20201025T205536Z
LAST-MODIFIED:20201025T205536Z
UID:621-1604739600-1604741400@morningstar795.org
SUMMARY:District Education Officer Installation November 7th 2020
DESCRIPTION:Installation of WB Jeremy Graham as District Education Officer \nUrania Lodge #311 at 9am \nNo RSVP required
URL:https://morningstar795.org/event/district-education-officer-installation-november-7th-2020/
LOCATION:Urania Lodge #311\, 102 E. Main Street\, Plain City\, OH\, 43064\, United States
CATEGORIES:District Events
END:VEVENT
BEGIN:VEVENT
DTSTART;TZID=America/New_York:20201031T100000
DTEND;TZID=America/New_York:20201031T103000
DTSTAMP:20260424T152129
CREATED:20201025T205403Z
LAST-MODIFIED:20201025T205403Z
UID:619-1604138400-1604140200@morningstar795.org
SUMMARY:District Deputy GM Installation October 31st\, 2020
DESCRIPTION:Installation of WB Scott Johnson as DDGM \nFielding Lodge #192 at 10am \nNo RSVP required
URL:https://morningstar795.org/event/district-deputy-gm-installation-october-31st-2020/
LOCATION:Fielding Lodge 192\, 4 West Mound Street\, South Charleston\, OH\, 45368\, United States
CATEGORIES:District Events
END:VEVENT
BEGIN:VEVENT
DTSTART;TZID=America/New_York:20200921T193000
DTEND;TZID=America/New_York:20200921T210000
DTSTAMP:20260424T152129
CREATED:20200722T011826Z
LAST-MODIFIED:20200920T232712Z
UID:588-1600716600-1600722000@morningstar795.org
SUMMARY:9th District Meeting September 21st\, 2020
DESCRIPTION:At Mechanicsburg Lodge
URL:https://morningstar795.org/event/9th-district-meeting-september-21st-2020/
LOCATION:Mechanicsburg Lodge 113\, 10 North Main Street\, Mechanicsburg\, OH\, 43044\, United States
CATEGORIES:District Events
END:VEVENT
BEGIN:VEVENT
DTSTART;TZID=America/New_York:20200905T170000
DTEND;TZID=America/New_York:20200905T190000
DTSTAMP:20260424T152129
CREATED:20200722T011744Z
LAST-MODIFIED:20200811T174309Z
UID:586-1599325200-1599332400@morningstar795.org
SUMMARY:Wardens Dinner September 5th\, 2020
DESCRIPTION:Wardens Dinner @ Springfield Temple \nMeal served at 5pm \nRudy’s Box meal for COVID safety \n125 W High St\nSpringfield\, OH 45502
URL:https://morningstar795.org/event/wardens-dinner-september-5th-2020/
LOCATION:OH
CATEGORIES:District Events
END:VEVENT
BEGIN:VEVENT
DTSTART;TZID=America/New_York:20200816T140000
DTEND;TZID=America/New_York:20200816T170000
DTSTAMP:20260424T152129
CREATED:20200525T215423Z
LAST-MODIFIED:20200803T012257Z
UID:568-1597586400-1597597200@morningstar795.org
SUMMARY:CANCELLED - District Picnic - August 16th\, 2020
DESCRIPTION:Brethren\, due to safety concerns\, this years District Picnic has been cancelled. Please stay safe and Healthy\, see you all in Lodge
URL:https://morningstar795.org/event/district-picnic-august-16th-2020/
LOCATION:OH
CATEGORIES:District Events
END:VEVENT
BEGIN:VEVENT
DTSTART;TZID=America/New_York:20200718T080000
DTEND;TZID=America/New_York:20200718T170000
DTSTAMP:20260424T152129
CREATED:20200525T215136Z
LAST-MODIFIED:20200525T215136Z
UID:566-1595059200-1595091600@morningstar795.org
SUMMARY:District Golf Outing - July 18th 2020
DESCRIPTION:District Event – Golf Outing \nLocust Hills Golf Course\, $60 per person 8am shotgun start \nVisit ohiofreemason.com for more information
URL:https://morningstar795.org/event/district-golf-outing-july-18th-2020/
LOCATION:OH
CATEGORIES:District Events
END:VEVENT
BEGIN:VEVENT
DTSTART;TZID=America/New_York:20200626T183000
DTEND;TZID=America/New_York:20200626T203000
DTSTAMP:20260424T152129
CREATED:20200525T214933Z
LAST-MODIFIED:20200604T184021Z
UID:564-1593196200-1593203400@morningstar795.org
SUMMARY:CANCELLED - B&B Riverboat Cruise - June 26th 2020
DESCRIPTION:Update 6/4/2020- B&B Riverboat Cruise \nBrethren\, the 9th District has not received enough replies to offer the group cruise rates and WB Snapp has decided to cancel this District Event. \nAny brethren that still wish to attend the Cruise can contact B&B Riverboat and reserve their own seats. \n\nIf you have any questions\, please reach out to WB Nick Snapp or any of the 9th District Officers. Stay safe and healthy brothers and look forward to seeing you again soon! \n\n================== \nDistrict Event – B&B Riverboat Cruise \n$57 / person\, contact WB Nick Snapp or WB Phillip Hoffman for information \nBoarding at 6:30pm\, meet 5:30pm in parking lot
URL:https://morningstar795.org/event/bb-riverboat-cruise-june-26th-2020/
LOCATION:OH
CATEGORIES:District Events
END:VEVENT
BEGIN:VEVENT
DTSTART;TZID=America/New_York:20200518T193000
DTEND;TZID=America/New_York:20200518T210000
DTSTAMP:20260424T152129
CREATED:20200419T172204Z
LAST-MODIFIED:20200505T015634Z
UID:552-1589830200-1589835600@morningstar795.org
SUMMARY:CANCELLED - District Meeting - May 18th 2020 at 7:30PM
DESCRIPTION:The spring District Meeting is cancelled due to COVID-19 health concerns. Please stay tuned for other district news at ohiofreemason.com
URL:https://morningstar795.org/event/tba-district-meeting-may-18th-2020-at-730pm/
LOCATION:OH
CATEGORIES:District Events
END:VEVENT
BEGIN:VEVENT
DTSTART;TZID=America/New_York:20200104T090000
DTEND;TZID=America/New_York:20200104T160000
DTSTAMP:20260424T152129
CREATED:20191215T235418Z
LAST-MODIFIED:20191215T235418Z
UID:440-1578128400-1578153600@morningstar795.org
SUMMARY:Deacons and Wardens Training January 4th 2020
DESCRIPTION:Meet at the Lindner Center
URL:https://morningstar795.org/event/deacons-and-wardens-training-january-4th-2020/
LOCATION:Ohio Masonic Home\, 2655 W. National Road\, Springfield\, OH\, 45504\, United States
CATEGORIES:District Events
END:VEVENT
BEGIN:VEVENT
DTSTART;TZID=America/New_York:20191228T090000
DTEND;TZID=America/New_York:20191228T110000
DTSTAMP:20260424T152129
CREATED:20191215T235301Z
LAST-MODIFIED:20191215T235301Z
UID:438-1577523600-1577530800@morningstar795.org
SUMMARY:MM School of Instruction December 28th 2019
DESCRIPTION:Master Masons only – School of Instruction \nBreakfast at 7:30AM
URL:https://morningstar795.org/event/mm-school-of-instruction-december-28th-2019/
LOCATION:New Carlisle Lodge 100\, 110 South Main Street\, New Carlisle\, OH\, 45344\, United States
CATEGORIES:District Events
END:VEVENT
BEGIN:VEVENT
DTSTART;TZID=America/New_York:20191207T080000
DTEND;TZID=America/New_York:20191207T160000
DTSTAMP:20260424T152129
CREATED:20190623T155117Z
LAST-MODIFIED:20190623T155117Z
UID:401-1575705600-1575734400@morningstar795.org
SUMMARY:Past Master's Convocation December 7th\, 2019
DESCRIPTION:7 December – Past Master’s Convocation – New Carlisle 100 – 8:00 AM
URL:https://morningstar795.org/event/past-masters-convocation-december-7th-2019/
LOCATION:New Carlisle Lodge 100\, 110 South Main Street\, New Carlisle\, OH\, 45344\, United States
CATEGORIES:District Events
END:VEVENT
BEGIN:VEVENT
DTSTART;TZID=America/New_York:20190916T193000
DTEND;TZID=America/New_York:20190916T210000
DTSTAMP:20260424T152129
CREATED:20190623T154418Z
LAST-MODIFIED:20190623T154418Z
UID:389-1568662200-1568667600@morningstar795.org
SUMMARY:Ninth District Meeting September 16th\, 2019
DESCRIPTION:16 September – Ninth District Meeting – Harmony # 8 Urbana – 7:30 PM
URL:https://morningstar795.org/event/ninth-district-meeting-september-16th-2019/
LOCATION:Harmony Lodge #8\, 222 N. Main Street\, Urbana\, OH\, 43078\, United States
CATEGORIES:District Events
END:VEVENT
BEGIN:VEVENT
DTSTART;TZID=America/New_York:20190914T170000
DTEND;TZID=America/New_York:20190914T190000
DTSTAMP:20260424T152129
CREATED:20190623T154147Z
LAST-MODIFIED:20190623T154147Z
UID:385-1568480400-1568487600@morningstar795.org
SUMMARY:Ninth District Warden's Dinner September 14th\, 2019
DESCRIPTION:14 September – Wardens’ Dinner @ 5 PM – Tavernette Inn in Medway
URL:https://morningstar795.org/event/ninth-district-wardens-dinner-september-14th-2019/
LOCATION:OH
CATEGORIES:District Events
END:VEVENT
BEGIN:VEVENT
DTSTART;TZID=America/New_York:20190907T173000
DTEND;TZID=America/New_York:20190907T210000
DTSTAMP:20260424T152129
CREATED:20190623T154033Z
LAST-MODIFIED:20190623T154033Z
UID:383-1567877400-1567890000@morningstar795.org
SUMMARY:Ninth District On Golden Pond September 7th\, 2019
DESCRIPTION:7 September – La Comedia dinner theater @ 5:30 PM – “On Golden Pond”
URL:https://morningstar795.org/event/ninth-district-on-golden-pond-september-7th-2019/
LOCATION:OH
CATEGORIES:District Events
END:VEVENT
BEGIN:VEVENT
DTSTART;TZID=America/New_York:20190818T140000
DTEND;TZID=America/New_York:20190818T180000
DTSTAMP:20260424T152129
CREATED:20190623T153757Z
LAST-MODIFIED:20190623T153757Z
UID:379-1566136800-1566151200@morningstar795.org
SUMMARY:Ninth District Picnic August 18th\, 2019
DESCRIPTION:18 August – Ninth District Picnic – Northridge Park @ 2 PM
URL:https://morningstar795.org/event/ninth-district-picnic-august-18th-2019/
LOCATION:OH
CATEGORIES:District Events
END:VEVENT
BEGIN:VEVENT
DTSTART;TZID=America/New_York:20190720T123000
DTEND;TZID=America/New_York:20190720T180000
DTSTAMP:20260424T152129
CREATED:20190623T153517Z
LAST-MODIFIED:20190623T153517Z
UID:375-1563625800-1563645600@morningstar795.org
SUMMARY:Ninth District Golf Outing July 20th\, 2019
DESCRIPTION:20 July – Ninth District Golf Outing – Locust Hills Golf Club @ 12:30 PM – supper follows
URL:https://morningstar795.org/event/ninth-district-golf-outing-july-20th-2019/
LOCATION:OH
CATEGORIES:District Events
END:VEVENT
BEGIN:VEVENT
DTSTART;TZID=America/New_York:20190629T160000
DTEND;TZID=America/New_York:20190630T010000
DTSTAMP:20260424T152129
CREATED:20190609T230302Z
LAST-MODIFIED:20190609T230302Z
UID:368-1561824000-1561856400@morningstar795.org
SUMMARY:Ninth District Outing - Tecumseh - June 29th\, 2019
DESCRIPTION:Ninth District Outing – “Tecumseh\, the Drama” in Chillicothe – bus will leave OMH Clubhouse 4 PM (approx. return 1 AM)
URL:https://morningstar795.org/event/ninth-district-outing-tecumseh-june-29th-2019/
LOCATION:OH
CATEGORIES:District Events
END:VEVENT
BEGIN:VEVENT
DTSTART;TZID=America/New_York:20190608T173000
DTEND;TZID=America/New_York:20190608T200000
DTSTAMP:20260424T152129
CREATED:20190512T204741Z
LAST-MODIFIED:20190512T204741Z
UID:356-1560015000-1560024000@morningstar795.org
SUMMARY:Grand Masters Reception June 8th\, 2019
DESCRIPTION:5:30 PM – OMH outside the Clubhouse – deadline for reservations is May 17
URL:https://morningstar795.org/event/grand-masters-reception-june-8th-2019/
LOCATION:Ohio Masonic Home\, 2655 W. National Road\, Springfield\, OH\, 45504\, United States
CATEGORIES:District Events
END:VEVENT
BEGIN:VEVENT
DTSTART;TZID=America/New_York:20190520T193000
DTEND;TZID=America/New_York:20190520T210000
DTSTAMP:20260424T152129
CREATED:20190505T004700Z
LAST-MODIFIED:20190512T204509Z
UID:351-1558380600-1558386000@morningstar795.org
SUMMARY:Ninth District Meeting May 20th\, 2019
DESCRIPTION:Morning Star to host the District Meeting
URL:https://morningstar795.org/event/ninth-district-meeting-may-20th-2019/
LOCATION:Morning Star Lodge 795
CATEGORIES:District Events
END:VEVENT
BEGIN:VEVENT
DTSTART;TZID=America/New_York:20181219T190000
DTEND;TZID=America/New_York:20181219T210000
DTSTAMP:20260424T152129
CREATED:20181118T191157Z
LAST-MODIFIED:20181118T191157Z
UID:268-1545246000-1545253200@morningstar795.org
SUMMARY:School of Instruction - EA/FC December 19th\, 2018
DESCRIPTION:Take note – the EA / FC School of\nInstruction\, with the typewritten ritual\, will be\nDecember 19 at Mt Olivet Lodge # 226. Bring your\nRitual books with you – it’s an EXCELLENT\nopportunity to brush up on your ritual work!
URL:https://morningstar795.org/event/school-of-instruction-ea-fc-december-19th-2018/
LOCATION:Mt. Olivet 226\, E 2nd St. & North Main\, Christiansburg\, OH\, 45389\, United States
CATEGORIES:District Events
END:VEVENT
BEGIN:VEVENT
DTSTART;TZID=America/New_York:20181201T080000
DTEND;TZID=America/New_York:20181201T150000
DTSTAMP:20260424T152129
CREATED:20180826T172804Z
LAST-MODIFIED:20180826T172804Z
UID:256-1543651200-1543676400@morningstar795.org
SUMMARY:Past Masters Convocation December 1st\, 2018
DESCRIPTION:Past Master’s Convocation – H. S. Kissel Lodge # 674 @ 8 AM
URL:https://morningstar795.org/event/past-masters-convocation-december-1st-2018/
LOCATION:HS Kissell Lodge #674\, 125 W. High Street\, Springfield\, OH\, 45502\, United States
CATEGORIES:District Events
END:VEVENT
BEGIN:VEVENT
DTSTART;TZID=America/New_York:20181118T143000
DTEND;TZID=America/New_York:20181118T153000
DTSTAMP:20260424T152129
CREATED:20181029T002919Z
LAST-MODIFIED:20181029T002919Z
UID:261-1542551400-1542555000@morningstar795.org
SUMMARY:RWB Rob Weller to receive 50yr Award
DESCRIPTION:St. Andrews Lodge to Present 50 yr award to RWB Rob Weller\nAt the Clubhouse of the Ohio Masonic Home Springfield
URL:https://morningstar795.org/event/rwb-rob-weller-to-receive-50yr-award/
LOCATION:Ohio Masonic Home\, 2655 W. National Road\, Springfield\, OH\, 45504\, United States
CATEGORIES:District Events
END:VEVENT
BEGIN:VEVENT
DTSTART;VALUE=DATE:20181103
DTEND;VALUE=DATE:20181104
DTSTAMP:20260424T152129
CREATED:20180826T172530Z
LAST-MODIFIED:20180826T172530Z
UID:252-1541203200-1541289599@morningstar795.org
SUMMARY:La Comedia Dinner Theater November 3rd\, 2018
DESCRIPTION:La Comedia Dinner Theater – “White Christmas” – $55
URL:https://morningstar795.org/event/la-comedia-dinner-theater-november-3rd-2018/
LOCATION:OH
CATEGORIES:District Events
END:VEVENT
BEGIN:VEVENT
DTSTART;TZID=America/New_York:20181030T190000
DTEND;TZID=America/New_York:20181030T203000
DTSTAMP:20260424T152129
CREATED:20181028T235709Z
LAST-MODIFIED:20181028T235709Z
UID:259-1540926000-1540931400@morningstar795.org
SUMMARY:Installation of Dennis Kirk as DDGM
DESCRIPTION:
URL:https://morningstar795.org/event/installation-of-dennis-kirk-as-ddgm/
LOCATION:Mt. Olivet 226\, E 2nd St. & North Main\, Christiansburg\, OH\, 45389\, United States
CATEGORIES:District Events
END:VEVENT
BEGIN:VEVENT
DTSTART;TZID=America/New_York:20180917T190000
DTEND;TZID=America/New_York:20180917T203000
DTSTAMP:20260424T152129
CREATED:20180826T171105Z
LAST-MODIFIED:20180826T171105Z
UID:240-1537210800-1537216200@morningstar795.org
SUMMARY:Ninth District Meeting September 17th\, 2018
DESCRIPTION:Ninth District Meeting\nAll Master Masons welcome
URL:https://morningstar795.org/event/ninth-district-meeting-september-17th-2018/
LOCATION:St. Andrews Lodge #619\, 125 W. High Street\, Springfield\, OH\, 45502\, United States
CATEGORIES:District Events
END:VEVENT
END:VCALENDAR