BEGIN:VCALENDAR
VERSION:2.0
PRODID:-//Morning Star 795 - ECPv6.15.20//NONSGML v1.0//EN
CALSCALE:GREGORIAN
METHOD:PUBLISH
X-WR-CALNAME:Morning Star 795
X-ORIGINAL-URL:https://morningstar795.org
X-WR-CALDESC:Events for Morning Star 795
REFRESH-INTERVAL;VALUE=DURATION:PT1H
X-Robots-Tag:noindex
X-PUBLISHED-TTL:PT1H
BEGIN:VTIMEZONE
TZID:America/New_York
BEGIN:DAYLIGHT
TZOFFSETFROM:-0500
TZOFFSETTO:-0400
TZNAME:EDT
DTSTART:20230312T070000
END:DAYLIGHT
BEGIN:STANDARD
TZOFFSETFROM:-0400
TZOFFSETTO:-0500
TZNAME:EST
DTSTART:20231105T060000
END:STANDARD
BEGIN:DAYLIGHT
TZOFFSETFROM:-0500
TZOFFSETTO:-0400
TZNAME:EDT
DTSTART:20240310T070000
END:DAYLIGHT
BEGIN:STANDARD
TZOFFSETFROM:-0400
TZOFFSETTO:-0500
TZNAME:EST
DTSTART:20241103T060000
END:STANDARD
BEGIN:DAYLIGHT
TZOFFSETFROM:-0500
TZOFFSETTO:-0400
TZNAME:EDT
DTSTART:20250309T070000
END:DAYLIGHT
BEGIN:STANDARD
TZOFFSETFROM:-0400
TZOFFSETTO:-0500
TZNAME:EST
DTSTART:20251102T060000
END:STANDARD
END:VTIMEZONE
BEGIN:VEVENT
DTSTART;TZID=America/New_York:20241230T090000
DTEND;TZID=America/New_York:20241230T110000
DTSTAMP:20260424T175958
CREATED:20241220T010702Z
LAST-MODIFIED:20241220T010704Z
UID:1325-1735549200-1735556400@morningstar795.org
SUMMARY:Pancake Breakfast December 30th
DESCRIPTION:Just a reminder that our next 5th Monday Pancake Breakfast is this month on Monday\, December 30\, at 9 AM until 11 AM. We will need setup beginning 8:15 AM and cleanup following the breakfast. It will be at the Festival Green Clubhouse. The event is open to all – member of MS795\, SMC residents\, SMC staff\, prospective members. Brethren\, I will be honest with you. From what I have been hearing\, this is getting pretty popular and well liked. Let’s have a great turnout.
URL:https://morningstar795.org/event/pancake-breakfast-december-30th/
CATEGORIES:Craft Club
END:VEVENT
END:VCALENDAR