BEGIN:VCALENDAR
VERSION:2.0
PRODID:-//Morning Star 795 - ECPv6.15.20//NONSGML v1.0//EN
CALSCALE:GREGORIAN
METHOD:PUBLISH
X-ORIGINAL-URL:https://morningstar795.org
X-WR-CALDESC:Events for Morning Star 795
REFRESH-INTERVAL;VALUE=DURATION:PT1H
X-Robots-Tag:noindex
X-PUBLISHED-TTL:PT1H
BEGIN:VTIMEZONE
TZID:America/New_York
BEGIN:DAYLIGHT
TZOFFSETFROM:-0500
TZOFFSETTO:-0400
TZNAME:EDT
DTSTART:20230312T070000
END:DAYLIGHT
BEGIN:STANDARD
TZOFFSETFROM:-0400
TZOFFSETTO:-0500
TZNAME:EST
DTSTART:20231105T060000
END:STANDARD
BEGIN:DAYLIGHT
TZOFFSETFROM:-0500
TZOFFSETTO:-0400
TZNAME:EDT
DTSTART:20240310T070000
END:DAYLIGHT
BEGIN:STANDARD
TZOFFSETFROM:-0400
TZOFFSETTO:-0500
TZNAME:EST
DTSTART:20241103T060000
END:STANDARD
BEGIN:DAYLIGHT
TZOFFSETFROM:-0500
TZOFFSETTO:-0400
TZNAME:EDT
DTSTART:20250309T070000
END:DAYLIGHT
BEGIN:STANDARD
TZOFFSETFROM:-0400
TZOFFSETTO:-0500
TZNAME:EST
DTSTART:20251102T060000
END:STANDARD
END:VTIMEZONE
BEGIN:VEVENT
DTSTART;TZID=America/New_York:20240428T120000
DTEND;TZID=America/New_York:20240428T160000
DTSTAMP:20260425T081504
CREATED:20240415T013258Z
LAST-MODIFIED:20240415T013259Z
UID:1252-1714305600-1714320000@morningstar795.org
SUMMARY:Sprinfield Masonic Center Open House April 28th 2024
DESCRIPTION:We have been invited to participate in an open house to be held at the Springfield Masonic Center (Temple) on High Street. This will be Sunday\, April 28\, from noon to 4 PM. This will be a great opportunity for us since an open house for the public at Springfield Masonic Community requires coordinating with one the Community has planned. When one for the SMC is planned in the future\, we will ask to be part of that. l have yet to have been told the dress for this. As of now\, consider it business.
URL:https://morningstar795.org/event/sprinfield-masonic-center-open-house-april-28th-2024/
CATEGORIES:Craft Club
END:VEVENT
END:VCALENDAR